{"text_format":"1","workbook":"xlsx","n_sheets":15,"sheets":["Menu","Profit Calculator","Results","Lime and Amelioration Costs","Quantity of Lime to Apply","Lime Requirements from Fert Use","Lime Export Table","Response Curves from Base Yield","Response Curves from Control","WA Data Points","Wheat Response Tables","Help","Site&Soil","Soil_Model","Apply_Lime"],"not_rendered":{"charts":11,"images":24,"macros":1,"external_links":0,"defined_names":44,"comments":4,"pivot_tables":0},"unopened":[{"sheet":"Response Curves from Base Yield","index":7,"reason":"not_a_worksheet"},{"sheet":"Response Curves from Control","index":8,"reason":"not_a_worksheet"},{"sheet":"WA Data Points","index":9,"reason":"not_a_worksheet"}],"bounds":{"document_bytes":16777216,"sheet_cells":100000,"rows_first":2000,"rows_last":500,"rows_between":2000,"halvings":0,"cell_chars":16384,"cell_head_chars":4096},"cells_cut":0,"cells_raw":0,"read":"whole","date_system":"1900"}

{"sheet":"Menu","index":0,"n_rows":0,"n_cols":0,"rows_kept":0,"cut":false,"hidden":false,"merged":[]}

{"sheet":"Profit Calculator","index":1,"n_rows":74,"n_cols":17,"rows_kept":74,"cut":false,"hidden":false,"merged":[[12,10,12,11],[12,12,12,13],[0,1,0,4],[0,14,0,16],[1,6,1,9],[1,10,1,11],[1,12,1,13],[32,3,33,4],[16,1,24,2],[25,1,33,2],[34,1,39,2],[40,1,42,2]]}
[null,"Scenario : Sandplain Block",null,null,null,null,null,"Soil Amelioration Profit Calculator",null,null,null,null,null,null,"Lime Use"]
[null,"Assumptions",null,null,null,null,"Costs",null,null,null,"Total Cost",null,"Profit",null,"Exported","Fert & N Leach","Total"]
[null,"Code","Name","Base  Yield","FIS Price","Income","Fertiliser","Herbicide","Other Variable","Fixed","$/ha","$/t","$/ha","$/t","kg/t ","kg/t","kg/t"]
[null,"W","Wheat",1.8,290,{"$f":"E4*D4","v":522},86,47,114,115,{"$f":"SUM(G4:J4)","v":362},{"$f":"IF(D4=0,0,K4/D4)","v":201.11111111111111},{"$f":"E4*D4-K4","v":160},{"$f":"IF(D4=0,0,M4/D4)","v":88.888888888888886},2.2999999999999998,{"$f":"'Lime Requirements from Fert Use'!D14","v":37.690000000000005},{"$f":"SUM(O4:P4)","v":39.99}]
[null,"B","Barley",2,260,{"$f":"E5*D5","v":520},86,47,114,115,{"$f":"SUM(G5:J5)","v":362},{"$f":"IF(D5=0,0,K5/D5)","v":181},{"$f":"E5*D5-K5","v":158},{"$f":"IF(D5=0,0,M5/D5)","v":79},3,{"$f":"'Lime Requirements from Fert Use'!E14","v":33.921000000000006},{"$f":"SUM(O5:P5)","v":36.921000000000006}]
[null,"Cn","Canola",0.8,550,440,86,47,114,115,362,452.5,78,97.5,2.2999999999999998,{"$f":"'Lime Requirements from Fert Use'!F14","v":189.14850000000001},191.44850000000002]
[null,"L","Lupins",1,300,300,30,55,114,115,314,314,-14,-14,12.5,{"$f":"'Lime Requirements from Fert Use'!G14","v":86.967000000000013},99.467000000000013]
[null,"H","Hay",4,180,720,100,40,220,115,475,118.75,245,61.25,30,{"$f":"'Lime Requirements from Fert Use'!H14","v":22.930650000000007},52.930650000000007]
[null,"O","Other",1,null,0,null,null,null,null,0,0,0,0,null,{"$f":"'Lime Requirements from Fert Use'!I14","v":10.929600000000002},10.929600000000002]
[null,"O","Other",1,null,0,null,null,null,null,0,0,0,0,null,{"$f":"'Lime Requirements from Fert Use'!J14","v":21.859200000000005},21.859200000000005]
[null,"O","Other",1,null,0,null,null,null,null,0,0,0,0,null,{"$f":"'Lime Requirements from Fert Use'!K14","v":27.324000000000005},27.324000000000005]
[null,"O","Other",1,null,0,null,null,null,null,0,0,0,0,null,{"$f":"'Lime Requirements from Fert Use'!L14","v":32.788800000000009},32.788800000000009]
[null,null,null,"DSE","Income","Income",null,null,"Total Variable","Fixed","Total Cost",null,"Profit"]
[null,null,null,"DSE","$/DSE","$/ha",null,null,"$/DSE","$/ha","$/ha","$/DSE","$/ha","$/DSE","Kg/DSE","Kg/DSE","Kg/DSE"]
[null,"P","Pasture",2.5,73,{"$f":"E15*D15","v":182.5},null,null,30,90,{"$f":"J15+I15*D15","v":165},{"$f":"IF(D15=0,0,K15/D15)","v":66},{"$f":"F15-K15","v":17.5},{"$f":"IF(D15=0,0,M15/D15)","v":7},3,12,{"$f":"SUM(O15:P15)","v":15}]
[]
[null,"NO Lime/Amelioration                                     Profit Forecast",null,"Years",null,1,2,3,4,5,6,7,8,9,10,"10yr Tot.","10Yr Av."]
[null,null,null,"Rotation",null,"W","W","B","L","W","CN","W","L","W","W"]
[null,null,null,"Base Yield",null,{"$f":"VLOOKUP(F$18,CropLookup,3,FALSE)","v":1.8},{"$f":"VLOOKUP(G18,CropLookup,3,FALSE)","v":1.8},2,1,1.8,0.8,1.8,1,1.8,1.8]
[null,null,null,"Yield Decline %",null,0,-2,-6,0,-5,-10,-7,0,-9,-10,"See Response Tables"]
[null,null,null,"Status Quo Yield",null,{"$f":"F19*(100+F20)/100","v":1.8},{"$f":"G19*(100+G20)/100","v":1.764},1.88,1,1.71,0.72,1.6740000000000002,1,1.6380000000000001,1.62]
[null,null,null,"Price",null,{"$f":"VLOOKUP(F$18,CropLookup,4,FALSE)","v":290},290,260,300,290,550,290,300,290,290]
[null,null,null,"Status Quo Income",null,{"$f":"F22*F21","v":522},{"$f":"G22*G21","v":511.56},488.79999999999995,300,495.9,396,485.46000000000004,300,475.02000000000004,469.8]
[null,null,null,"Status Quo Costs",null,{"$f":"IF($F18=\"p\",VLOOKUP(F$18,CropLookup,9,FALSE)+VLOOKUP(F$18,CropLookup,8,FALSE)*F19,VLOOKUP(F$18,CropLookup,10,FALSE))","v":362},362,362,314,362,362,362,314,362,362]
[null,null,null,"Status Quo Profit",null,{"$f":"F23-F24","v":160},{"$f":"G23-G24","v":149.56},126.79999999999995,-14,133.89999999999998,34,123.46000000000004,-14,113.02000000000004,107.80000000000001,{"$f":"SUM(F25:O25)","v":920.54},{"$f":"P25/10","v":92.054000000000002}]
[null,"Lime/Amelioration                            Investment",null,"Lime Top Dress",null,{"$f":"VLOOKUP(F33,TreatmentCosts,11,FALSE)","v":2},0,0,0,0,0,0,0,0,0]
[null,null,null,"Deep Band",null,{"$f":"VLOOKUP(F33,TreatmentCosts,12,FALSE)","v":1},0,0,0,0,0,0,0,0,0]
[null,null,null,"% Banded into 10 - 20",null,{"$f":"VLOOKUP(F33,TreatmentCosts,13,FALSE)","v":0.5},0,0,0,0,0,0,0,0,0]
[null,null,null,"Lime Removal",null,{"$f":"F36*VLOOKUP(F$18,CropLookup,16,FALSE)/1000/'Quantity of Lime to Apply'!$E4","v":0.10022810126582281},{"$f":"G36*VLOOKUP(G$18,CropLookup,16,FALSE)/1000/'Quantity of Lime to Apply'!$E4","v":0.10022810126582281},{"$f":"H36*VLOOKUP(H$18,CropLookup,16,FALSE)/1000/'Quantity of Lime to Apply'!$E4","v":0.10281797468354434},{"$f":"I36*VLOOKUP(I$18,CropLookup,16,FALSE)/1000/'Quantity of Lime to Apply'!$E4","v":0.12590759493670886},{"$f":"J36*VLOOKUP(J$18,CropLookup,16,FALSE)/1000/'Quantity of Lime to Apply'!$E4","v":0.10022810126582281},{"$f":"K36*VLOOKUP(K$18,CropLookup,16,FALSE)/1000/'Quantity of Lime to Apply'!$E4","v":0.21325908860759499},{"$f":"L36*VLOOKUP(L$18,CropLookup,16,FALSE)/1000/'Quantity of Lime to Apply'!$E4","v":0.10022810126582281},{"$f":"M36*VLOOKUP(M$18,CropLookup,16,FALSE)/1000/'Quantity of Lime to Apply'!$E4","v":0.12590759493670886},{"$f":"N36*VLOOKUP(N$18,CropLookup,16,FALSE)/1000/'Quantity of Lime to Apply'!$E4","v":0.10022810126582281},{"$f":"O36*VLOOKUP(O$18,CropLookup,16,FALSE)/1000/'Quantity of Lime to Apply'!$E4","v":0.10022810126582281}]
[null,null,null,"pH  0 - 10",{"$f":"Soil_Model!H$9","v":5.9},{"$f":"Soil_Model!H$20","v":6.112627153017856},{"$f":"Soil_Model!H$32","v":6.1743154242293974},{"$f":"Soil_Model!H$44","v":6.184130748112743},{"$f":"Soil_Model!H$56","v":6.1699735876670161},{"$f":"Soil_Model!H$68","v":6.1652706924964908},{"$f":"Soil_Model!H$80","v":6.112587138013807},{"$f":"Soil_Model!H$92","v":6.1229835450359067},{"$f":"Soil_Model!H$104","v":6.1089567403791261},{"$f":"Soil_Model!H$116","v":6.1033606035784276},{"$f":"Soil_Model!H$128","v":6.0923470843572236}]
[null,null,null,"pH 10 - 20",{"$f":"Soil_Model!Z$9","v":4.4000000000000004},{"$f":"Soil_Model!Z$20","v":4.9267801738331158},{"$f":"Soil_Model!Z$32","v":5.0119016821026756},{"$f":"Soil_Model!Z$44","v":5.0915265576855111},{"$f":"Soil_Model!Z$56","v":5.1548625762039437},{"$f":"Soil_Model!Z$68","v":5.2162352275013255},{"$f":"Soil_Model!Z$80","v":5.2214629652759008},{"$f":"Soil_Model!Z$92","v":5.2538351226730358},{"$f":"Soil_Model!Z$104","v":5.2718026500907316},{"$f":"Soil_Model!Z$116","v":5.29142963964836},{"$f":"Soil_Model!Z$128","v":5.3045263889269467}]
[null,null,null,"pH 20 - 30",{"$f":"Soil_Model!AR$9","v":4.7},{"$f":"Soil_Model!AR$20","v":5.2036130127579607},{"$f":"Soil_Model!AR$32","v":5.2532522332046696},{"$f":"Soil_Model!AR$44","v":5.2589021843729222},{"$f":"Soil_Model!AR$56","v":5.2581510722863243},{"$f":"Soil_Model!AR$68","v":5.2583175028587625},{"$f":"Soil_Model!AR$80","v":5.2613261951489347},{"$f":"Soil_Model!AR$92","v":5.2638482938879205},{"$f":"Soil_Model!AR$104","v":5.2683073241308236},{"$f":"Soil_Model!AR$116","v":5.2734615573704788},{"$f":"Soil_Model!AR$128","v":5.2794598115271398}]
[null,null,null,"Select Treatment Option",null,4,1,1,1,1,1,1,1,1,1]
[null,null,null,null,null,{"$f":"-VLOOKUP(F33,TreatmentCosts,16,FALSE)","v":-310.5},0,0,0,0,0,0,0,0,0,{"$f":"SUM(F34:O34)","v":-310.5},{"$f":"P34/10","v":-31.05}]
[null,"LIMING Profit Forecast",null,"% Change from Base",null,10,10,10,0,10,10,10,0,10,10,"See Response Tables"]
[null,null,null,"Est. Yield",null,{"$f":"(100+F35)/100*F19","v":1.9800000000000002},1.9800000000000002,2.2000000000000002,1,1.9800000000000002,0.88000000000000012,1.9800000000000002,1,1.9800000000000002,1.9800000000000002]
[null,null,null,"Price",null,{"$f":"VLOOKUP(F$18,CropLookup,4,FALSE)","v":290},290,260,300,290,550,290,300,290,290]
[null,null,null,"Income",null,{"$f":"F37*F36","v":574.20000000000005},{"$f":"G37*G36","v":574.20000000000005},572,300,574.20000000000005,484.00000000000006,574.20000000000005,300,574.20000000000005,574.20000000000005]
[null,null,null,"Est. Costs",null,{"$f":"IF($F35=\"p\",VLOOKUP(F$18,CropLookup,9,FALSE)+VLOOKUP(F$18,CropLookup,8,FALSE)*F36,VLOOKUP(F$18,CropLookup,10,FALSE))","v":362},362,362,314,362,362,362,314,362,362]
[null,null,null,"Est. Profit",null,{"$f":"F38-F39","v":212.20000000000005},{"$f":"G38-G39","v":212.20000000000005},210,-14,212.20000000000005,122.00000000000006,212.20000000000005,-14,212.20000000000005,212.20000000000005,{"$f":"SUM(F40:O40)","v":1577.2000000000003},{"$f":"P40/10","v":157.72000000000003}]
[null,"Lime Benefit",null,"Extra Profit",null,{"$f":"F40-F25","v":52.200000000000045},62.640000000000043,83.200000000000045,0,78.300000000000068,88.000000000000057,88.740000000000009,0,99.18,104.40000000000003,{"$f":"SUM(F41:O41)","v":656.66000000000031},{"$f":"P41/10","v":65.666000000000025}]
[null,null,null,"Net Cashflow",null,{"$f":"F41+F34","v":-258.29999999999995},{"$f":"G41+G34","v":62.640000000000043},83.200000000000045,0,78.300000000000068,88.000000000000057,88.740000000000009,0,99.18,104.40000000000003,{"$f":"SUM(F42:O42)","v":346.16000000000031},{"$f":"P42/10","v":34.616000000000028}]
[null,null,null,"Cumulative Cashflow",null,{"$f":"F42","v":-258.29999999999995},{"$f":"F43+G42","v":-195.65999999999991},{"$f":"G43+H42","v":-112.45999999999987},-112.45999999999987,-34.159999999999798,53.840000000000259,142.58000000000027,142.58000000000027,241.76000000000028,346.16000000000031]
[null,"Net Benefit  $/ha",null,{"$f":"'Profit Calculator'!P42","v":346.16000000000031}]
[null,"Av. Benefit  $/ha/yr",null,{"$f":"'Profit Calculator'!Q42","v":34.616000000000028},"Equals",{"$f":"('Profit Calculator'!Q42)/'Profit Calculator'!Q25","v":0.37604015034653604}]
[null,"Benefit/Cost",null,{"$f":"-('Profit Calculator'!P42-'Profit Calculator'!F34)/'Profit Calculator'!F34","v":2.1148470209339782},null,"increase in Av. Profit"]
[null,"IRR",null,{"$f":"IRR('Profit Calculator'!F42:O42,0.1)","v":0.19750557985302941}]
[null,"Payback Period (yrs)",null,{"$f":"IF('Profit Calculator'!F43>0,1,IF('Profit Calculator'!G43>0,2,IF('Profit Calculator'!H43>0,3,IF('Profit Calculator'!I43>0,4,IF('Profit Calculator'!J43>0,5,IF('Profit Calculator'!K43>0,6,IF('Profit Calculator'!L43>0,7,IF('Profit Calculator'!M43>0,8,IF('Profit Calculator'!N43>0,9,\"10\")))))))))","v":6}]
[null,"NPV  $",null,{"$f":"NPV(F49,'Profit Calculator'!F42:O42)","v":178.49137114755692},"@",0.06]
[]
[]
[]
[]
[]
[]
[]
[]
[]
[]
[]
[]
[]
[null,null,null,"Profit $/ha"]
[null,null,null,"Year",null,{"$f":"F17","v":1},{"$f":"G17","v":2},3,4,5,6,7,8,9,10]
[null,null,null,"No Treatment ",null,{"$f":"F25","v":160},{"$f":"G25","v":149.56},126.79999999999995,-14,133.89999999999998,34,123.46000000000004,-14,113.02000000000004,107.80000000000001]
[null,null,null,"With Treatment",null,{"$f":"F40","v":212.20000000000005},{"$f":"G40","v":212.20000000000005},210,-14,212.20000000000005,122.00000000000006,212.20000000000005,-14,212.20000000000005,212.20000000000005]
[null,null,null,"Cumulative Cashflow $/ha"]
[null,null,null,"Year",null,{"$f":"F17","v":1},{"$f":"G17","v":2},3,4,5,6,7,8,9,10]
[null,null,null,"No Treatment ",null,{"$f":"F25","v":160},{"$f":"F69+G25","v":309.56},{"$f":"G69+H25","v":436.35999999999996},422.35999999999996,556.26,590.26,713.72,699.72,812.74,920.54]
[null,null,null,"With Treatment",null,{"$f":"F40+F34","v":-98.299999999999955},{"$f":"F70+G34+G40","v":113.90000000000009},{"$f":"G70+H34+H40","v":323.90000000000009},309.90000000000009,522.10000000000014,644.10000000000014,856.30000000000018,842.30000000000018,1054.5000000000002,1266.7000000000003]
[null,null,null,"Net Cashflow Effect of Investment"]
[null,null,null,"Year",null,{"$f":"F17","v":1},{"$f":"G17","v":2},3,4,5,6,7,8,9,10]
[null,null,null,"Net Cashflow",null,{"$f":"F42","v":-258.29999999999995},{"$f":"G42","v":62.640000000000043},83.200000000000045,0,78.300000000000068,88.000000000000057,88.740000000000009,0,99.18,104.40000000000003]
[null,null,null,"Cumulative Cashflow",null,{"$f":"F43","v":-258.29999999999995},{"$f":"G43","v":-195.65999999999991},-112.45999999999987,-112.45999999999987,-34.159999999999798,53.840000000000259,142.58000000000027,142.58000000000027,241.76000000000028,346.16000000000031]

{"sheet":"Results","index":2,"n_rows":8,"n_cols":6,"rows_kept":8,"cut":false,"hidden":false,"merged":[[0,1,0,4],[0,5,0,9]]}
[null,{"$f":"'Profit Calculator'!B1:E1","v":"Scenario : Sandplain Block"},null,null,null,"Soil Amelioration - Results"]
[]
[null,"Net Benefit  $/ha",null,{"$f":"'Profit Calculator'!D44","v":346.16000000000031}]
[null,"Av. Benefit  $/ha/yr",null,{"$f":"'Profit Calculator'!D45","v":34.616000000000028},null,{"$f":"'Profit Calculator'!F45","v":0.37604015034653604}]
[null,"Benefit/Cost",null,{"$f":"'Profit Calculator'!D46","v":2.1148470209339782}]
[null,"IRR",null,{"$f":"'Profit Calculator'!D47","v":0.19750557985302941}]
[null,"Payback Period (yrs)",null,{"$f":"'Profit Calculator'!D48","v":6}]
[null,"NPV  $",null,{"$f":"'Profit Calculator'!D49","v":178.49137114755692},null,{"$f":"'Profit Calculator'!F49","v":0.06}]

{"sheet":"Lime and Amelioration Costs","index":3,"n_rows":24,"n_cols":17,"rows_kept":24,"cut":false,"hidden":false,"merged":[[0,1,0,4],[14,1,14,3],[3,8,3,15],[0,5,0,12]]}
[null,{"$f":"'Profit Calculator'!B1:E1","v":"Scenario : Sandplain Block"},null,null,null,"Lime and Amelioration Cost Calculator"]
[]
[]
[null,"Soil Amelioration Costs",null,"Op. 1","Op. 2","Op. 3","Op.4","Total","Lime Costing"]
[null,null,null,"Spread Once","Eg Deep Rip","Grizzly","Eg Clay and Spade","Operation Cost","Lime Cost","Freight Cost","Landed Cost","Top Dresssed","Deep Banded","% of Deep Band in 10-20cm","% of Deep Band in 20-30cm","Sub Total Lime Cost","Total Soil Amelioration Cost"]
[null,null,null,"$/ha","$/ha","$/ha","$/ha","$/ha","$/t","$/t","$/t","t/ha","t/ha","Band","Band","$/ha","$/ha"]
[null,1,"None",null,null,null,null,0,null,null,null,null,null,null,null,null,0]
[null,2,"1t Lime",8,null,null,null,{"$f":"SUM(D8:G8)","v":8},7.5,22,{"$f":"J8+I8","v":29.5},1,null,null,{"$f":"1-N8","v":1},{"$f":"(L8+M8)*K8","v":29.5},{"$f":"P8+H8","v":37.5}]
[null,3,"2t Lime",10,null,null,null,{"$f":"SUM(D9:G9)","v":10},7.5,22,{"$f":"J9+I9","v":29.5},2,null,null,{"$f":"1-N9","v":1},{"$f":"(L9+M9)*K9","v":59},{"$f":"P9+H9","v":69}]
[null,4,"3t Rip & SP",12,70,null,140,{"$f":"SUM(D10:G10)","v":222},7.5,22,{"$f":"J10+I10","v":29.5},2,1,0.5,0.5,{"$f":"(L10+M10)*K10","v":88.5},{"$f":"P10+H10","v":310.5}]
[null,5,"4t Rip",14,0,null,null,{"$f":"SUM(D11:G11)","v":14},7.5,22,{"$f":"J11+I11","v":29.5},1,2,0.5,0.5,{"$f":"(L11+M11)*K11","v":88.5},{"$f":"P11+H11","v":102.5}]
[null,6,"5.5t GRZ",15,null,80,null,{"$f":"SUM(D12:G12)","v":95},8.5,18,{"$f":"J12+I12","v":26.5},2,3.5,0.5,0.5,{"$f":"(L12+M12)*K12","v":145.75},{"$f":"P12+H12","v":240.75}]
[]
[]
[null,"Enter the Characteristics for the lime source to be used"]
[]
[null,"Lime product characteristics"]
[null,"Sieve (mm)","% Weight","% NV"]
[null,"0.000-0.125",0.05,0.9]
[null,"0.125-0.250",0.6,0.9]
[null,"0.250-0.500",0.3,0.9]
[null,"0.500-1.000",0.04,0.8]
[null,"> 1.000",{"$f":"1-SUM(C19:C22)","v":1.0000000000000009E-2},0.6]
[null,null,"Weighted average NV",{"$f":"SUMPRODUCT(C19:C23,D19:D23)","v":0.89300000000000013}]

{"sheet":"Quantity of Lime to Apply","index":4,"n_rows":39,"n_cols":8,"rows_kept":39,"cut":false,"hidden":false,"merged":[[5,1,5,7],[15,1,15,7],[25,1,25,7],[0,1,0,4],[0,5,0,7]]}
[null,{"$f":"'Profit Calculator'!B1:E1","v":"Scenario : Sandplain Block"},null,null,null,"Lime to Apply"]
[]
[null,"Total Lime Required to change Top 30cm of Soil to a target pH"]
[null,null,null,"Weighted average Neutralising Value of Lime Source",0.79,null,"Tonnes/ha needed",{"$f":"H14+H24+H34","v":3.1645569620253147}]
[]
[null,"Lime Required to change Top 10cm "]
[null,"Assumptions",null,null,null,null,null,"Percentage of"]
[null,"Current pH",5.9,null,"Organic Carbon",7.0000000000000001E-3,null,"Acidification"]
[null,"Target pH",5.5,null,"Gravel Percentage",0.05,null,0.4]
[null,"Change Needed",{"$f":"C9-C8","v":-0.40000000000000036},null,"Bulk Density",1.5]
[null,"Soil Type","Clay","Clay Loam","Sandy    Clay Loam","Sandy Loam","Sand","Your Soil"]
[null,"Soil Conversion Factor",0.26,0.37,0.47,0.56999999999999995,0.67,0.56999999999999995]
[null,"Pure CaCo3 required",{"$f":"IF($F$8>2,($C$10/C12+0.4+$F7*0.5)*(1-$F9),($C$10/C12+$F7*0.5)*(1-$F9))","v":-1.4615384615384628},{"$f":"IF($F$8>2,($C$10/D12+0.4+$F7*0.5)*(1-$F9),($C$10/D12+$F7*0.5)*(1-$F9))","v":-1.0270270270270279},{"$f":"IF($F$8>2,($C$10/E12+0.4+$F7*0.5)*(1-$F9),($C$10/E12+$F7*0.5)*(1-$F9))","v":-0.80851063829787306},{"$f":"IF($F$8>2,($C$10/F12+0.4+$F7*0.5)*(1-$F9),($C$10/F12+$F7*0.5)*(1-$F9))","v":-0.6666666666666673},{"$f":"IF($F$8>2,($C$10/G12+0.4+$F7*0.5)*(1-$F9),($C$10/G12+$F7*0.5)*(1-$F9))","v":-0.56716417910447803},{"$f":"IF($F$8>0.02,($C$10/H12+0.4)*(1-$F9),($C$10/H12)*(1-$F9))","v":-0.6666666666666673}]
[null,"Lime Needed",{"$f":"(C13/$E$4+0.5*F7)*(1-F9)","v":-1.7575462512171385},{"$f":"D13/$E$4","v":-1.3000342114266175},{"$f":"E13/$E$4","v":-1.0234311877188267},{"$f":"F13/$E$4","v":-0.84388185654008518},{"$f":"G13/$E$4","v":-0.71792934063857972},{"$f":"H13/$E$4","v":-0.84388185654008518}]
[]
[null,"Lime Required to change 10cm - 20 cm "]
[null,"Assumptions",null,null,null,null,null,"Percentage of"]
[null,"Current pH",4.4000000000000004,null,"Organic Carbon",0.01,null,"Acidification"]
[null,"Target pH",5.5,null,"Gravel Percentage",0.05,null,0.4]
[null,"Change Needed",{"$f":"C19-C18","v":1.0999999999999996},null,"Bulk Density",1.5]
[null,"Soil Type","Clay","Clay Loam","Sandy    Clay Loam","Sandy Loam","Sand","Your Soil"]
[null,"Soil Conversion Factor",0.26,0.37,0.47,0.56999999999999995,0.67,0.56999999999999995]
[null,"Pure CaCo3 required",{"$f":"IF($F$8>2,($C$10/C22+0.4+$F17*0.5)*(1-$F19),($C$10/C22+$F17*0.5)*(1-$F19))","v":-1.4615384615384628},{"$f":"IF($F$8>2,($C$10/D22+0.4+$F17*0.5)*(1-$F19),($C$10/D22+$F17*0.5)*(1-$F19))","v":-1.0270270270270279},{"$f":"IF($F$8>2,($C$10/E22+0.4+$F17*0.5)*(1-$F19),($C$10/E22+$F17*0.5)*(1-$F19))","v":-0.80851063829787306},{"$f":"IF($F$8>2,($C$10/F22+0.4+$F17*0.5)*(1-$F19),($C$10/F22+$F17*0.5)*(1-$F19))","v":-0.6666666666666673},{"$f":"IF($F$8>2,($C$10/G22+0.4+$F17*0.5)*(1-$F19),($C$10/G22+$F17*0.5)*(1-$F19))","v":-0.56716417910447803},{"$f":"IF($F$18>0.02,($C$20/H22+0.4)*(1-$F19),($C$20/H22)*(1-$F19))","v":1.8333333333333328}]
[null,"Lime Needed",{"$f":"(C23/$E$4+0.5*F17)*(1-F19)","v":-1.7575462512171385},{"$f":"D23/$E$4","v":-1.3000342114266175},{"$f":"E23/$E$4","v":-1.0234311877188267},{"$f":"F23/$E$4","v":-0.84388185654008518},{"$f":"G23/$E$4","v":-0.71792934063857972},{"$f":"H23/$E$4","v":2.3206751054852313}]
[]
[null,"Lime Required to change 20cm - 30 cm "]
[null,"Assumptions",null,null,null,null,null,"Percentage of"]
[null,"Current pH",4.7,null,"Organic Carbon",8.0000000000000002E-3,null,"Acidification"]
[null,"Target pH",5.5,null,"Gravel Percentage",0.05,null,0.2]
[null,"Change Needed",{"$f":"C29-C28","v":0.79999999999999982},null,"Bulk Density",1.5]
[null,"Soil Type","Clay","Clay Loam","Sandy    Clay Loam","Sandy Loam","Sand","Your Soil"]
[null,"Soil Conversion Factor",0.26,0.37,0.47,0.56999999999999995,0.67,0.56999999999999995]
[null,"Pure CaCo3 required",{"$f":"IF($F$8>2,($C$10/C32+0.4+$F27*0.5)*(1-$F29),($C$10/C32+$F27*0.5)*(1-$F29))","v":-1.4615384615384628},{"$f":"IF($F$8>2,($C$10/D32+0.4+$F27*0.5)*(1-$F29),($C$10/D32+$F27*0.5)*(1-$F29))","v":-1.0270270270270279},{"$f":"IF($F$8>2,($C$10/E32+0.4+$F27*0.5)*(1-$F29),($C$10/E32+$F27*0.5)*(1-$F29))","v":-0.80851063829787306},{"$f":"IF($F$8>2,($C$10/F32+0.4+$F27*0.5)*(1-$F29),($C$10/F32+$F27*0.5)*(1-$F29))","v":-0.6666666666666673},{"$f":"IF($F$8>2,($C$10/G32+0.4+$F27*0.5)*(1-$F29),($C$10/G32+$F27*0.5)*(1-$F29))","v":-0.56716417910447803},{"$f":"IF($F$28>0.02,($C$30/H32+0.4)*(1-$F29),($C$30/H32)*(1-$F29))","v":1.333333333333333}]
[null,"Lime Needed",{"$f":"(C33/$E$4+0.5*F27)*(1-F29)","v":-1.7575462512171385},{"$f":"D33/$E$4","v":-1.3000342114266175},{"$f":"E33/$E$4","v":-1.0234311877188267},{"$f":"F33/$E$4","v":-0.84388185654008518},{"$f":"G33/$E$4","v":-0.71792934063857972},{"$f":"H33/$E$4","v":1.6877637130801684}]
[]
[null,"Note: Aluminium Levels"]
[null,"There is research which shows the aluminium content of the soil will increase"]
[null,"the lime required at higher levels, unfortunately the method of testing through"]
[null,"most commercial Labs isn't sophisticated enough to be relied on. So we are ignoring this effect."]

{"sheet":"Lime Requirements from Fert Use","index":5,"n_rows":41,"n_cols":17,"rows_kept":41,"cut":false,"hidden":false,"merged":[[2,14,2,16],[3,1,3,2]]}
[null,"Calculation of Lime Required from Fertiliser Use and N Leaching"]
[null,null,null,"Yield in t/ha",null,null,null,null,null,null,null,null,"Dse/ha",null,null,"Leaching Percentage",0.33]
[null,"Grain Yield or Stocking Rate",null,{"$f":"'Profit Calculator'!D4","v":1.8},{"$f":"'Profit Calculator'!D5","v":2},{"$f":"'Profit Calculator'!D6","v":0.8},{"$f":"'Profit Calculator'!$D7","v":1},{"$f":"'Profit Calculator'!$D8","v":4},{"$f":"'Profit Calculator'!$D9","v":1},{"$f":"'Profit Calculator'!$D10","v":1},{"$f":"'Profit Calculator'!$D11","v":1},{"$f":"'Profit Calculator'!$D12","v":1},{"$f":"'Profit Calculator'!$D15","v":2.5},null,"Acidification due to N cycle \n(kg CaCO3/kg N)"]
[null,"Enter your typical fertiliser strategies for each crop",null,{"$f":"'Profit Calculator'!C4","v":"Wheat"},{"$f":"'Profit Calculator'!C5","v":"Barley"},{"$f":"'Profit Calculator'!C6","v":"Canola"},{"$f":"'Profit Calculator'!$C7","v":"Lupins"},{"$f":"'Profit Calculator'!$C8","v":"Hay"},{"$f":"'Profit Calculator'!$C9","v":"Other"},{"$f":"'Profit Calculator'!$C10","v":"Other"},{"$f":"'Profit Calculator'!$C11","v":"Other"},{"$f":"'Profit Calculator'!$C12","v":"Other"},{"$f":"'Profit Calculator'!$C15","v":"Pasture"},"kg of N per kg or L of product","0% nitrogen leaching","100% nitrogen leaching",{"$f":"\"This scenario (\"&TEXT(Q2,\"0%\")&\" leaching)\"","v":"This scenario (33% leaching)"}]
[null,null,null,{"$f":"'Profit Calculator'!B4","v":"W"},{"$f":"'Profit Calculator'!B5","v":"B"},{"$f":"'Profit Calculator'!B6","v":"Cn"},{"$f":"'Profit Calculator'!$B7","v":"L"},{"$f":"'Profit Calculator'!$B8","v":"H"},{"$f":"'Profit Calculator'!$B9","v":"O"},{"$f":"'Profit Calculator'!$B10","v":"O"},{"$f":"'Profit Calculator'!$B11","v":"O"},{"$f":"'Profit Calculator'!$B12","v":"O"},{"$f":"'Profit Calculator'!$B15","v":"P"}]
[null,"Ammonium sulphate (kg/ha)",null,null,null,100,null,null,null,null,null,null,null,0.22,3.6,7.2,{"$f":"O6+((P6-O6)*$Q$2)","v":4.7880000000000003}]
[null,"DAP based fertilisers (kg/ha)",null,40,40,40,30,50,null,null,null,null,null,0.17499999999999999,1.8,5.4,{"$f":"O7+((P7-O7)*$Q$2)","v":2.9880000000000004}]
[null,"MAP based compunds (kg/ha)",null,null,null,null,null,null,null,null,null,null,null,0.11,3.6,7.2,4.7880000000000003]
[null,"Potassium Nitrate (kg/ha)",null,null,null,null,null,null,null,null,null,null,null,0.11,-3.6,0,-2.4119999999999999]
[null,"Urea (kg/ha)",null,40,40,null,null,120,20,40,50,60,null,0.46,0,3.6,1.1880000000000002]
[null,"CAN (kg/ha)",null,null,null,null,null,null,null,null,null,null,null,0.27,{"$f":"-0.7","v":-0.7},2.9,{"$f":"O11+((P11-O11)*$Q$2)","v":0.48799999999999999}]
[null,"Liquid UAN (litres/ha)",null,50,50,50,null,null,null,null,null,null,null,0.42199999999999999,0,3.6,1.1880000000000002]
[null,"Legume-fixed nitrogen (kg/ha)",null,null,null,null,{"$f":"G3*60","v":60},null,null,null,null,null,30,1,0,3.6,1.1880000000000002]
[null,"Acidification (kg CaCO3/ha/t)",null,{"$f":"IF(D3=0,0,SUMPRODUCT(D6:D13,$N$6:$N$13,$Q$6:$Q$13)/D3)","v":37.690000000000005},33.921000000000006,189.14850000000001,86.967000000000013,22.930650000000007,10.929600000000002,21.859200000000005,27.324000000000005,32.788800000000009,14.256000000000004]
[]
[null,"Nitrate leaching estimates reference table"]
[null,null,"Soil texture"]
[null,"Rainfall zone","Sand","Sandy loam","Loam ",null,"Clay loam","Clay"]
[null,"Less than 325mm",0.5,0.3,9.9999999999999978E-2,null,0,0]
[null,"325 - 450 mm",0.65,0.45,0.25,null,4.9999999999999989E-2,0]
[null,"450 - 750 mm",0.8,0.60000000000000009,0.40000000000000008,null,0.20000000000000007,0]
[null,"Greater than 750 mm",0.95,0.75,0.55000000000000004,null,0.35000000000000003,0.15000000000000002]
[null,"Saturated soil scenario",0.95,0.75,0.55000000000000004,null,0.35000000000000003,0.15000000000000002]
[]
[]
[]
[null,"Derivation of stocking rate, wool and meat production"]
[null,"Pasture intake per dry sheep equiv (kg DM/DSE/day)",null,null,null,null,1.5]
[null,"Pasture utlisation",null,null,null,null,0.6]
[null,"Pasture growth required per DSE (t DM/ha)",null,null,null,null,{"$f":"(G28*365)/G29/1000","v":0.91249999999999998}]
[null,"Average weight of greasy wool per DSE (kg)",null,null,null,null,4]
[null,"Average liveweight (kg/DSE)",null,null,null,null,50]
[]
[null,"Notes on calculation of residue organic nitrogen from legumes"]
[null,"For legume crops, Optlime assumes 60kg N / t grain produced."]
[null,"This is based on ready reckoners from Bowden & Burgess (1993) and assumes a harvest index of 0.25."]
[]
[null,"For legume pasture, Optlime assumes 50% legume content, which results in 20kg N / t DM produced."]
[null,"Following Bowden & Burgess, a 'run down factor' of 2/3 is assumed to allow for losses."]
[]
[null,"Reference:","Bowden & Burgess (1993), 'Estimating Soil Nitrogen Status: Ready Reckoners', Dept Agric Technote 6/93."]

{"sheet":"Lime Export Table","index":6,"n_rows":32,"n_cols":3,"rows_kept":32,"cut":false,"hidden":false,"merged":[[30,1,30,2],[31,1,31,2]]}
[null,"Lime Export Data"]
[]
[null,"Acidification due to product removal"]
[null,null,"kg CaCO3 equiv / t or kg"]
[null,"Wheat",2.25]
[null,"Barley",3]
[null,"Canola",2.25]
[null,"Lupins",12.5]
[null,"Grain legumes",10]
[null,"Hay",30]
[null,"Source : Optilime"]
[]
[null,"Other Lime Export Data"]
[null,"Produce removed","Lime requirement (kg lime/tonne product)"]
[null,"Hay – grass dominant",30]
[null,"Mixed clover/grass hay",35]
[null,"Annual legume dominant hay",45]
[null,"Clean lucerne hay",70]
[null,"Cereal hay",25]
[null,"Maize silage",40]
[null,"Wheat grain",9]
[null,"Triticale",7]
[null,"Barley",8]
[null,"Canola",25]
[null,"Lupins",20]
[]
[null,"Animal product","kg lime required/ha"]
[null,"Meat (assume stocking rate of 10 DSE/ha largely set stocked)","30A,B"]
[null,"Wool (10 DSE/ha at 6 kg/wool/sheep)","25A,B"]
[]
[null,"AMost of the lime requirement, 24 kg, is due to net transfer of urine and dung to stock camp areas."]
[null,"BFor every DSE/ha over 10 DSE/ha add a further lime requirement of 3 kg lime/ha/DSE."]

{"sheet":"Wheat Response Tables","index":10,"n_rows":51,"n_cols":12,"rows_kept":51,"cut":false,"hidden":false,"merged":[[6,2,6,3],[7,2,7,3],[1,1,1,8],[2,2,2,4]]}
[null,"Wheat"]
[null,"Wheat Yield Response compared to the Control Plots"]
[null,"Years after","Liming Rates"]
[null,"Liming","High","Med","Low","Low","None","Notes","Location"]
[null,null,null,null,null,null,null,null,"Liebe Area"]
[null,2,null,null,0.99259259259259258,0.97037037037037033,1,"High Yield","Helliwell"]
[null,3,"Deep Ripped",null,1.1626506024096386,null,1,"High Yield","Helliwell"]
[null,3,"Not Deep Ripped",null,1.06,null,null,"High Yield","Helliwell"]
[null,12,null,1.1022727272727273,1.0568181818181819,null,1,"High Yield","King"]
[null,1,null,1.1531531531531531,1.144144144144144,null,1,"Low Yield","Bryant 1"]
[null,1,1.1741935483870969,1.064516129032258,null,null,1,"Average","Bryant 2"]
[null,3,1.5128205128205128,1.1282051282051282,null,null,1,"Drought","Bryant 2"]
[null,2,null,1.3288590604026846,1.2281879194630874,null,1,"Average","Holt Rock"]
[null,5,null,1,1,null,1,"Drought","Holt Rock"]
[null,1,null,1,null,null,1,"Average","Bindi Bindi"]
[null,3,null,1.125,null,null,1,"Low Yield","Bindi Bindi"]
[null,9,null,1.28,null,null,1,"High Yield","Bindi Bindi"]
[null,12,null,1.1153846153846154,null,null,1,"High Yield","Bindi Bindi"]
[null,18,1.2069000000000001,1.1033999999999999,1.1378999999999999,1.1379310344827587,1,"High Yield","Kellerberrin"]
[null,1,null,1.02,1.01,null,1,"19 Trials","DAFWA"]
[null,3,null,1.1299999999999999,1.08,null,1,"35 trials","DAFWA"]
[null,6,null,1.1200000000000001,1.06,null,1,"18 Trials","DAFWA"]
[]
[]
[]
[null,"Years","> 2.5t","1.5t -2.5t","< 1.5t",null,null,"No Lime"]
[null,1,1.08,1.05,1.01,null,1,1,"Typical"]
[null,3,1.25,1.1299999999999999,1.08,null,1,1,"Response"]
[null,6,1.23,1.1200000000000001,1.0674999999999999,null,1,1,"Compared"]
[null,10,1.2,1.1000000000000001,1.06,null,null,1,"to Control"]
[null,15,1.2,1.1000000000000001,1.06,null,null,1]
[]
[]
[null,"Years","> 2.5t","Likely pH (0-30cm)","1.5t -2.5t",null,null,"Likely pH   (0-30cm)","< 1.5t","Likely pH (0-30cm)","No Lime","Likely pH     (0-30cm)"]
[null,0,1,4.5999999999999996,1,null,null,4.5999999999999996,1,4.5999999999999996,1,4.5999999999999996]
[null,1,1.08,5.2,1.05,null,null,4.9000000000000004,1.01,4.8,0.99,4.5999999999999996]
[null,2,1.1499999999999999,5.5,1.08,null,null,5.2,1.04,5,0.98,4.5]
[null,3,1.22,5.6,1.1000000000000001,null,null,5.2,1.06,5,0.97,4.5]
[null,4,1.21,5.6,1.08,null,null,5.0999999999999996,1.04,4.9000000000000004,0.96,4.5]
[null,5,1.19,5.5,1.06,null,null,5,1.02,4.8,0.95,4.4000000000000004]
[null,6,1.17,5.4,1.04,null,null,4.9000000000000004,1,4.7,0.94,4.4000000000000004]
[null,7,1.1499999999999999,5.3,1.03,null,null,4.8,0.98,4.5999999999999996,0.93,4.4000000000000004]
[null,8,1.1299999999999999,5.3,1.02,null,null,4.7,0.97,4.5,0.92,4.4000000000000004]
[null,9,1.1100000000000001,5.3,1.01,null,null,4.5999999999999996,0.96,4.5,0.91,4.3]
[null,10,1.1000000000000001,5.2,1,null,null,4.5999999999999996,0.95,4.4000000000000004,0.9,4.3]
[null,11,1.0900000000000001,5.2,0.99,null,null,4.5999999999999996,0.94,4.4000000000000004,0.89,4.3]
[null,12,1.08,5.2,0.98,null,null,4.5,0.93,4.4000000000000004,0.88,4.3]
[null,13,1.07,5.2,0.97,null,null,4.5,0.92,4.3,0.87,4.2]
[null,14,1.06,5.0999999999999996,0.96,null,null,4.5,0.91,4.3,0.86,4.2]
[null,15,1.05,5.0999999999999996,0.95,null,null,4.4000000000000004,0.9,4.3,0.85,4.0999999999999996]
[null,16]

{"sheet":"Help","index":11,"n_rows":5,"n_cols":3,"rows_kept":5,"cut":false,"hidden":false,"merged":[]}
[null,null,"Cell Comments"]
[null,null,"Any Cell which has a red triangle in the top right hand corner will have a comment to"]
[null,null,"help with the data that is required for the cell or row/column associated with the cells."]
[]
[null,null,"If you put your cursor over the cell the comment will appear as shown in the screen shot below."]

{"sheet":"Site&Soil","index":12,"n_rows":388,"n_cols":16,"rows_kept":388,"cut":false,"hidden":true,"merged":[[235,4,235,8],[256,4,256,8],[214,4,214,8]]}
[]
[]
[]
[]
[]
[null,null,"1. Initial soil characteristics"]
[]
[null,null,null,null,"0-10 cm","10-20 cm","20-30 cm"]
[null,null,"Soil texture",null,5,1,1]
[null,null,"Gravel %",null,{"$f":"'Quantity of Lime to Apply'!F9","v":0.05},{"$f":"'Quantity of Lime to Apply'!F19","v":0.05},{"$f":"'Quantity of Lime to Apply'!F29","v":0.05}]
[null,null,"Initial pH (CaCl2)",null,{"$f":"'Quantity of Lime to Apply'!C8","v":5.9},{"$f":"'Quantity of Lime to Apply'!C18","v":4.4000000000000004},{"$f":"'Quantity of Lime to Apply'!C28","v":4.7}]
[null,null,"Organic carbon %",null,{"$f":"'Quantity of Lime to Apply'!F8","v":7.0000000000000001E-3},{"$f":"'Quantity of Lime to Apply'!F18","v":0.01},{"$f":"'Quantity of Lime to Apply'!F28","v":8.0000000000000002E-3}]
[]
[null,null,"Bulk density (g/cm3)",null,{"$f":"'Quantity of Lime to Apply'!F10","v":1.5},{"$f":"'Quantity of Lime to Apply'!F20","v":1.5},{"$f":"'Quantity of Lime to Apply'!F30","v":1.5}]
[null,null,"Saturated water content",null,{"$f":"(2.6-E14)/2.6","v":0.42307692307692307},{"$f":"(2.6-F14)/2.6","v":0.42307692307692307},{"$f":"(2.6-G14)/2.6","v":0.42307692307692307}]
[]
[]
[]
[]
[null,null,"2. Rainfall zone and nitrate leaching assumptions"]
[]
[]
[null,null,"Average annual rainfall",null,null,3]
[]
[null,null,"Enter user-defined nitrate leaching here",null,null,null,{"$f":"'Lime Requirements from Fert Use'!Q2","v":0.33}]
[null,null,"or use this default nitrate leaching value",null,null,null,{"$f":"E195","v":0.53333333333333333},false]
[null,null,"Model input nitrate leaching",null,null,null,{"$f":"IF(H26=TRUE,G26,G25)","v":0.33}]
[]
[]
[]
[]
[]
[]
[]
[]
[]
[]
[]
[]
[]
[]
[]
[]
[]
[]
[]
[]
[]
[]
[]
[]
[]
[]
[]
[]
[]
[]
[]
[]
[]
[]
[]
[]
[]
[]
[]
[]
[]
[]
[]
[]
[]
[]
[]
[]
[]
[]
[]
[]
[]
[]
[]
[null,null,"6. Cost of surface application of lime"]
[]
[]
[]
[]
[]
[null,null,"Cost of spreading 1 t/ha of lime",null,null,10]
[]
[null,null,"The reference cost must be at least $5."]
[]
[]
[]
[]
[]
[null,null,"7. Cost of deep banding lime"]
[]
[null,null,null,null,null,null,null,"Calculation of cash costs",null,null,null,null,"Calculation of variable depreciation"]
[null,null,null,null,null,null,null,"Deep ripper width",null,7,"m",null,"Current value of tractor",null,{"$f":"0.5*J109","v":65000}]
[null,null,null,null,null,null,null,"Working speed",null,5,"km/hr",null,"Dep'n if used to rip 200 ha",null,0.1]
[null,null,null,null,null,null,null,"Field efficiency",null,0.6,null,null,"Dep'n if left in shed ",null,2.5000000000000001E-2]
[null,null,null,null,null,null,null,"Work rate",null,{"$f":"10000/(J100*J101*1000*J102)","v":0.47619047619047616},"hr/ha",null,"Variable dep'n of tractor ",null,{"$f":"(O100*(O101-O102))/200","v":24.375000000000004},"/ha"]
[null,null,null,null,null,null,null,"Working depth",null,25,"cm"]
[null,null,null,null,null,null,null,"Tractor engine load",null,110,"kW",null,"Current value of ripper",null,10000]
[null,null,null,null,null,null,null,"Tractor fuel use",null,{"$f":"1/3*J105","v":36.666666666666664},"L/hr",null,"Dep'n if used to treat 200 ha",null,0.1]
[null,null,null,null,null,null,null,"Fuel price (net)",null,1.1000000000000001,"/L",null,"Dep'n if left in shed ",null,2.5000000000000001E-2]
[null,null,null,null,null,null,null,"Total fuel cost",null,{"$f":"J103*J106*J107","v":19.206349206349206},"/ha",null,"Variable dep'n of ripper",null,{"$f":"(O105*(O106-O107))/200","v":3.7500000000000004},"/ha"]
[null,null,null,null,null,null,null,"Tractor purchase price new",null,130000]
[null,null,null,null,null,null,null,"Annual usage",null,300,"hr",null,"Total variable depreciation",null,{"$f":"O103+O108","v":28.125000000000004},"/ha"]
[null,null,null,null,null,null,null,"Tractor repairs & maint.",null,{"$f":"0.035*J109/J110*J103","v":7.2222222222222214},"/ha"]
[null,null,null,null,null,null,null,"Ripper repairs & maint.",null,3,"/ha"]
[null,null,null,null,null,null,null,"Spreader repairs & maint.",null,1,"/ha"]
[null,null,null,null,null,null,null,"Total cash costs",null,{"$f":"J108+SUM(J111:J113)","v":30.428571428571427},"/ha"]
[]
[]
[]
[]
[]
[]
[]
[]
[]
[]
[]
[]
[]
[]
[]
[]
[]
[]
[]
[]
[]
[]
[]
[]
[]
[]
[]
[]
[]
[]
[]
[]
[]
[]
[]
[]
[]
[]
[]
[]
[]
[null,null,"List of soil types",null,"List of rainfall zones"]
[null,null,"Sand",null,"Less than 325mm"]
[null,null,"Sand-loam",null,"325 - 450 mm"]
[null,null,"Loam ",null,"450 - 750 mm"]
[null,null,"Clay loam",null,"Greater than 750 mm"]
[null,null,"Clay",null,"Saturated soil scenario"]
[]
[]
[null,null,"Parameter values for exch Al (me%) curve calculation"]
[null,null,null,"a","b"]
[null,null,"Low",160000,-2.8]
[null,null,"Moderate",155000,-2.65]
[null,null,"High",150000,-2.5]
[]
[]
[]
[]
[]
[]
[]
[]
[null,null,"Nitrate leaching estimates reference table"]
[null,null,null,"Soil texture"]
[null,null,"Rainfall zone","Sand","Sandy loam","Loam ","Clay loam","Clay"]
[null,null,"Less than 325mm",0.5,0.3,9.9999999999999978E-2,0,0]
[null,null,"325 - 450 mm",0.65,0.45,0.25,4.9999999999999989E-2,0]
[null,null,"450 - 750 mm",0.8,0.60000000000000009,0.40000000000000008,0.20000000000000007,0]
[null,null,"Greater than 750 mm",0.95,0.75,0.55000000000000004,0.35000000000000003,0.15000000000000002]
[null,null,"Saturated soil scenario",0.95,0.75,0.55000000000000004,0.35000000000000003,0.15000000000000002]
[]
[]
[null,null,"Calculation of default nitrate leaching"]
[null,null,"Selected rainfall zone #",null,{"$f":"F23","v":3}]
[]
[null,null,null,"Selected soil texture #","Leaching factor"]
[null,null,"0-10 cm",{"$f":"E9","v":5},{"$f":"OFFSET($C$179,$E$188,D191)","v":0}]
[null,null,"10-20 cm",{"$f":"F9","v":1},{"$f":"OFFSET($C$179,$E$188,D192)","v":0.8}]
[null,null,"20-30 cm",{"$f":"G9","v":1},{"$f":"OFFSET($C$179,$E$188,D193)","v":0.8}]
[]
[null,null,"Overall average",null,{"$f":"AVERAGE(E191:E193)","v":0.53333333333333333},"(this value becomes the default nitrate leaching figure)"]
[]
[]
[null,null,"Parameter values for lime dissolution calculation"]
[null,null,"Parameter","Description",null,null,null,null,"Value","Units"]
[null,null,"k","Rate constant",null,null,null,null,1,"Constant"]
[null,null,"pH_Equilibrium","Equilibrium pH",null,null,null,null,7.5,"pH, CaCl2"]
[null,null,"pH_Leach_A","Min pH before dissolved lime or excess alkali can leach out of 0-10 cm layer",null,null,null,null,5,"pH, CaCl2"]
[null,null,"pH_Leach_B","Min pH before dissolved lime or excess alkali can leach out of 10-20 cm layer",null,null,null,null,5,"pH, CaCl2"]
[null,null,"pH_Leach_B","Min pH before dissolved lime or excess alkali can leach out of 20-30 cm layer",null,null,null,null,5,"pH, CaCl2"]
[null,null,"Lime_Leach_Max","Max prop'n of dissolved lime that can leach in any month",null,null,null,null,0.1,"scalar, 0 - 1"]
[null,null,"Lime_Leak","Prop'n of dissolved lime that moves down regardless of pH",null,null,null,null,0.1,"scalar, 0 - 1"]
[null,null,"Alkali_Leach_Max","Max prop'n of excess alkali that can leach in any month",null,null,null,null,0.1,"scalar, 0 - 1"]
[]
[]
[null,null,"Soil water content scalars"]
[null,null,"0-10cm horizon"]
[null,null,"Mean",null,8,8,8,8]
[null,null,"Std deviation",null,1.5,2.5,4,6]
[]
[null,null,null,null,"Average annual rainfall zone"]
[null,null,"Month","Monthref","Less than 325mm","325 - 450 mm","450 - 750 mm","Greater than 750 mm","Saturated soil scenario","Selected volumetric water content","Soil water content scalar (0 - 1)"]
[null,null,"Jan",1,{"$f":"(NORMDIST($D217,E$212,E$213,FALSE)/NORMDIST(E$212,E$212,E$213,FALSE))*Soil_SWC_A","v":7.8965061634125365E-6},8.3943093149258952E-3,9.1496801351106175E-2,0.2142189147357349,{"$f":"Soil_SWC_A","v":0.42307692307692307},{"$f":"OFFSET(D217,0,$F$23)","v":9.1496801351106175E-2},{"$f":"(J217/Soil_SWC_A)^2","v":4.6770622383959001E-2}]
[null,null,"Feb",2,1.419264964202935E-4,2.3749322737518116E-2,0.1373529669593018,0.25660912526303725,0.42307692307692307,0.1373529669593018,0.1053992245618643]
[null,null,"Mar",3,1.6355815974692636E-3,5.7257235215489991E-2,0.19369872998029833,0.29896657909364921,0.42307692307692307,0.19369872998029833,0.20961138715109778]
[null,null,"Apr",4,1.2085404178079009E-2,0.11763116557635134,0.2566091252630372,0.33877351661864957,0.42307692307692307,0.2566091252630372,0.36787944117144233]
[null,null,"May",5,5.7257235215489997E-2,0.2059336467522957,0.31935521622611851,0.37336407417040579,0.42307692307692307,0.31935521622611851,0.56978282473092301]
[null,null,"Jun",6,0.17393212290688703,0.30721690030040766,0.37336407417040579,0.40021362146055461,0.42307692307692307,0.37336407417040579,0.77880078307140521]
[null,null,"Jul",7,0.33877351661864957,0.39054922347126891,0.41006021458614561,0.41724147246858001,0.42307692307692307,0.41006021458614561,0.93941306281347592]
[null,null,"Aug",8,0.42307692307692307,0.42307692307692307,0.42307692307692307,0.42307692307692307,0.42307692307692307,0.42307692307692307,1]
[null,null,"Sep",9,0.33877351661864957,0.39054922347126891,0.41006021458614561,0.41724147246858001,0.42307692307692307,0.41006021458614561,0.93941306281347592]
[null,null,"Oct",10,0.17393212290688703,0.30721690030040766,0.37336407417040579,0.40021362146055461,0.42307692307692307,0.37336407417040579,0.77880078307140521]
[null,null,"Nov",11,5.7257235215489997E-2,0.2059336467522957,0.31935521622611851,0.37336407417040579,0.42307692307692307,0.31935521622611851,0.56978282473092301]
[null,null,"Dec",12,1.2085404178079009E-2,0.11763116557635134,0.2566091252630372,0.33877351661864957,0.42307692307692307,0.2566091252630372,0.36787944117144233]
[]
[]
[]
[null,null,"10-20cm horizon"]
[null,null,"Mean",null,8,8,8,8]
[null,null,"Std deviation",null,2.5,3.5,5,7]
[]
[null,null,null,null,"Average annual rainfall zone"]
[null,null,"Month","Monthref","Less than 325mm","325 - 450 mm","450 - 750 mm","Greater than 750 mm","Saturated soil scenario","Selected volumetric water content","Soil water content scalar (0 - 1)"]
[null,null,"Jan",1,{"$f":"(NORMDIST($D238,E$233,E$234,FALSE)/NORMDIST(E$233,E$233,E$234,FALSE))*Soil_SWC_B","v":8.3943093149258952E-3},5.7257235215489991E-2,0.15878546489866902,0.2566091252630372,{"$f":"Soil_SWC_B","v":0.42307692307692307},{"$f":"OFFSET(D238,0,$F$23)","v":0.15878546489866902},{"$f":"(J238/Soil_SWC_B)^2","v":0.14085842092104497}]
[null,null,"Feb",2,2.3749322737518116E-2,9.7335741881996174E-2,0.2059336467522957,0.29301009870219907,0.42307692307692307,0.2059336467522957,0.23692775868212174]
[null,null,"Mar",3,5.7257235215489991E-2,0.15249714132984735,0.25660912526303714,0.32781583529675934,0.42307692307692307,0.25660912526303714,0.36787944117144206]
[null,null,"Apr",4,0.11763116557635134,0.2201904358164509,0.30721690030040766,0.35934707624043988,0.42307692307692307,0.30721690030040766,0.52729242404304844]
[null,null,"May",5,0.2059336467522957,0.29301009870219907,0.35338355098169194,0.38595364788899994,0.42307692307692307,0.35338355098169194,0.69767632607103081]
[null,null,"Jun",6,0.30721690030040766,0.35934707624043988,0.39054922347126891,0.40615614823616364,0.42307692307692307,0.39054922347126891,0.85214378896621112]
[null,null,"Jul",7,0.39054922347126891,0.40615614823616364,0.41469943870670412,0.4187817629679258,0.42307692307692307,0.41469943870670412,0.96078943915232284]
[null,null,"Aug",8,0.42307692307692307,0.42307692307692307,0.42307692307692307,0.42307692307692307,0.42307692307692307,0.42307692307692307,1]
[null,null,"Sep",9,0.39054922347126891,0.40615614823616364,0.41469943870670412,0.4187817629679258,0.42307692307692307,0.41469943870670412,0.96078943915232284]
[null,null,"Oct",10,0.30721690030040766,0.35934707624043988,0.39054922347126891,0.40615614823616364,0.42307692307692307,0.39054922347126891,0.85214378896621112]
[null,null,"Nov",11,0.2059336467522957,0.29301009870219907,0.35338355098169194,0.38595364788899994,0.42307692307692307,0.35338355098169194,0.69767632607103081]
[null,null,"Dec",12,0.11763116557635134,0.2201904358164509,0.30721690030040766,0.35934707624043988,0.42307692307692307,0.30721690030040766,0.52729242404304844]
[]
[]
[]
[null,null,"20-30cm horizon"]
[null,null,"Mean",null,8,8,8,8]
[null,null,"Std deviation",null,3,4.5,7,9]
[]
[null,null,null,null,"Average annual rainfall zone"]
[null,null,"Month","Monthref","Less than 325mm","325 - 450 mm","450 - 750 mm","Greater than 750 mm","Saturated soil scenario","Selected volumetric water content","Soil water content scalar (0 - 1)"]
[null,null,"Jan",1,{"$f":"(NORMDIST($D259,E$254,E$255,FALSE)/NORMDIST(E$254,E$254,E$255,FALSE))*Soil_SWC_C","v":2.7808223645455189E-2},0.12617596376906295,0.2566091252630372,0.31265016381089983,{"$f":"Soil_SWC_C","v":0.42307692307692307},{"$f":"OFFSET(D259,0,$F$23)","v":0.2566091252630372},{"$f":"(J259/Soil_SWC_C)^2","v":0.36787944117144233}]
[null,null,"Feb",2,5.7257235215489997E-2,0.17393212290688703,0.29301009870219907,0.33877351661864957,0.42307692307692307,0.29301009870219907,0.47965226883004436]
[null,null,"Mar",3,0.105495165251933,0.22821086844668814,0.32781583529675934,0.36257560791492571,0.42307692307692307,0.32781583529675934,0.60037304119840451]
[null,null,"Apr",4,0.17393212290688703,0.28500088495353826,0.35934707624043988,0.38328873470017716,0.42307692307692307,0.35934707624043988,0.72142229035475613]
[null,null,"May",5,0.25660912526303725,0.33877351661864957,0.38595364788899994,0.40021362146055461,0.42307692307692307,0.38595364788899994,0.83220750069030147]
[null,null,"Jun",6,0.33877351661864957,0.38328873470017716,0.40615614823616364,0.41275849156589633,0.42307692307692307,0.40615614823616364,0.92161044729772479]
[null,null,"Jul",7,0.40021362146055461,0.41275849156589633,0.4187817629679258,0.42047338102272513,0.42307692307692307,0.4187817629679258,0.97979867385370423]
[null,null,"Aug",8,0.42307692307692307,0.42307692307692307,0.42307692307692307,0.42307692307692307,0.42307692307692307,0.42307692307692307,1]
[null,null,"Sep",9,0.40021362146055461,0.41275849156589633,0.4187817629679258,0.42047338102272513,0.42307692307692307,0.4187817629679258,0.97979867385370423]
[null,null,"Oct",10,0.33877351661864957,0.38328873470017716,0.40615614823616364,0.41275849156589633,0.42307692307692307,0.40615614823616364,0.92161044729772479]
[null,null,"Nov",11,0.25660912526303725,0.33877351661864957,0.38595364788899994,0.40021362146055461,0.42307692307692307,0.38595364788899994,0.83220750069030147]
[null,null,"Dec",12,0.17393212290688703,0.28500088495353826,0.35934707624043988,0.38328873470017716,0.42307692307692307,0.35934707624043988,0.72142229035475613]
[]
[]
[null,null,"Calculation of default yields using French-Schultz approach"]
[null,null,null,null,null,"Wheat (t/ha)","Barley (t/ha)","Canola (t/ha)","Lupins (t/ha)","Grain legume (t/ha)","Hay (t/ha)","Pasture (t DM/ha)","Stocking rate (DSE/ha)","Wool (greasy kg/ha)","Meat (live kg/ha)"]
[null,null,null,null,"Water loss",110,90,110,130,130,70,70]
[null,null,null,null,"WUE",15,15,10,10,10,40,45]
[null,null,null,"Ann RF","GSR",0.75,0.75,0.75,0.75,0.75,0.75,0.5,"<- scaling factor to adjust from theoretical potential to realistic field observation"]
[null,null,"Less than 325mm",300,{"$f":"0.7*D278","v":210},{"$f":"(($E278-1/3*$E278)*F$276*F277)/1000","v":1.575},{"$f":"(($E278-1/3*$E278)*G$276*G277)/1000","v":1.575},1.05,1.05,1.05,4.2,3.15,{"$f":"$L278/$M$287","v":3.452054794520548},{"$f":"M278*$M$288","v":13.808219178082192},{"$f":"M278*$M$289","v":172.60273972602741}]
[null,null,"325 - 450 mm",387.5,{"$f":"0.7*D279","v":271.25},{"$f":"(($E279-F$275)*F$276*F$277)/1000","v":1.8140624999999999},{"$f":"(($E279-G$275)*G$276*G$277)/1000","v":2.0390625},1.2093750000000001,1.059375,1.059375,6.0374999999999996,4.5281250000000002,{"$f":"$L279/$M$287","v":4.9623287671232879},{"$f":"M279*$M$288","v":19.849315068493151},{"$f":"M279*$M$289","v":248.11643835616439}]
[null,null,"450 - 750 mm",600,{"$f":"0.7*D280","v":420},{"$f":"(($E280-F$275)*F$276*F$277)/1000","v":3.4874999999999998},3.7124999999999999,2.3250000000000002,2.1749999999999998,2.1749999999999998,10.5,7.875,{"$f":"$L280/$M$287","v":8.6301369863013697},{"$f":"M280*$M$288","v":34.520547945205479},{"$f":"M280*$M$289","v":431.50684931506851}]
[null,null,"Greater than 750 mm",800,{"$f":"0.7*D281","v":560},5.0625,5.2874999999999996,3.375,3.2250000000000001,3.2250000000000001,14.7,11.025,{"$f":"$L281/$M$287","v":12.082191780821919},{"$f":"M281*$M$288","v":48.328767123287676},{"$f":"M281*$M$289","v":604.109589041096}]
[null,null,"Saturated soil scenario",800,{"$f":"0.7*D282","v":560},5.0625,5.2874999999999996,3.375,3.2250000000000001,3.2250000000000001,14.7,11.025,{"$f":"$L282/$M$287","v":12.082191780821919},{"$f":"M282*$M$288","v":48.328767123287676},{"$f":"M282*$M$289","v":604.109589041096}]
[]
[null,null,null,null,null,null,null,null,"Derivation of stocking rate, wool and meat production"]
[null,null,null,null,null,null,null,null,"Pasture intake per dry sheep equiv (kg DM/DSE/day)",null,null,null,1.5]
[null,null,null,null,null,null,null,null,"Pasture utlisation",null,null,null,0.6]
[null,null,null,null,null,null,null,null,"Pasture growth required per DSE (t DM/ha)",null,null,null,{"$f":"(M285*365)/M286/1000","v":0.91249999999999998}]
[null,null,null,null,null,null,null,null,"Average weight of greasy wool per DSE (kg)",null,null,null,4]
[null,null,null,null,null,null,null,null,"Average liveweight per DSE (kg)",null,null,null,50]
[]
[null,null,null,null,null,null,null,null,"Notes on calculation of residue organic nitrogen from legumes"]
[null,null,null,null,null,null,null,null,"For legume crops, Optlime assumes 60kg N / t grain produced."]
[null,null,null,null,null,null,null,null,"This is based on ready reckoners from Bowden & Burgess (1993) and assumes a harvest index of 0.25."]
[]
[null,null,null,null,null,null,null,null,"For legume pasture, Optlime assumes 50% legume content, which results in 20kg N / t DM produced."]
[null,null,null,null,null,null,null,null,"Following Bowden & Burgess, a 'run down factor' of 2/3 is assumed to allow for losses."]
[]
[null,null,null,null,null,null,null,null,"Reference:","Bowden & Burgess (1993), 'Estimating Soil Nitrogen Status: Ready Reckoners', Dept Agric Technote 6/93."]
[]
[]
[]
[]
[null,null,"Parameter values for yield index curves"]
[null,null,null,null,"0 - 10 cm yield index",null,"10 - 20 cm yield index",null,"20 - 30 cm yield index"]
[null,null,"Tolerance class","Description","a","b","a","b","a","b"]
[null,null,1,"Most tolerant",6,3.4,6.3799999999999996E-2,39.99,0.25979999999999998,28.85]
[null,null,2,null,5.25,3.4750000000000001,0.30409999999999998,15.3,0.26250000000000001,28.5]
[null,null,3,null,4.5,3.55,0.2031,12.6,0.2878,19.010000000000002]
[null,null,4,null,3.75,3.625,0.18360000000000001,9.17,0.27810000000000001,14.89]
[null,null,5,null,3,3.7,0.16420000000000001,7.58,0.26419999999999999,12.52]
[null,null,6,null,2.25,3.7749999999999999,0.14050000000000001,6.29,0.25940000000000002,10.24]
[null,null,7,null,1.7,3.85,0.1242,4.92,0.2697,8.44]
[null,null,8,"Least tolerant",1.4,3.9249999999999998,9.9900000000000003E-2,4.04,0.24299999999999999,7.8]
[]
[]
[null,null,"Functional form of topsoil yield index is:",null,null,null,"Y = 1 - exp(-a * max(0,pH - b))"]
[null,null,"Functional form of subsoil yield indicies is:",null,null,null,"Y = a * 1 / (a + (1 - a) * exp(-b * 1 / [Al]))"]
[]
[]
[null,null,"Acidification due to product removal"]
[null,null,null,"kmol H+ / t or kg","kg CaCO3 equiv / t or kg"]
[null,null,"Wheat",4.4999999999999998E-2,{"$f":"D322/2*100","v":2.25}]
[null,null,"Barley",0.06,{"$f":"D323/2*100","v":3}]
[null,null,"Canola",4.4999999999999998E-2,2.25]
[null,null,"Lupins",0.25,12.5]
[null,null,"Grain legumes",0.2,10]
[null,null,"Hay",0.6,30]
[null,null,"Wool",2.5000000000000001E-2,1.25]
[null,null,"Meat",3.5000000000000001E-3,0.17500000000000002]
[]
[]
[null,null,"Distribution of acidity through profile"]
[null,null,"Soil category",{"$f":"IF(AND(E9<=2,F9<=2,G9<=2),1,IF(AND(E9<=2,F9>2),2,3))","v":3},"(1 = deep sand, 2= duplex, 3 = loams & clays)"]
[]
[null,null,null,"0 - 10 cm","10 - 20 cm","20 - 30 cm","below 30 cm"]
[null,null,"Deep sand",0.15,0.18,0.17,0.5]
[null,null,"Duplex",0.5,0.25,0.1,0.15]
[null,null,"Loams & clays",0.5,0.25,0.1,0.15]
[null,null,"Model input",{"$f":"OFFSET(D335,$D$333,0)","v":0.5},{"$f":"OFFSET(E335,$D$333,0)","v":0.25},{"$f":"OFFSET(F335,$D$333,0)","v":0.1},{"$f":"OFFSET(G335,$D$333,0)","v":0.15}]
[]
[]
[null,null,"Lime spreading cost function"]
[null,null,"Lime spreading cost ($/t) = (A + B * R ^ rate + C * rate) + D,  where:"]
[null,null,"A =",8.1340000000000003]
[null,null,"B =",72.84]
[null,null,"R =",1.619E-2]
[null,null,"C =",-0.5403]
[null,null,"D =",{"$f":"MAX(3,F89)-8.75","v":1.25},"D is the difference between the default cost for spreading 1 t/ha and the inputed cost"]
[]
[]
[null,null,"Data for chart"]
[null,null,"Lime rate (t/ha)","$/t","$/ha"]
[null,null,0,{"$f":"($D$344+$D$345*$D$346^C353+$D$347*C353)+$D$348","v":82.224000000000004},{"$f":"C353*D353","v":0}]
[null,null,0.05,68.626623661251926,3.4313311830625963]
[null,null,0.1,57.557455818717308,5.7557455818717314]
[null,null,0.15,48.545481881054727,7.2818222821582088]
[null,null,0.2,41.207439016949188,8.2414878033898376]
[null,null,0.25,35.23146767774162,8.8078669194354049]
[null,null,0.3,30.363808901843811,9.1091426705531422]
[null,null,0.35,26.397979960529952,9.2392929861854824]
[null,null,0.4,23.165966620942164,9.2663866483768658]
[null,null,0.45,20.53105632306627,9.2389753453798225]
[null,null,0.5,18.382006562337519,9.1910032811687596]
[null,null,0.6,15.196281960128838,9.117769176077303]
[null,null,0.7,13.068751726513067,9.1481262085591464]
[null,null,0.8,11.641853754082922,9.313483003266338]
[null,null,0.9,10.67884557353177,9.6109610161785941]
[null,null,1,10.022979600000001,10.022979600000001]
[null,null,1.2,9.2526109690844081,11.103133162901289]
[null,null,1.4,8.8542090223930536,12.395892631350275]
[null,null,1.6,8.6188693191344861,13.790190910615179]
[null,null,1.8,8.4550126178786016,15.219022712181483]
[null,null,2,8.322492536723999,16.644985073447998]
[null,null,2.2000000000000002,8.2037097599894757,18.048161471976847]
[null,null,2.4,8.0909491238725444,19.418277897294107]
[null,null,2.6,7.9808284654767867,20.750154010239648]
[null,null,2.8,7.8718651168834546,22.041222327273672]
[null,null,3,7.7634091081695624,23.290227324508688]
[null,null,3.2,7.6551755064142304,24.49656162052554]
[null,null,3.4,7.5470394031154973,25.659933970592689]
[null,null,3.6,7.4389460410560693,26.780205747801851]
[null,null,3.8,7.3308714158423429,27.857311380200901]
[null,null,4,7.2228050044612653,28.891220017845061]
[null,null,4.2,7.1147421938488469,29.88191721416516]
[null,null,4.4000000000000004,7.0066809617364401,30.829396231640338]
[null,null,4.5999999999999996,6.8986204216046989,31.733653939381611]
[null,null,4.8,6.790560184822489,32.594688887147946]
[null,null,5,6.6825000810222273,33.412500405111139]

{"sheet":"Soil_Model","index":13,"n_rows":261,"n_cols":150,"rows_kept":261,"cut":false,"hidden":true,"merged":[[5,3,5,5],[5,77,5,79]]}
["Sheet name:","Soil model"]
["Purpose:","Representation of monthly lime dissolution, leaching and acidity amelioration"]
[]
[null,"Overview",null,"Lime source & strategy A",null,null,null,"Lime source & strategy A",null,null,null,"Lime source & strategy A",null,null,null,"Lime source & strategy A",null,null,null,"Lime source & strategy A",null,null,null,"Lime source & strategy A",null,null,null,"Lime source & strategy A",null,null,null,"Lime source & strategy A",null,null,null,"Lime source & strategy A",null,null,null,"Lime source & strategy A",null,null,null,"Lime source & strategy A",null,null,null,"Lime source & strategy A",null,null,null,"Lime source & strategy A",null,null,null,"Lime source & strategy A",null,null,null,"Lime source & strategy A",null,null,null,"Lime source & strategy A",null,null,null,"Lime source & strategy A",null,null,null,"Lime source & strategy A",null,null,null,null,null,"Lime source & strategy B",null,null,null,"Lime source & strategy B",null,null,null,"Lime source & strategy B",null,null,null,"Lime source & strategy B",null,null,null,"Lime source & strategy B",null,null,null,"Lime source & strategy B",null,null,null,"Lime source & strategy B",null,null,null,"Lime source & strategy B",null,null,null,"Lime source & strategy B",null,null,null,"Lime source & strategy B",null,null,null,"Lime source & strategy B",null,null,null,"Lime source & strategy B",null,null,null,"Lime source & strategy B",null,null,null,"Lime source & strategy B",null,null,null,"Lime source & strategy B",null,null,null,"Lime source & strategy B",null,null,null,"Lime source & strategy B",null,null,null,"Lime source & strategy B"]
[null,"Site & soil"]
[null,"Apply lime",null,"Product applied (t/ha)",null,null,null,null,null,null,null,null,null,null,null,null,null,null,null,null,null,null,null,null,null,null,null,null,null,null,null,null,null,null,null,null,null,null,null,null,null,null,null,null,null,null,null,null,null,null,null,null,null,null,null,null,null,null,null,null,null,null,null,null,null,null,null,null,null,null,null,null,null,null,null,null,null,"Product applied (t/ha)"]
[null,null,null,"Deep band",{"$f":"Apply_Lime!E37","v":1},{"$f":"1-E7","v":0},"% in 10-20","Lime dissolution & leaching model, 0-10 cm soil horizon",null,null,null,null,null,null,null,null,null,null,null,null,null,null,null,"Removal",null,"Lime dissolution & leaching model, 10-20 cm soil horizon",null,null,null,null,null,null,null,null,null,null,null,null,null,null,null,null,null,"Lime dissolution & leaching model, 20-30 cm soil horizon",null,null,null,null,null,null,null,null,null,null,null,null,null,null,null,null,null,"Growing season (May-Oct) avg pH values for limed soil",null,null,null,null,null,"pH profile chart data",null,null,null,null,null,null,null,null,null,"Deep band",{"$f":"Apply_Lime!K37","v":0},{"$f":"1-CA7","v":1},null,"Lime dissolution & leaching model, 0-10 cm soil horizon",null,null,null,null,null,null,null,null,null,null,null,null,null,null,null,null,null,"Lime dissolution & leaching model, 10-20 cm soil horizon",null,null,null,null,null,null,null,null,null,null,null,null,null,null,null,null,null,"Lime dissolution & leaching model, 20-30 cm soil horizon",null,null,null,null,null,null,null,null,null,null,null,null,null,null,null,null,null,"Growing season (May-Oct) avg pH values for limed soil",null,null,null,null,null,"pH profile chart data"]
["Year ref","Month ref","Month","0-10 cm","10-20 cm","20-30 cm",null,"Starting pH (CaCl2)","Exch Al (me%)","pHBC (t CaCO3 / pH unit / 10 cm)","Soil water content scalar (0 - 1)","CaCO3 dissolution rate (moles/m2)","Weight of CaCO3 applied (t/ha)","Surface area of CaCO3 applied (m2/ha)","Surface area of CaCO3 available (m2/ha)","Weight of CaCO3 available (t/ha)","Weight of CaCO3 dissolved (t/ha)","Weight of CaCO3 leached (t/ha)","Change in pH due to liming (CaCl2)","Interim pH (CaCl2)","Excess alkalinity (t CaCO3 equiv/ha)","Leaching of excess alkali (t CaCO3 equiv/ha)","Change in pH due to alkali leach (CaCl2)","Change in pH due to acid'n (CaCl2)",null,"Starting pH (CaCl2)","Exch Al (me%)","pHBC (t CaCO3 / pH unit / 10 cm)","Soil water content scalar (0 - 1)","CaCO3 dissolution rate (moles/m2)","Weight of CaCO3 applied (t/ha)","Surface area of CaCO3 applied (m2/ha)","Surface area of CaCO3 available (m2/ha)","Weight of CaCO3 available (t/ha)","Weight of CaCO3 dissolved (t/ha)","Weight of CaCO3 leached (t/ha)","Change in pH due to liming (CaCl2)","Interim pH (CaCl2)","Excess alkalinity (t CaCO3 equiv/ha)","Leaching of excess alkali (t CaCO3 equiv/ha)","Net change in pH due to alkali leach (CaCl2)","Change in pH due to acid'n (CaCl2)",null,"Starting pH (CaCl2)","Exch Al (me%)","pHBC (t CaCO3 / pH unit / 10 cm)","Soil water content scalar (0 - 1)","CaCO3 dissolution rate (moles/m2)","Weight of CaCO3 applied (t/ha)","Surface area of CaCO3 applied (m2/ha)","Surface area of CaCO3 available (m2/ha)","Weight of CaCO3 available (t/ha)","Weight of CaCO3 dissolved (t/ha)","Weight of CaCO3 leached (t/ha)","Change in pH due to liming (CaCl2)","Interim pH (CaCl2)","Excess alkalinity (t CaCO3 equiv/ha)","Leaching of excess alkali (t CaCO3 equiv/ha)","Net change in pH due to alkali leach (CaCl2)","Change in pH due to acid'n (CaCl2)",null,"Year","0-10 cm avg pH (CaCl2)","10-20 cm avg pH (CaCl2)","20-30 cm avg pH (CaCl2)",null,null,"Lookup year","pH","Start","1 year","2 years","5 years","10 years","15 years","20 years",null,"0-10 cm","10-20 cm","20-30 cm",null,"Starting pH (CaCl2)","Exch Al (me%)","pHBC (t CaCO3 / pH unit / 10 cm)","Soil water content scalar (0 - 1)","CaCO3 dissolution rate (moles/m2)","Weight of CaCO3 applied (t/ha)","Surface area of CaCO3 applied (m2/ha)","Surface area of CaCO3 available (m2/ha)","Weight of CaCO3 available (t/ha)","Weight of CaCO3 dissolved (t/ha)","Weight of CaCO3 leached (t/ha)","Change in pH due to liming (CaCl2)","Interim pH (CaCl2)","Excess alkalinity (t CaCO3 equiv/ha)","Leaching of excess alkali (t CaCO3 equiv/ha)","Change in pH due to alkali leach (CaCl2)","Change in pH due to acid'n (CaCl2)",null,"Starting pH (CaCl2)","Exch Al (me%)","pHBC (t CaCO3 / pH unit / 10 cm)","Soil water content scalar (0 - 1)","CaCO3 dissolution rate (moles/m2)","Weight of CaCO3 applied (t/ha)","Surface area of CaCO3 applied (m2/ha)","Surface area of CaCO3 available (m2/ha)","Weight of CaCO3 available (t/ha)","Weight of CaCO3 dissolved (t/ha)","Weight of CaCO3 leached (t/ha)","Change in pH due to liming (CaCl2)","Interim pH (CaCl2)","Excess alkalinity (t CaCO3 equiv/ha)","Leaching of excess alkali (t CaCO3 equiv/ha)","Net change in pH due to alkali leach (CaCl2)","Change in pH due to acid'n (CaCl2)",null,"Starting pH (CaCl2)","Exch Al (me%)","pHBC (t CaCO3 / pH unit / 10 cm)","Soil water content scalar (0 - 1)","CaCO3 dissolution rate (moles/m2)","Weight of CaCO3 applied (t/ha)","Surface area of CaCO3 applied (m2/ha)","Surface area of CaCO3 available (m2/ha)","Weight of CaCO3 available (t/ha)","Weight of CaCO3 dissolved (t/ha)","Weight of CaCO3 leached (t/ha)","Change in pH due to liming (CaCl2)","Interim pH (CaCl2)","Excess alkalinity (t CaCO3 equiv/ha)","Leaching of excess alkali (t CaCO3 equiv/ha)","Net change in pH due to alkali leach (CaCl2)","Change in pH due to acid'n (CaCl2)",null,"Year","0-10 cm avg pH (CaCl2)","10-20 cm avg pH (CaCl2)","20-30 cm avg pH (CaCl2)",null,null,"Lookup year","pH","Start","1 year","2 years","5 years","10 years","15 years","20 years"]
[1,1,"Jan",{"$f":"OFFSET(Apply_Lime!$H$16,$A9,0)","v":2},{"$f":"OFFSET(Apply_Lime!$I$16,$A9,0)*G9","v":0.5},{"$f":"OFFSET(Apply_Lime!$I$16,$A9,0)*(1-G9)","v":0.5},{"$f":"'Profit Calculator'!F28","v":0.5},{"$f":"pH_Initial_A","v":5.9},{"$f":"'Site&Soil'!$F$173*EXP('Site&Soil'!$F$174*H9)","v":0},{"$f":"((0.66+45*Soil_OC_A+0.63*I9)*0.5)*Soil_BD_A*(1-Gravel_Pct_A)","v":0.69468750000000001},{"$f":"'Site&Soil'!K217","v":4.6770622383959001E-2},{"$f":"k*(10^-H9-10^-pH_Equil)*K9*10000","v":5.7401708101425294E-4},{"$f":"D9*Lime_NV_A","v":1.7860000000000003},{"$f":"D9*CaCO3_SA_A","v":43674.666666666672},{"$f":"N9","v":43674.666666666672},{"$f":"M9","v":1.7860000000000003},{"$f":"MAX(0,MIN(L9*O9*0.0001,(pH_Equil-H9)*J9,P9))","v":2.5070004674270499E-3},{"$f":"(Lime_Leak*Q9)+MIN(Lime_Leach_Max,10^(H9-pH_Leach_A)/10^(pH_Equil-pH_Leach_A))*Q9","v":3.1367305132188683E-4},{"$f":"(Q9-R9)/J9","v":3.1572864289413053E-3},{"$f":"H9+S9","v":5.9031572864289412},{"$f":"MAX(0,(T9-MAX(pH_Leach_A,pH_Initial_A))*J9)","v":2.1933274161048564E-3},{"$f":"K9*(MIN(Alkali_Leach_Max,(10^(T9-pH_Leach_A)/10^(pH_Equil-pH_Leach_A)))*U9)","v":2.5955769146631947E-6},{"$f":"-V9/J9","v":-3.7363230440495831E-6},null,null,{"$f":"pH_Initial_B","v":4.4000000000000004},{"$f":"'Site&Soil'!$G$173*EXP('Site&Soil'!$G$174*Z9)","v":0},{"$f":"((0.66+45*Soil_OC_B+0.63*AA9)*0.5)*Soil_BD_B*(1-Gravel_Pct_B)","v":0.79087499999999999},{"$f":"'Site&Soil'!K238","v":0.14085842092104497},{"$f":"k*(10^-Z9-10^-pH_Equil)*AC9*10000","v":5.6032204057738108E-2},{"$f":"E9*Lime_NV_A","v":0.44650000000000006},{"$f":"E9*CaCO3_SA_A","v":10918.666666666668},{"$f":"AF9","v":10918.666666666668},{"$f":"AE9","v":0.44650000000000006},{"$f":"MAX(0,MIN(AD9*AG9*0.0001,(pH_Equil-Z9)*AB9,AH9))","v":6.117969587050899E-2},{"$f":"(Lime_Leak*AI9)+MIN(Lime_Leach_Max,10^(Z9-pH_Leach_B)/10^(pH_Equil-pH_Leach_B))*AI9","v":6.1665663468726886E-3},{"$f":"(R9+AI9-AJ9)/AB9","v":6.9956443907012084E-2},{"$f":"Z9+AK9","v":4.4699564439070123},{"$f":"MAX(0,(AL9-MAX(pH_Leach_B,pH_Initial_B))*AB9)","v":0},{"$f":"AC9*(MIN(Alkali_Leach_Max,(10^(AL9-pH_Leach_B)/10^(pH_Equil-pH_Leach_B)))*AM9)","v":0},{"$f":"(V9-AN9)/AB9","v":3.2819053765300392E-6},null,null,{"$f":"pH_Initial_C","v":4.7},{"$f":"'Site&Soil'!$H$173*EXP('Site&Soil'!$H$174*AR9)","v":0},{"$f":"((0.66+45*Soil_OC_C+0.63*AS9)*0.5)*Soil_BD_C*(1-Gravel_Pct_C)","v":0.72675000000000001},{"$f":"'Site&Soil'!K259","v":0.36787944117144233},{"$f":"k*(10^-AR9-10^-pH_Equil)*AU9*10000","v":7.3285264848273704E-2},{"$f":"F9*Lime_NV_A","v":0.44650000000000006},{"$f":"F9*CaCO3_SA_A","v":10918.666666666668},{"$f":"AX9","v":10918.666666666668},{"$f":"AW9","v":0.44650000000000006},{"$f":"MAX(0,MIN(AV9*AY9*0.0001,(pH_Equil-AR9)*AT9,AZ9))","v":8.0017737845668457E-2},{"$f":"(Lime_Leak*BA9)+MIN(Lime_Leach_Max,10^(AR9-pH_Leach_C)/10^(pH_Equil-pH_Leach_C))*BA9","v":8.1285933525545827E-3},{"$f":"(AJ9+BA9-BB9)/AT9","v":0.10740379888543042},{"$f":"AR9+BC9","v":4.8074037988854306},{"$f":"MAX(0,(BD9-MAX(pH_Leach_C,pH_Initial_C))*AT9)","v":7.8055710839986539E-2},{"$f":"AU9*(MIN(Alkali_Leach_Max,(10^(BD9-pH_Leach_C)/10^(pH_Equil-pH_Leach_C)))*BE9)","v":5.827925616516581E-5},{"$f":"(AN9-BF9)/AT9","v":-8.0191614950348556E-5},null,null,null,null,null,null,null,null,null,{"$f":"pH_Initial_A","v":5.9},5,null,null,null,null,null,null,null,{"$f":"OFFSET(Apply_Lime!$O$16,$A9,0)","v":0},{"$f":"OFFSET(Apply_Lime!$P$16,$A9,0)*CA$7","v":0},{"$f":"OFFSET(Apply_Lime!$P$16,$A9,0)*CB$7","v":0},null,{"$f":"pH_Initial_A","v":5.9},{"$f":"'Site&Soil'!$F$173*EXP('Site&Soil'!$F$174*CD9)","v":0},{"$f":"((0.66+45*Soil_OC_A+0.63*CE9)*0.5)*Soil_BD_A*(1-Gravel_Pct_A)","v":0.69468750000000001},{"$f":"'Site&Soil'!M217","v":0},{"$f":"k*(10^-CD9-10^-pH_Equil)*CG9*10000","v":0},{"$f":"BZ9*Lime_NV_B","v":0},{"$f":"BZ9*CaCO3_SA_B","v":0},{"$f":"CJ9","v":0},{"$f":"CI9","v":0},{"$f":"MAX(0,MIN(CH9*CK9*0.0001,(pH_Equil-CD9)*CF9,CL9))","v":0},{"$f":"(Lime_Leak*CM9)+MIN(Lime_Leach_Max,10^(CD9-pH_Leach_A)/10^(pH_Equil-pH_Leach_A))*CM9","v":0},{"$f":"(CM9-CN9)/CF9","v":0},{"$f":"CD9+CO9","v":5.9},{"$f":"MAX(0,(CP9-MAX(pH_Leach_A,pH_Initial_A))*CF9)","v":0},{"$f":"CG9*(MIN(Alkali_Leach_Max,(10^(CP9-pH_Leach_A)/10^(pH_Equil-pH_Leach_A)))*CQ9)","v":0},{"$f":"-CR9/CF9","v":0},null,null,{"$f":"pH_Initial_B","v":4.4000000000000004},{"$f":"'Site&Soil'!$G$173*EXP('Site&Soil'!$G$174*CV9)","v":0},{"$f":"((0.66+45*Soil_OC_B+0.63*CW9)*0.5)*Soil_BD_B*(1-Gravel_Pct_B)","v":0.79087499999999999},{"$f":"'Site&Soil'!M238","v":0},{"$f":"k*(10^-CV9-10^-pH_Equil)*CY9*10000","v":0},{"$f":"CA9*Lime_NV_B","v":0},{"$f":"CA9*CaCO3_SA_B","v":0},{"$f":"DB9","v":0},{"$f":"DA9","v":0},{"$f":"MAX(0,MIN(CZ9*DC9*0.0001,(pH_Equil-CV9)*CX9,DD9))","v":0},{"$f":"(Lime_Leak*DE9)+MIN(Lime_Leach_Max,10^(CV9-pH_Leach_B)/10^(pH_Equil-pH_Leach_B))*DE9","v":0},{"$f":"(CN9+DE9-DF9)/CX9","v":0},{"$f":"CV9+DG9","v":4.4000000000000004},{"$f":"MAX(0,(DH9-MAX(pH_Leach_B,pH_Initial_B))*CX9)","v":0},{"$f":"CY9*(MIN(Alkali_Leach_Max,(10^(DH9-pH_Leach_B)/10^(pH_Equil-pH_Leach_B)))*DI9)","v":0},{"$f":"(CR9-DJ9)/CX9","v":0},null,null,{"$f":"pH_Initial_C","v":4.7},{"$f":"'Site&Soil'!$H$173*EXP('Site&Soil'!$H$174*DN9)","v":0},{"$f":"((0.66+45*Soil_OC_C+0.63*DO9)*0.5)*Soil_BD_C*(1-Gravel_Pct_C)","v":0.72675000000000001},{"$f":"'Site&Soil'!M259","v":0},{"$f":"k*(10^-DN9-10^-pH_Equil)*DQ9*10000","v":0},{"$f":"CB9*Lime_NV_B","v":0},{"$f":"CB9*CaCO3_SA_B","v":0},{"$f":"DT9","v":0},{"$f":"DS9","v":0},{"$f":"MAX(0,MIN(DR9*DU9*0.0001,(pH_Equil-DN9)*DP9,DV9))","v":0},{"$f":"(Lime_Leak*DW9)+MIN(Lime_Leach_Max,10^(DN9-pH_Leach_C)/10^(pH_Equil-pH_Leach_C))*DW9","v":0},{"$f":"(DF9+DW9-DX9)/DP9","v":0},{"$f":"DN9+DY9","v":4.7},{"$f":"MAX(0,(DZ9-MAX(pH_Leach_C,pH_Initial_C))*DP9)","v":0},{"$f":"DQ9*(MIN(Alkali_Leach_Max,(10^(DZ9-pH_Leach_C)/10^(pH_Equil-pH_Leach_C)))*EA9)","v":0},{"$f":"(DJ9-EB9)/DP9","v":0},null,null,null,null,null,null,null,null,null,{"$f":"pH_Initial_A","v":5.9},5]
[null,2,"Feb",null,null,null,null,{"$f":"T9+W9+X9","v":5.9031535501058974},{"$f":"'Site&Soil'!$F$173*EXP('Site&Soil'!$F$174*H10)","v":0},{"$f":"((0.66+45*Soil_OC_A+0.63*I10)*0.5)*Soil_BD_A*(1-Gravel_Pct_A)","v":0.69468750000000001},{"$f":"'Site&Soil'!K218","v":0.1053992245618643},1.2839673326160833E-3,0,0,{"$f":"N10+IF(P9-Q9=0,0,(O9*(1-Q9/P9)))","v":43613.360726158244},{"$f":"P9-Q9+M10","v":1.7834929995325732},5.5998130437988451E-3,7.0166734947431256E-4,7.0508619981279816E-3,5.9102044121040249,7.0888775335145636E-3,1.921406702922309E-5,-2.7658576020474085E-5,null,null,{"$f":"AL9+AO9+AP9","v":4.4699597258123891},{"$f":"'Site&Soil'!$G$173*EXP('Site&Soil'!$G$174*Z10)","v":0},0.79087499999999999,{"$f":"'Site&Soil'!K239","v":0.23692775868212174},8.0214108558341407E-2,0,0,{"$f":"AF10+IF(AH9-AI9=0,0,(AG9*(1-AI9/AH9)))","v":9422.5844584289734},{"$f":"AH9-AI9+AE10","v":0.38532030412949109},7.5582421264856231E-2,7.6287732052108858E-3,8.680931298766513E-2,4.5567690388000539,0,0,2.4294695153119128E-5,null,null,{"$f":"BD9+BG9+BH9","v":4.8073236072704804},{"$f":"'Site&Soil'!$H$173*EXP('Site&Soil'!$H$174*AR10)","v":0},0.72675000000000001,{"$f":"'Site&Soil'!K260","v":0.47965226883004436},7.4596891864543574E-2,0,0,{"$f":"AX10+IF(AZ9-BA9=0,0,(AY9*(1-BA9/AZ9)))","v":8961.9208504123071},{"$f":"AZ9-BA9+AW10","v":0.36648226215433161},6.685314405768053E-2,6.8209724163665539E-3,9.3100715303095771E-2,4.900424322573576,0.14565837643034621,1.7566542488976633E-4,-2.4171369093879097E-4,null,null,null,null,null,null,null,null,null,{"$f":"pH_Initial_B","v":4.4000000000000004},15,null,null,null,null,null,null,null,null,null,null,null,{"$f":"CP9+CS9+CT9","v":5.9},{"$f":"'Site&Soil'!$F$173*EXP('Site&Soil'!$F$174*CD10)","v":0},0.69468750000000001,{"$f":"'Site&Soil'!M218","v":0},0,0,0,{"$f":"CJ10+IF(CL9-CM9=0,0,(CK9*(1-CM9/CL9)))","v":0},{"$f":"CL9-CM9+CI10","v":0},0,0,0,5.9,0,0,0,null,null,{"$f":"DH9+DK9+DL9","v":4.4000000000000004},{"$f":"'Site&Soil'!$G$173*EXP('Site&Soil'!$G$174*CV10)","v":0},0.79087499999999999,{"$f":"'Site&Soil'!M239","v":0},0,0,0,{"$f":"DB10+IF(DD9-DE9=0,0,(DC9*(1-DE9/DD9)))","v":0},{"$f":"DD9-DE9+DA10","v":0},0,0,0,4.4000000000000004,0,0,0,null,null,{"$f":"DZ9+EC9+ED9","v":4.7},{"$f":"'Site&Soil'!$H$173*EXP('Site&Soil'!$H$174*DN10)","v":0},0.72675000000000001,{"$f":"'Site&Soil'!M260","v":0},0,0,0,{"$f":"DT10+IF(DV9-DW9=0,0,(DU9*(1-DW9/DV9)))","v":0},{"$f":"DV9-DW9+DS10","v":0},0,0,0,4.7,0,0,0,null,null,null,null,null,null,null,null,null,{"$f":"pH_Initial_B","v":4.4000000000000004},15]
[null,3,"Mar",null,null,null,null,{"$f":"T10+W10+X10","v":5.9101767535280043},{"$f":"'Site&Soil'!$F$173*EXP('Site&Soil'!$F$174*H11)","v":0},0.69468750000000001,{"$f":"'Site&Soil'!K219","v":0.20961138715109778},2.5114491698725945E-3,0,0,43476.423453994998,1.7778931864887744,1.0918882759256513E-2,1.3726610263570557E-3,1.3741749682986172E-2,5.9239185032109907,1.6615885199384835E-2,9.2439344716922135E-5,-1.3306608326322573E-4,null,null,{"$f":"AL10+AO10+AP10","v":4.5567933334952073},{"$f":"'Site&Soil'!$G$173*EXP('Site&Soil'!$G$174*Z11)","v":0},0.79087499999999999,{"$f":"'Site&Soil'!K240","v":0.36787944117144206},0.10195697311969323,0,0,7574.2994334557507,0.30973788286463488,7.7225264373735572E-2,7.8105406356318505E-3,8.9505149062065165E-2,4.6462984825572722,0,0,1.1688237043391451E-4,null,null,{"$f":"BD10+BG10+BH10","v":4.9001826088826368},{"$f":"'Site&Soil'!$H$173*EXP('Site&Soil'!$H$174*AR11)","v":0},0.72675000000000001,{"$f":"'Site&Soil'!K261","v":0.60037304119840451},7.5360859510006442E-2,0,0,7327.1007035266157,0.29962911809665105,5.5217660673413868E-2,5.6605248919709156E-3,7.8937291251564914E-2,4.9791199001342017,0.20285038742253095,3.6704298176410538E-4,-5.0504710253058873E-4,null,null,null,null,null,null,null,null,null,{"$f":"pH_Initial_C","v":4.7},25,null,null,null,null,null,null,null,null,null,null,null,5.9,{"$f":"'Site&Soil'!$F$173*EXP('Site&Soil'!$F$174*CD11)","v":0},0.69468750000000001,{"$f":"'Site&Soil'!M219","v":0},0,0,0,0,0,0,0,0,5.9,0,0,0,null,null,4.4000000000000004,{"$f":"'Site&Soil'!$G$173*EXP('Site&Soil'!$G$174*CV11)","v":0},0.79087499999999999,{"$f":"'Site&Soil'!M240","v":0},0,0,0,0,0,0,0,0,4.4000000000000004,0,0,0,null,null,4.7,{"$f":"'Site&Soil'!$H$173*EXP('Site&Soil'!$H$174*DN11)","v":0},0.72675000000000001,{"$f":"'Site&Soil'!M261","v":0},0,0,0,0,0,0,0,0,4.7,0,0,0,null,null,null,null,null,null,null,null,null,{"$f":"pH_Initial_C","v":4.7},25]
[null,4,"Apr",null,null,null,null,5.9237854371277274,{"$f":"'Site&Soil'!$F$173*EXP('Site&Soil'!$F$174*H12)","v":0},0.69468750000000001,{"$f":"'Site&Soil'!K220","v":0.36787944117144233},4.2681663723411591E-3,0,0,43209.414179144522,1.7669743037295178,1.8442496856798593E-2,2.3335834183043492E-3,2.3188719299676822E-2,5.9469741564274043,3.2632359293162209E-2,3.3599139010482106E-4,-4.8365832133847388E-4,null,null,4.646415364927706,{"$f":"'Site&Soil'!$G$173*EXP('Site&Soil'!$G$174*Z12)","v":0},0.79087499999999999,{"$f":"'Site&Soil'!K241","v":0.52729242404304844},0.11885770092718621,0,0,5685.8404862171674,0.23251261849089933,6.758059280304872E-2,6.8527347267931049E-3,7.9736293971310199E-2,4.726151658899016,0,0,4.2483501198649733E-4,null,null,4.9786148530316714,{"$f":"'Site&Soil'!$H$173*EXP('Site&Soil'!$H$174*AR12)","v":0},0.72675000000000001,{"$f":"'Site&Soil'!K262","v":0.72142229035475613},7.5555374085208349E-2,0,0,5976.8135120235584,0.24441145742323717,4.5158038073846787E-2,4.6517446377636173E-3,6.5165501428106329E-2,5.0437803544597779,0.24984237260364348,6.3042874479962284E-4,-8.6746301314017586E-4,null,null,null,null,null,null,null,null,1,{"$f":"VLOOKUP(BP12,$BJ$9:$BM$248,2,FALSE)","v":6.0348634020002931},null,5,null,null,null,null,null,null,null,null,null,null,5.9,{"$f":"'Site&Soil'!$F$173*EXP('Site&Soil'!$F$174*CD12)","v":0},0.69468750000000001,{"$f":"'Site&Soil'!M220","v":0},0,0,0,0,0,0,0,0,5.9,0,0,0,null,null,4.4000000000000004,{"$f":"'Site&Soil'!$G$173*EXP('Site&Soil'!$G$174*CV12)","v":0},0.79087499999999999,{"$f":"'Site&Soil'!M241","v":0},0,0,0,0,0,0,0,0,4.4000000000000004,0,0,0,null,null,4.7,{"$f":"'Site&Soil'!$H$173*EXP('Site&Soil'!$H$174*DN12)","v":0},0.72675000000000001,{"$f":"'Site&Soil'!M262","v":0},0,0,0,0,0,0,0,0,4.7,0,0,0,null,null,null,null,null,null,null,null,1,{"$f":"VLOOKUP(EL12,$EF$9:$EI$248,2,FALSE)","v":5.8999999999999995},null,5]
[null,5,"May",null,null,null,null,5.9464904981060656,{"$f":"'Site&Soil'!$F$173*EXP('Site&Soil'!$F$174*H13)","v":0},0.69468750000000001,{"$f":"'Site&Soil'!K221","v":0.56978282473092301},6.2647585123962873E-3,0,0,42758.42319217827,1.7485318068727191,2.6787119566984166E-2,3.4275993405763795E-3,3.3625940047010756E-2,5.9801164381530763,5.5655888129464912E-2,9.5793691490289514E-4,-1.3789465261760073E-3,null,null,4.7265764939110024,{"$f":"'Site&Soil'!$G$173*EXP('Site&Soil'!$G$174*Z13)","v":0},0.79087499999999999,{"$f":"'Site&Soil'!K242","v":0.69767632607103081},0.13072092992515016,0,0,4033.2313799411963,0.16493202568785059,5.272277565892098E-2,5.3611106540672627E-3,6.4219079305111559E-2,4.7907955732161138,0,0,1.2112368135329796E-3,null,null,5.0429128914466377,{"$f":"'Site&Soil'!$H$173*EXP('Site&Soil'!$H$174*AR13)","v":0},0.72675000000000001,{"$f":"'Site&Soil'!K263","v":0.83220750069030147},7.5127699285725991E-2,0,0,4872.5233327425394,0.19925341934939039,3.6606146770496492E-2,3.7883958611055588E-3,5.2533693241772539E-2,5.0954465846884105,0.28739080542230222,9.4221731288586855E-4,-1.2964806506857497E-3,null,null,null,null,null,null,null,null,1,{"$f":"VLOOKUP(BP13,$BJ$9:$BM$248,3,FALSE)","v":4.8490735190892549},null,15,null,null,null,null,null,null,null,null,null,null,5.9,{"$f":"'Site&Soil'!$F$173*EXP('Site&Soil'!$F$174*CD13)","v":0},0.69468750000000001,{"$f":"'Site&Soil'!M221","v":0},0,0,0,0,0,0,0,0,5.9,0,0,0,null,null,4.4000000000000004,{"$f":"'Site&Soil'!$G$173*EXP('Site&Soil'!$G$174*CV13)","v":0},0.79087499999999999,{"$f":"'Site&Soil'!M242","v":0},0,0,0,0,0,0,0,0,4.4000000000000004,0,0,0,null,null,4.7,{"$f":"'Site&Soil'!$H$173*EXP('Site&Soil'!$H$174*DN13)","v":0},0.72675000000000001,{"$f":"'Site&Soil'!M263","v":0},0,0,0,0,0,0,0,0,4.7,0,0,0,null,null,null,null,null,null,null,null,1,{"$f":"VLOOKUP(EL13,$EF$9:$EI$248,3,FALSE)","v":4.3999999999999995},null,15]
[null,6,"Jun",null,null,null,null,5.9787374916268998,{"$f":"'Site&Soil'!$F$173*EXP('Site&Soil'!$F$174*H14)","v":0},0.69468750000000001,{"$f":"'Site&Soil'!K222","v":0.77880078307140521},7.9325083776587216E-3,0,0,42103.373630001239,1.7217446873057349,3.3398536404768017E-2,4.3455454822987124E-3,4.1821669344085363E-2,6.0205591609709854,8.3750942137031187E-2,2.1625952349219788E-3,-3.1130475716375761E-3,null,null,4.7920068100296467,{"$f":"'Site&Soil'!$G$173*EXP('Site&Soil'!$G$174*Z14)","v":0},0.79087499999999999,{"$f":"'Site&Soil'!K243","v":0.85214378896621112},0.13729493309038168,0,0,2743.9538588634696,0.11220925002892962,3.7673096145575465E-2,3.8411065154527664E-3,4.8272527406254352E-2,4.8402793374359012,0,0,2.7344336777897632E-3,null,null,5.0941501040377251,{"$f":"'Site&Soil'!$H$173*EXP('Site&Soil'!$H$174*AR14)","v":0},0.72675000000000001,{"$f":"'Site&Soil'!K264","v":0.92161044729772479},7.3907430142311839E-2,0,0,3977.360254269689,0.16264727257889389,2.9395647514324469E-2,3.0550251720054952E-3,4.1529726670480549E-2,5.1356798307082059,0.31663031696718852,1.2611876682821091E-3,-1.7353803485133941E-3,null,null,null,null,null,null,null,null,1,{"$f":"VLOOKUP(BP14,$BJ$9:$BM$248,4,FALSE)","v":5.1374347314390603},null,25,null,null,null,null,null,null,null,null,null,null,5.9,{"$f":"'Site&Soil'!$F$173*EXP('Site&Soil'!$F$174*CD14)","v":0},0.69468750000000001,{"$f":"'Site&Soil'!M222","v":0},0,0,0,0,0,0,0,0,5.9,0,0,0,null,null,4.4000000000000004,{"$f":"'Site&Soil'!$G$173*EXP('Site&Soil'!$G$174*CV14)","v":0},0.79087499999999999,{"$f":"'Site&Soil'!M243","v":0},0,0,0,0,0,0,0,0,4.4000000000000004,0,0,0,null,null,4.7,{"$f":"'Site&Soil'!$H$173*EXP('Site&Soil'!$H$174*DN14)","v":0},0.72675000000000001,{"$f":"'Site&Soil'!M264","v":0},0,0,0,0,0,0,0,0,4.7,0,0,0,null,null,null,null,null,null,null,null,1,{"$f":"VLOOKUP(EL14,$EF$9:$EI$248,4,FALSE)","v":4.7},null,25]
[null,7,"Jul",null,null,null,null,6.0174461133993482,{"$f":"'Site&Soil'!$F$173*EXP('Site&Soil'!$F$174*H15)","v":0},0.69468750000000001,{"$f":"'Site&Soil'!K223","v":0.93941306281347592},8.7271682769367257E-3,0,0,41286.649136925778,1.688346150900967,3.6031553460879572E-2,4.7892766328499984E-3,4.4973138034050668E-2,6.0624192514333988,0.11283062373013897,3.8699275562942823E-3,-5.5707459199917696E-3,null,null,4.8430137711136911,{"$f":"'Site&Soil'!$G$173*EXP('Site&Soil'!$G$174*Z15)","v":0},0.79087499999999999,{"$f":"'Site&Soil'!K244","v":0.96078943915232284},0.13761210719218611,0,0,1822.6997063106739,7.4536153883354161E-2,2.5082554736399063E-2,2.5635122493479303E-3,3.45292481364326E-2,4.8775430192501235,0,0,4.8932227675603382E-3,null,null,5.1339444503596923,{"$f":"'Site&Soil'!$H$173*EXP('Site&Soil'!$H$174*AR15)","v":0},0.72675000000000001,{"$f":"'Site&Soil'!K265","v":0.97979867385370423},7.1666937649539852E-2,0,0,3258.5220086711724,0.13325162506456942,2.3352829362509028E-2,2.4358102219155528E-3,3.230895272093761E-2,5.1662534030806295,0.33884966068884737,1.539562433657592E-3,-2.118420961345156E-3,null,null,null,null,null,null,null,null,2,{"$f":"VLOOKUP(BP15,$BJ$9:$BM$248,2,FALSE)","v":6.1700408465874261},null,null,5,null,null,null,null,null,null,null,null,null,5.9,{"$f":"'Site&Soil'!$F$173*EXP('Site&Soil'!$F$174*CD15)","v":0},0.69468750000000001,{"$f":"'Site&Soil'!M223","v":0},0,0,0,0,0,0,0,0,5.9,0,0,0,null,null,4.4000000000000004,{"$f":"'Site&Soil'!$G$173*EXP('Site&Soil'!$G$174*CV15)","v":0},0.79087499999999999,{"$f":"'Site&Soil'!M244","v":0},0,0,0,0,0,0,0,0,4.4000000000000004,0,0,0,null,null,4.7,{"$f":"'Site&Soil'!$H$173*EXP('Site&Soil'!$H$174*DN15)","v":0},0.72675000000000001,{"$f":"'Site&Soil'!M265","v":0},0,0,0,0,0,0,0,0,4.7,0,0,0,null,null,null,null,null,null,null,null,2,{"$f":"VLOOKUP(EL15,$EF$9:$EI$248,2,FALSE)","v":{"$error":"#VALUE!"}},null,null,5]
[null,8,"Aug",null,null,null,null,6.0568485055134067,{"$f":"'Site&Soil'!$F$173*EXP('Site&Soil'!$F$174*H16)","v":0},0.69468750000000001,{"$f":"'Site&Soil'!K224","v":1},8.4568402117812091E-3,0,0,40405.537106194482,1.6523145974400875,3.4170317097828327E-2,4.6487106466472083E-3,4.2496239605838766E-2,6.0993447451192457,0.13848230262502578,5.5047680137036686E-3,-7.9240925073557084E-3,null,null,4.8824362420176834,{"$f":"'Site&Soil'!$G$173*EXP('Site&Soil'!$G$174*Z16)","v":0},0.79087499999999999,{"$f":"'Site&Soil'!K245","v":1},0.13077201988502082,0,0,1209.3334032531993,4.9453599146955102E-2,1.581469718578473E-2,1.6196199452456757E-3,2.3826505942388193E-2,4.9062627479600716,0,0,6.9603515267313652E-3,null,null,5.1641349821192843,{"$f":"'Site&Soil'!$H$173*EXP('Site&Soil'!$H$174*AR16)","v":0},0.72675000000000001,{"$f":"'Site&Soil'!K266","v":1},6.8211292680031538E-2,0,0,2687.4542381610227,0.10989879570206039,1.8331472760339272E-2,1.917739869506859E-3,2.4813694992883505E-2,5.188948677112168,0.35534345109126797,1.7361889707229216E-3,-2.388976911899445E-3,null,null,null,null,null,null,null,null,2,{"$f":"VLOOKUP(BP16,$BJ$9:$BM$248,3,FALSE)","v":4.9847274304607447},null,null,15,null,null,null,null,null,null,null,null,null,5.9,{"$f":"'Site&Soil'!$F$173*EXP('Site&Soil'!$F$174*CD16)","v":0},0.69468750000000001,{"$f":"'Site&Soil'!M224","v":0},0,0,0,0,0,0,0,0,5.9,0,0,0,null,null,4.4000000000000004,{"$f":"'Site&Soil'!$G$173*EXP('Site&Soil'!$G$174*CV16)","v":0},0.79087499999999999,{"$f":"'Site&Soil'!M245","v":0},0,0,0,0,0,0,0,0,4.4000000000000004,0,0,0,null,null,4.7,{"$f":"'Site&Soil'!$H$173*EXP('Site&Soil'!$H$174*DN16)","v":0},0.72675000000000001,{"$f":"'Site&Soil'!M266","v":0},0,0,0,0,0,0,0,0,4.7,0,0,0,null,null,null,null,null,null,null,null,2,{"$f":"VLOOKUP(EL16,$EF$9:$EI$248,3,FALSE)","v":{"$error":"#VALUE!"}},null,null,15]
[null,9,"Sep",null,null,null,null,6.0914206526118901,{"$f":"'Site&Soil'!$F$173*EXP('Site&Soil'!$F$174*H17)","v":0},0.69468750000000001,{"$f":"'Site&Soil'!K225","v":0.93941306281347592},7.3138302178411526E-3,0,0,39569.939564681634,1.6181442803422592,2.8940781970631674E-2,4.0236944023025606E-3,3.5868052280095888E-2,6.1272887048919857,0.15789462217965111,6.2880015220786803E-3,-9.0515541478415548E-3,null,null,4.9132230994868031,{"$f":"'Site&Soil'!$G$173*EXP('Site&Soil'!$G$174*Z17)","v":0},0.79087499999999999,{"$f":"'Site&Soil'!K246","v":0.96078943915232284},0.11702510471849091,0,0,822.60236852564094,3.3638901961170371E-2,9.6265128318391794E-3,9.875795505238801E-4,1.6010909035710903E-2,4.9292340085225144,0,0,7.9506894541851499E-3,null,null,5.1865597002002684,{"$f":"'Site&Soil'!$H$173*EXP('Site&Soil'!$H$174*AR17)","v":0},0.72675000000000001,{"$f":"'Site&Soil'!K267","v":0.97979867385370423},6.3454394488731344E-2,0,0,2239.1782234259176,9.1567322941721124E-2,1.420856983198448E-2,1.4898984590284387E-3,1.8859650393505224E-2,5.2054193505937736,0.36731351304402482,1.8263882469062556E-3,-2.5130901230220235E-3,null,null,null,null,null,null,null,null,2,{"$f":"VLOOKUP(BP17,$BJ$9:$BM$248,4,FALSE)","v":5.2290580661793822},null,null,25,null,null,null,null,null,null,null,null,null,5.9,{"$f":"'Site&Soil'!$F$173*EXP('Site&Soil'!$F$174*CD17)","v":0},0.69468750000000001,{"$f":"'Site&Soil'!M225","v":0},0,0,0,0,0,0,0,0,5.9,0,0,0,null,null,4.4000000000000004,{"$f":"'Site&Soil'!$G$173*EXP('Site&Soil'!$G$174*CV17)","v":0},0.79087499999999999,{"$f":"'Site&Soil'!M246","v":0},0,0,0,0,0,0,0,0,4.4000000000000004,0,0,0,null,null,4.7,{"$f":"'Site&Soil'!$H$173*EXP('Site&Soil'!$H$174*DN17)","v":0},0.72675000000000001,{"$f":"'Site&Soil'!M267","v":0},0,0,0,0,0,0,0,0,4.7,0,0,0,null,null,null,null,null,null,null,null,2,{"$f":"VLOOKUP(EL17,$EF$9:$EI$248,4,FALSE)","v":{"$error":"#VALUE!"}},null,null,25]
[null,10,"Oct",null,null,null,null,6.118237150744144,{"$f":"'Site&Soil'!$F$173*EXP('Site&Soil'!$F$174*H18)","v":0},0.69468750000000001,{"$f":"'Site&Soil'!K226","v":0.77880078307140521},5.6855588436675025E-3,0,0,38862.224555924629,1.5892034983716274,2.2095346450852968E-2,3.1268907729343895E-3,2.7305019419405958E-2,6.1455421701635498,0.17057507633549074,5.8733262284227953E-3,-8.4546306482019551E-3,{"$f":"-'Profit Calculator'!$F$29*'Quantity of Lime to Apply'!$H$9","v":-4.0091240506329125E-2},null,4.9371846979766998,{"$f":"'Site&Soil'!$G$173*EXP('Site&Soil'!$G$174*Z18)","v":0},0.79087499999999999,{"$f":"'Site&Soil'!K247","v":0.85214378896621112},9.8206026283585046E-2,0,0,587.19657955981484,2.4012389129331194E-2,5.7666242725882416E-3,5.9244240381390906E-4,1.0496061503662049E-2,4.9476807594803622,0,0,7.4263647585557707E-3,{"$f":"-'Profit Calculator'!$F$29*'Quantity of Lime to Apply'!$H$19","v":-4.0091240506329125E-2},null,5.2029062604707512,{"$f":"'Site&Soil'!$H$173*EXP('Site&Soil'!$H$174*AR18)","v":0},0.72675000000000001,{"$f":"'Site&Soil'!K268","v":0.92161044729772479},5.7470415758052569E-2,0,0,1891.7232675345524,7.7358753109736639E-2,1.0871812268439245E-2,1.1420352145660483E-3,1.4203260347694676E-2,5.2171095208184459,0.37580934425480544,1.8056122162865536E-3,-2.4845025335900289E-3,{"$f":"-0.02","v":-0.02},null,1,{"$f":"AVERAGE(H13:H18)","v":6.0348634020002931},{"$f":"AVERAGE(Z13:Z18)","v":4.8490735190892549},{"$f":"AVERAGE(AR13:AR18)","v":5.1374347314390603},null,null,5,{"$f":"VLOOKUP(BP18,$BJ$9:$BM$248,2,FALSE)","v":6.1894611205655856},null,null,null,5,null,null,null,null,null,null,null,null,5.9,{"$f":"'Site&Soil'!$F$173*EXP('Site&Soil'!$F$174*CD18)","v":0},0.69468750000000001,{"$f":"'Site&Soil'!M226","v":0},0,0,0,0,0,0,0,0,5.9,0,0,0,{"$error":"#VALUE!"},null,4.4000000000000004,{"$f":"'Site&Soil'!$G$173*EXP('Site&Soil'!$G$174*CV18)","v":0},0.79087499999999999,{"$f":"'Site&Soil'!M247","v":0},0,0,0,0,0,0,0,0,4.4000000000000004,0,0,0,{"$error":"#VALUE!"},null,4.7,{"$f":"'Site&Soil'!$H$173*EXP('Site&Soil'!$H$174*DN18)","v":0},0.72675000000000001,{"$f":"'Site&Soil'!M268","v":0},0,0,0,0,0,0,0,0,4.7,0,0,0,{"$error":"#VALUE!"},null,1,{"$f":"AVERAGE(CD13:CD18)","v":5.8999999999999995},{"$f":"AVERAGE(CV13:CV18)","v":4.3999999999999995},{"$f":"AVERAGE(DN13:DN18)","v":4.7},null,null,5,{"$f":"VLOOKUP(EL18,$EF$9:$EI$248,2,FALSE)","v":{"$error":"#VALUE!"}},null,null,null,5]
[null,11,"Nov",null,null,null,null,6.0969962990090192,{"$f":"'Site&Soil'!$F$173*EXP('Site&Soil'!$F$174*H19)","v":0},0.69468750000000001,{"$f":"'Site&Soil'!K227","v":0.56978282473092301},4.3771758984976214E-3,0,0,38321.90714767966,1.5671081519207746,1.6774172835128713E-2,2.3406064337188888E-3,2.0777063645754133E-2,6.1177733626547735,0.15128443286923768,3.5750075071462103E-3,-5.1462096369176216E-3,null,null,4.9150158837325888,{"$f":"'Site&Soil'!$G$173*EXP('Site&Soil'!$G$174*Z19)","v":0},0.79087499999999999,{"$f":"'Site&Soil'!K248","v":0.69767632607103081},8.4626690216606584E-2,0,0,446.18012217056491,1.8245764856742952E-2,3.7758746979736075E-3,3.8740570558472298E-4,7.2439708248557277E-3,4.9222598545574447,0,0,4.5203192756708838E-3,null,null,5.1946250182848566,{"$f":"'Site&Soil'!$H$173*EXP('Site&Soil'!$H$174*AR19)","v":0},0.72675000000000001,{"$f":"'Site&Soil'!K269","v":0.83220750069030147},5.2899481215099201E-2,0,0,1625.8650497928609,6.6486940841297387E-2,8.6007417659803766E-3,9.0264979126510839E-4,1.1125555803646358E-2,5.2057505740885031,0.36755422971881946,1.5534726969717151E-3,-2.1375613305424355E-3,null,null,null,null,null,null,null,null,5,{"$f":"VLOOKUP(BP19,$BJ$9:$BM$248,3,FALSE)","v":5.2004620852414476},null,null,null,15,null,null,null,null,null,null,null,null,{"$error":"#VALUE!"},{"$f":"'Site&Soil'!$F$173*EXP('Site&Soil'!$F$174*CD19)","v":{"$error":"#VALUE!"}},{"$error":"#VALUE!"},{"$f":"'Site&Soil'!M227","v":0},{"$error":"#VALUE!"},0,0,0,0,{"$error":"#VALUE!"},{"$error":"#VALUE!"},{"$error":"#VALUE!"},{"$error":"#VALUE!"},{"$error":"#VALUE!"},{"$error":"#VALUE!"},{"$error":"#VALUE!"},null,null,{"$error":"#VALUE!"},{"$f":"'Site&Soil'!$G$173*EXP('Site&Soil'!$G$174*CV19)","v":{"$error":"#VALUE!"}},{"$error":"#VALUE!"},{"$f":"'Site&Soil'!M248","v":0},{"$error":"#VALUE!"},0,0,0,0,{"$error":"#VALUE!"},{"$error":"#VALUE!"},{"$error":"#VALUE!"},{"$error":"#VALUE!"},{"$error":"#VALUE!"},{"$error":"#VALUE!"},{"$error":"#VALUE!"},null,null,{"$error":"#VALUE!"},{"$f":"'Site&Soil'!$H$173*EXP('Site&Soil'!$H$174*DN19)","v":{"$error":"#VALUE!"}},{"$error":"#VALUE!"},{"$f":"'Site&Soil'!M269","v":0},{"$error":"#VALUE!"},0,0,0,0,{"$error":"#VALUE!"},{"$error":"#VALUE!"},{"$error":"#VALUE!"},{"$error":"#VALUE!"},{"$error":"#VALUE!"},{"$error":"#VALUE!"},{"$error":"#VALUE!"},null,null,null,null,null,null,null,null,5,{"$f":"VLOOKUP(EL19,$EF$9:$EI$248,3,FALSE)","v":{"$error":"#VALUE!"}},null,null,null,15]
[null,12,"Dec",null,null,null,null,6.112627153017856,{"$f":"'Site&Soil'!$F$173*EXP('Site&Soil'!$F$174*H20)","v":0},0.69468750000000001,{"$f":"'Site&Soil'!K228","v":0.36787944117144233},2.7220974613298443E-3,0,0,37911.713190690134,1.5503339790856459,1.0319937823104279E-2,1.4549585898328272E-3,1.2761103709612524E-2,6.1253882567274687,0.15657440459536315,2.4311656094357426E-3,-3.4996535988278798E-3,null,null,4.9267801738331158,{"$f":"'Site&Soil'!$G$173*EXP('Site&Soil'!$G$174*Z20)","v":0},0.79087499999999999,{"$f":"'Site&Soil'!K249","v":0.52729242404304844},6.2245723689607797E-2,0,0,353.84525721586283,1.4469890158769344E-2,2.2025354109536798E-3,2.2613795310647976E-4,4.3386831644444792E-3,4.9311188569975606,0,0,3.0740200530244891E-3,null,null,5.2036130127579607,{"$f":"'Site&Soil'!$H$173*EXP('Site&Soil'!$H$174*AR20)","v":0},0.72675000000000001,{"$f":"'Site&Soil'!K270","v":0.72142229035475613},4.4913424249371635E-2,0,0,1415.5433646219365,5.7886199075317009E-2,6.3576899678648002E-3,6.6789911759742931E-4,8.1402529114191265E-3,5.2117532656693797,0.37191668582522158,1.3816196004797115E-3,-1.9010933615131909E-3,null,null,null,null,null,null,null,null,5,{"$f":"VLOOKUP(BP20,$BJ$9:$BM$248,4,FALSE)","v":5.2461322315711696},null,null,null,25,null,null,null,null,null,null,null,null,{"$error":"#VALUE!"},{"$f":"'Site&Soil'!$F$173*EXP('Site&Soil'!$F$174*CD20)","v":{"$error":"#VALUE!"}},{"$error":"#VALUE!"},{"$f":"'Site&Soil'!M228","v":0},{"$error":"#VALUE!"},0,0,{"$error":"#VALUE!"},{"$error":"#VALUE!"},{"$error":"#VALUE!"},{"$error":"#VALUE!"},{"$error":"#VALUE!"},{"$error":"#VALUE!"},{"$error":"#VALUE!"},{"$error":"#VALUE!"},{"$error":"#VALUE!"},null,null,{"$error":"#VALUE!"},{"$f":"'Site&Soil'!$G$173*EXP('Site&Soil'!$G$174*CV20)","v":{"$error":"#VALUE!"}},{"$error":"#VALUE!"},{"$f":"'Site&Soil'!M249","v":0},{"$error":"#VALUE!"},0,0,{"$error":"#VALUE!"},{"$error":"#VALUE!"},{"$error":"#VALUE!"},{"$error":"#VALUE!"},{"$error":"#VALUE!"},{"$error":"#VALUE!"},{"$error":"#VALUE!"},{"$error":"#VALUE!"},{"$error":"#VALUE!"},null,null,{"$error":"#VALUE!"},{"$f":"'Site&Soil'!$H$173*EXP('Site&Soil'!$H$174*DN20)","v":{"$error":"#VALUE!"}},{"$error":"#VALUE!"},{"$f":"'Site&Soil'!M270","v":0},{"$error":"#VALUE!"},0,0,{"$error":"#VALUE!"},{"$error":"#VALUE!"},{"$error":"#VALUE!"},{"$error":"#VALUE!"},{"$error":"#VALUE!"},{"$error":"#VALUE!"},{"$error":"#VALUE!"},{"$error":"#VALUE!"},{"$error":"#VALUE!"},null,null,null,null,null,null,null,null,5,{"$f":"VLOOKUP(EL20,$EF$9:$EI$248,4,FALSE)","v":{"$error":"#VALUE!"}},null,null,null,25]
[{"$f":"A9+1","v":2},13,"Jan",{"$f":"OFFSET(Apply_Lime!$H$16,$A21,0)","v":0},{"$f":"OFFSET(Apply_Lime!$I$16,$A21,0)*G21","v":0},{"$f":"OFFSET(Apply_Lime!$I$16,$A21,0)*(1-G21)","v":0},{"$f":"'Profit Calculator'!G28","v":0},6.1218886031286406,{"$f":"'Site&Soil'!$F$173*EXP('Site&Soil'!$F$174*H21)","v":0},0.69468750000000001,{"$f":"K9","v":4.6770622383959001E-2},3.3846176279515779E-4,0,0,37659.350455838619,1.5400140412625416,1.2746250141003768E-3,1.8082928641693907E-4,1.5745147676954568E-3,6.1234631178963363,0.15523703471361092,3.0509255186330194E-4,-4.3917956183651198E-4,null,null,4.9341928770505854,{"$f":"'Site&Soil'!$G$173*EXP('Site&Soil'!$G$174*Z21)","v":0},0.79087499999999999,{"$f":"AC9","v":0.14085842092104497},1.6345871222730315E-2,0,0,299.98467496786083,1.2267354747815665E-2,4.9035108658172636E-4,5.0367709302910298E-5,7.8496938668658786E-4,4.9349778464372722,0,0,3.8576583134288217E-4,null,null,5.2098521723078663,{"$f":"'Site&Soil'!$H$173*EXP('Site&Soil'!$H$174*AR21)","v":0},0.72675000000000001,{"$f":"AU9","v":0.36787944117144233},2.2574651153120226E-2,0,0,1260.0730454077675,5.1528509107452207E-2,2.8445709427530174E-3,2.9904083523704965E-4,3.5719268205282118E-3,5.2134240991283942,0.37313096404156038,7.0956291208641622E-4,-9.7635075622485895E-4,null,null,null,null,null,null,null,null,10,{"$f":"VLOOKUP(BP21,$BJ$9:$BM$248,2,FALSE)","v":6.1187160360455017},null,null,null,null,5,null,null,null,{"$f":"OFFSET(Apply_Lime!$O$16,$A21,0)","v":0},{"$f":"OFFSET(Apply_Lime!$P$16,$A21,0)*CA$7","v":0},{"$f":"OFFSET(Apply_Lime!$P$16,$A21,0)*CB$7","v":0},null,{"$error":"#VALUE!"},{"$f":"'Site&Soil'!$F$173*EXP('Site&Soil'!$F$174*CD21)","v":{"$error":"#VALUE!"}},{"$error":"#VALUE!"},{"$f":"CG9","v":0},{"$error":"#VALUE!"},0,0,{"$error":"#VALUE!"},{"$error":"#VALUE!"},{"$error":"#VALUE!"},{"$error":"#VALUE!"},{"$error":"#VALUE!"},{"$error":"#VALUE!"},{"$error":"#VALUE!"},{"$error":"#VALUE!"},{"$error":"#VALUE!"},null,null,{"$error":"#VALUE!"},{"$f":"'Site&Soil'!$G$173*EXP('Site&Soil'!$G$174*CV21)","v":{"$error":"#VALUE!"}},{"$error":"#VALUE!"},{"$f":"CY9","v":0},{"$error":"#VALUE!"},0,0,{"$error":"#VALUE!"},{"$error":"#VALUE!"},{"$error":"#VALUE!"},{"$error":"#VALUE!"},{"$error":"#VALUE!"},{"$error":"#VALUE!"},{"$error":"#VALUE!"},{"$error":"#VALUE!"},{"$error":"#VALUE!"},null,null,{"$error":"#VALUE!"},{"$f":"'Site&Soil'!$H$173*EXP('Site&Soil'!$H$174*DN21)","v":{"$error":"#VALUE!"}},{"$error":"#VALUE!"},{"$f":"DQ9","v":0},{"$error":"#VALUE!"},0,0,{"$error":"#VALUE!"},{"$error":"#VALUE!"},{"$error":"#VALUE!"},{"$error":"#VALUE!"},{"$error":"#VALUE!"},{"$error":"#VALUE!"},{"$error":"#VALUE!"},{"$error":"#VALUE!"},{"$error":"#VALUE!"},null,null,null,null,null,null,null,null,10,{"$f":"VLOOKUP(EL21,$EF$9:$EI$248,2,FALSE)","v":{"$error":"#VALUE!"}},null,null,null,null,5]
[null,14,"Feb",null,null,null,null,6.1230239383344998,{"$f":"'Site&Soil'!$F$173*EXP('Site&Soil'!$F$174*H22)","v":0},0.69468750000000001,0.1053992245618643,7.6065699522622605E-4,0,0,37628.180902302316,1.5387394162484411,2.8622139020974143E-3,4.0637201268673665E-4,3.5351750094980514E-3,6.1265591133439976,0.15738778405115811,7.0204920163873517E-4,-1.0105971413603026E-3,null,null,4.9353636122686151,{"$f":"'Site&Soil'!$G$173*EXP('Site&Soil'!$G$174*Z22)","v":0},0.79087499999999999,0.23692775868212174,2.7419988849609535E-2,0,0,287.99367818393324,1.1777003661233939E-2,7.8967834445614865E-4,8.1119693593201909E-5,1.4097432129599285E-3,4.9367733554815754,0,0,8.8768667822188734E-4,null,null,5.2124477483721696,{"$f":"'Site&Soil'!$H$173*EXP('Site&Soil'!$H$174*AR22)","v":0},0.72675000000000001,0.47965226883004436,2.9257218880994831E-2,0,0,1190.5121900133533,4.8683938164699188E-2,3.4831075723713184E-3,3.6627523662358092E-4,4.4003467895988154E-3,5.2168480951617688,0.37561935315881539,9.386907941723036E-4,-1.2916281997554916E-3,null,null,null,null,null,null,null,null,10,{"$f":"VLOOKUP(BP22,$BJ$9:$BM$248,3,FALSE)","v":5.3149419820679613},null,null,null,null,15,null,null,null,null,null,null,null,{"$error":"#VALUE!"},{"$f":"'Site&Soil'!$F$173*EXP('Site&Soil'!$F$174*CD22)","v":{"$error":"#VALUE!"}},{"$error":"#VALUE!"},0,{"$error":"#VALUE!"},0,0,{"$error":"#VALUE!"},{"$error":"#VALUE!"},{"$error":"#VALUE!"},{"$error":"#VALUE!"},{"$error":"#VALUE!"},{"$error":"#VALUE!"},{"$error":"#VALUE!"},{"$error":"#VALUE!"},{"$error":"#VALUE!"},null,null,{"$error":"#VALUE!"},{"$f":"'Site&Soil'!$G$173*EXP('Site&Soil'!$G$174*CV22)","v":{"$error":"#VALUE!"}},{"$error":"#VALUE!"},0,{"$error":"#VALUE!"},0,0,{"$error":"#VALUE!"},{"$error":"#VALUE!"},{"$error":"#VALUE!"},{"$error":"#VALUE!"},{"$error":"#VALUE!"},{"$error":"#VALUE!"},{"$error":"#VALUE!"},{"$error":"#VALUE!"},{"$error":"#VALUE!"},null,null,{"$error":"#VALUE!"},{"$f":"'Site&Soil'!$H$173*EXP('Site&Soil'!$H$174*DN22)","v":{"$error":"#VALUE!"}},{"$error":"#VALUE!"},0,{"$error":"#VALUE!"},0,0,{"$error":"#VALUE!"},{"$error":"#VALUE!"},{"$error":"#VALUE!"},{"$error":"#VALUE!"},{"$error":"#VALUE!"},{"$error":"#VALUE!"},{"$error":"#VALUE!"},{"$error":"#VALUE!"},{"$error":"#VALUE!"},null,null,null,null,null,null,null,null,10,{"$f":"VLOOKUP(EL22,$EF$9:$EI$248,3,FALSE)","v":{"$error":"#VALUE!"}},null,null,null,null,15]
[null,15,"Mar",null,null,null,null,6.1255485162026373,{"$f":"'Site&Soil'!$F$173*EXP('Site&Soil'!$F$174*H23)","v":0},0.69468750000000001,0.20961138715109778,1.5035946948152811E-3,0,0,37558.188607731878,1.5358772023463436,5.6472293137457379E-3,8.0316558115555044E-4,6.9730112210025187E-3,6.1325215274236395,0.16152979858210936,1.4527438680557853E-3,-2.091219243265188E-3,null,null,4.9376610421597968,{"$f":"'Site&Soil'!$G$173*EXP('Site&Soil'!$G$174*Z23)","v":0},0.79087499999999999,0.36787944117144206,4.234997143667734E-2,0,0,268.68296235638149,1.0987325316777791E-2,1.137871578131461E-3,1.1690428334122321E-4,2.3064743176175609E-3,4.9399675164774148,0,0,1.8368817677329354E-3,null,null,5.2155564669620134,{"$f":"'Site&Soil'!$H$173*EXP('Site&Soil'!$H$174*AR23)","v":0},0.72675000000000001,0.60037304119840451,3.6358237902869704E-2,0,0,1105.3366232790534,4.5200830592327872E-2,4.018809191193449E-3,4.2275723472287916E-4,5.1089869140857136E-3,5.2206654538760988,0.3783936186044547,1.1940717955015827E-3,-1.6430296463730068E-3,null,null,null,null,null,null,null,null,10,{"$f":"VLOOKUP(BP23,$BJ$9:$BM$248,4,FALSE)","v":5.2643588736392486},null,null,null,null,25,null,null,null,null,null,null,null,{"$error":"#VALUE!"},{"$f":"'Site&Soil'!$F$173*EXP('Site&Soil'!$F$174*CD23)","v":{"$error":"#VALUE!"}},{"$error":"#VALUE!"},0,{"$error":"#VALUE!"},0,0,{"$error":"#VALUE!"},{"$error":"#VALUE!"},{"$error":"#VALUE!"},{"$error":"#VALUE!"},{"$error":"#VALUE!"},{"$error":"#VALUE!"},{"$error":"#VALUE!"},{"$error":"#VALUE!"},{"$error":"#VALUE!"},null,null,{"$error":"#VALUE!"},{"$f":"'Site&Soil'!$G$173*EXP('Site&Soil'!$G$174*CV23)","v":{"$error":"#VALUE!"}},{"$error":"#VALUE!"},0,{"$error":"#VALUE!"},0,0,{"$error":"#VALUE!"},{"$error":"#VALUE!"},{"$error":"#VALUE!"},{"$error":"#VALUE!"},{"$error":"#VALUE!"},{"$error":"#VALUE!"},{"$error":"#VALUE!"},{"$error":"#VALUE!"},{"$error":"#VALUE!"},null,null,{"$error":"#VALUE!"},{"$f":"'Site&Soil'!$H$173*EXP('Site&Soil'!$H$174*DN23)","v":{"$error":"#VALUE!"}},{"$error":"#VALUE!"},0,{"$error":"#VALUE!"},0,0,{"$error":"#VALUE!"},{"$error":"#VALUE!"},{"$error":"#VALUE!"},{"$error":"#VALUE!"},{"$error":"#VALUE!"},{"$error":"#VALUE!"},{"$error":"#VALUE!"},{"$error":"#VALUE!"},{"$error":"#VALUE!"},null,null,null,null,null,null,null,null,10,{"$f":"VLOOKUP(EL23,$EF$9:$EI$248,4,FALSE)","v":{"$error":"#VALUE!"}},null,null,null,null,25]
[null,16,"Apr",null,null,null,null,6.1304303081803742,{"$f":"'Site&Soil'!$F$173*EXP('Site&Soil'!$F$174*H24)","v":0},0.69468750000000001,0.36787944117144233,2.6080935211894546E-3,0,0,37420.091822811344,1.5302299730325979,9.7595099045388756E-3,1.3926843981397594E-3,1.2044013324551135E-2,6.1424743215049249,0.16844388022045226,2.7204144732929118E-3,-3.9160262323604663E-3,null,null,4.9418043982451474,{"$f":"'Site&Soil'!$G$173*EXP('Site&Soil'!$G$174*Z24)","v":0},0.79087499999999999,0.52729242404304844,6.0123512244156928E-2,0,0,240.85756376491148,9.8494537386463292E-3,1.4481202684117464E-3,1.4881708687540488E-4,3.4038091729743647E-3,4.9452082074181218,0,0,3.4397527716679777E-3,null,null,5.2190224242297258,{"$f":"'Site&Soil'!$H$173*EXP('Site&Soil'!$H$174*AR24)","v":0},0.72675000000000001,0.72142229035475613,4.3339816954450862E-2,0,0,1007.0610623483085,4.1182021401134423E-2,4.3645842104130519E-3,4.593125830365938E-4,5.5783814437590142E-3,5.2246008056734849,0.38125363552320507,1.4588288932943113E-3,-2.0073324985129841E-3,null,null,null,null,null,null,null,null,15,{"$f":"VLOOKUP(BP24,$BJ$9:$BM$248,2,FALSE)","v":6.138264996532155},null,null,null,null,null,5,null,null,null,null,null,null,{"$error":"#VALUE!"},{"$f":"'Site&Soil'!$F$173*EXP('Site&Soil'!$F$174*CD24)","v":{"$error":"#VALUE!"}},{"$error":"#VALUE!"},0,{"$error":"#VALUE!"},0,0,{"$error":"#VALUE!"},{"$error":"#VALUE!"},{"$error":"#VALUE!"},{"$error":"#VALUE!"},{"$error":"#VALUE!"},{"$error":"#VALUE!"},{"$error":"#VALUE!"},{"$error":"#VALUE!"},{"$error":"#VALUE!"},null,null,{"$error":"#VALUE!"},{"$f":"'Site&Soil'!$G$173*EXP('Site&Soil'!$G$174*CV24)","v":{"$error":"#VALUE!"}},{"$error":"#VALUE!"},0,{"$error":"#VALUE!"},0,0,{"$error":"#VALUE!"},{"$error":"#VALUE!"},{"$error":"#VALUE!"},{"$error":"#VALUE!"},{"$error":"#VALUE!"},{"$error":"#VALUE!"},{"$error":"#VALUE!"},{"$error":"#VALUE!"},{"$error":"#VALUE!"},null,null,{"$error":"#VALUE!"},{"$f":"'Site&Soil'!$H$173*EXP('Site&Soil'!$H$174*DN24)","v":{"$error":"#VALUE!"}},{"$error":"#VALUE!"},0,{"$error":"#VALUE!"},0,0,{"$error":"#VALUE!"},{"$error":"#VALUE!"},{"$error":"#VALUE!"},{"$error":"#VALUE!"},{"$error":"#VALUE!"},{"$error":"#VALUE!"},{"$error":"#VALUE!"},{"$error":"#VALUE!"},{"$error":"#VALUE!"},null,null,null,null,null,null,null,null,15,{"$f":"VLOOKUP(EL24,$EF$9:$EI$248,2,FALSE)","v":{"$error":"#VALUE!"}},null,null,null,null,null,5]
[null,17,"May",null,null,null,null,6.1385582952725644,{"$f":"'Site&Soil'!$F$173*EXP('Site&Soil'!$F$174*H25)","v":0},0.69468750000000001,0.56978282473092301,3.9612558449528511E-3,0,0,37181.433736635103,1.520470463128059,1.4728517171297294E-2,2.1136440705678814E-3,1.8159061593492631E-2,6.1567173568660571,0.17833833884788883,4.6096868965450136E-3,-6.6356266616932266E-3,null,null,4.9486479601897901,{"$f":"'Site&Soil'!$G$173*EXP('Site&Soil'!$G$174*Z25)","v":0},0.79087499999999999,0.69767632607103081,7.8304028445446927E-2,0,0,205.44537450616184,8.4013334702345826E-3,1.6087200449315994E-3,1.6539190040308307E-4,4.4975150499085162E-3,4.9531454752396984,0,0,5.8285909866224294E-3,null,null,5.2225934731749719,{"$f":"'Site&Soil'!$H$173*EXP('Site&Soil'!$H$174*AR25)","v":0},0.72675000000000001,0.83220750069030147,4.9583732659643297E-2,0,0,900.32995342983907,3.6817437190721371E-2,4.4641719716334242E-3,4.6998582993388189E-4,5.7235335976644304E-3,5.2283170067726363,0.38395438467201332,1.7093392460362331E-3,-2.3520319862899665E-3,null,null,null,null,null,null,null,null,15,{"$f":"VLOOKUP(BP25,$BJ$9:$BM$248,3,FALSE)","v":5.544580869550404},null,null,null,null,null,15,null,null,null,null,null,null,{"$error":"#VALUE!"},{"$f":"'Site&Soil'!$F$173*EXP('Site&Soil'!$F$174*CD25)","v":{"$error":"#VALUE!"}},{"$error":"#VALUE!"},0,{"$error":"#VALUE!"},0,0,{"$error":"#VALUE!"},{"$error":"#VALUE!"},{"$error":"#VALUE!"},{"$error":"#VALUE!"},{"$error":"#VALUE!"},{"$error":"#VALUE!"},{"$error":"#VALUE!"},{"$error":"#VALUE!"},{"$error":"#VALUE!"},null,null,{"$error":"#VALUE!"},{"$f":"'Site&Soil'!$G$173*EXP('Site&Soil'!$G$174*CV25)","v":{"$error":"#VALUE!"}},{"$error":"#VALUE!"},0,{"$error":"#VALUE!"},0,0,{"$error":"#VALUE!"},{"$error":"#VALUE!"},{"$error":"#VALUE!"},{"$error":"#VALUE!"},{"$error":"#VALUE!"},{"$error":"#VALUE!"},{"$error":"#VALUE!"},{"$error":"#VALUE!"},{"$error":"#VALUE!"},null,null,{"$error":"#VALUE!"},{"$f":"'Site&Soil'!$H$173*EXP('Site&Soil'!$H$174*DN25)","v":{"$error":"#VALUE!"}},{"$error":"#VALUE!"},0,{"$error":"#VALUE!"},0,0,{"$error":"#VALUE!"},{"$error":"#VALUE!"},{"$error":"#VALUE!"},{"$error":"#VALUE!"},{"$error":"#VALUE!"},{"$error":"#VALUE!"},{"$error":"#VALUE!"},{"$error":"#VALUE!"},{"$error":"#VALUE!"},null,null,null,null,null,null,null,null,15,{"$f":"VLOOKUP(EL25,$EF$9:$EI$248,3,FALSE)","v":{"$error":"#VALUE!"}},null,null,null,null,null,15]
[null,18,"Jun",null,null,null,null,6.1500817302043638,{"$f":"'Site&Soil'!$F$173*EXP('Site&Soil'!$F$174*H26)","v":0},0.69468750000000001,0.77880078307140521,5.2661713910142254E-3,0,0,36821.264040134156,1.5057419459567618,1.9390708726913536E-2,2.8053850325124646E-3,2.3874510041423044E-2,6.1739562402457864,0.19031397564574448,6.9960563925595392E-3,-1.0070796426536448E-2,null,null,4.9589740662263209,{"$f":"'Site&Soil'!$G$173*EXP('Site&Soil'!$G$174*Z26)","v":0},0.79087499999999999,0.85214378896621112,9.3387221000546514E-2,0,0,166.10589425847283,6.7926134253029832E-3,1.5512167856609413E-3,1.5958488075923629E-4,5.3068018807196707E-3,4.9642808681070409,0,0,8.8459698341198535E-3,null,null,5.2259649747863461,{"$f":"'Site&Soil'!$H$173*EXP('Site&Soil'!$H$174*AR26)","v":0},0.72675000000000001,0.92161044729772479,5.4483564745490119E-2,0,0,791.16353528663296,3.2353265219087948E-2,4.310540969906013E-3,4.5398899177030109E-4,5.5261601085585801E-3,5.2314911348949051,0.38626118228487216,1.9183135285803338E-3,-2.6395782987001497E-3,null,null,null,null,null,null,null,null,15,{"$f":"VLOOKUP(BP26,$BJ$9:$BM$248,4,FALSE)","v":5.3409890939032678},null,null,null,null,null,25,null,null,null,null,null,null,{"$error":"#VALUE!"},{"$f":"'Site&Soil'!$F$173*EXP('Site&Soil'!$F$174*CD26)","v":{"$error":"#VALUE!"}},{"$error":"#VALUE!"},0,{"$error":"#VALUE!"},0,0,{"$error":"#VALUE!"},{"$error":"#VALUE!"},{"$error":"#VALUE!"},{"$error":"#VALUE!"},{"$error":"#VALUE!"},{"$error":"#VALUE!"},{"$error":"#VALUE!"},{"$error":"#VALUE!"},{"$error":"#VALUE!"},null,null,{"$error":"#VALUE!"},{"$f":"'Site&Soil'!$G$173*EXP('Site&Soil'!$G$174*CV26)","v":{"$error":"#VALUE!"}},{"$error":"#VALUE!"},0,{"$error":"#VALUE!"},0,0,{"$error":"#VALUE!"},{"$error":"#VALUE!"},{"$error":"#VALUE!"},{"$error":"#VALUE!"},{"$error":"#VALUE!"},{"$error":"#VALUE!"},{"$error":"#VALUE!"},{"$error":"#VALUE!"},{"$error":"#VALUE!"},null,null,{"$error":"#VALUE!"},{"$f":"'Site&Soil'!$H$173*EXP('Site&Soil'!$H$174*DN26)","v":{"$error":"#VALUE!"}},{"$error":"#VALUE!"},0,{"$error":"#VALUE!"},0,0,{"$error":"#VALUE!"},{"$error":"#VALUE!"},{"$error":"#VALUE!"},{"$error":"#VALUE!"},{"$error":"#VALUE!"},{"$error":"#VALUE!"},{"$error":"#VALUE!"},{"$error":"#VALUE!"},{"$error":"#VALUE!"},null,null,null,null,null,null,null,null,15,{"$f":"VLOOKUP(EL26,$EF$9:$EI$248,4,FALSE)","v":{"$error":"#VALUE!"}},null,null,null,null,null,25]
[null,19,"Jul",null,null,null,null,6.1638854438192503,{"$f":"'Site&Soil'!$F$173*EXP('Site&Soil'!$F$174*H27)","v":0},0.69468750000000001,0.93941306281347592,6.1441962719551123E-3,0,0,36347.085574244811,1.4863512372298482,2.2332362768170844E-2,3.2631957057114038E-3,2.7449993072366268E-2,6.1913354368916167,0.20238708631564473,9.3406011941063443E-3,-1.3445759703616869E-2,null,null,4.9731268379411606,{"$f":"'Site&Soil'!$G$173*EXP('Site&Soil'!$G$174*Z27)","v":0},0.79087499999999999,0.96078943915232284,0.10190805320159377,0,0,128.172593003445,5.2413966396420422E-3,1.3061819426781298E-3,1.3450086456643308E-4,5.6075571788501343E-3,4.9787343951200107,0,0,1.1810464604528332E-2,null,null,5.2288515565962053,{"$f":"'Site&Soil'!$H$173*EXP('Site&Soil'!$H$174*AR27)","v":0},0.72675000000000001,0.97979867385370423,5.7537753155015324E-2,0,0,685.75399440552712,2.8042724249181937E-2,3.9456744055170979E-3,4.1570100736961684E-4,5.0422762472843684E-3,5.2338938328434894,0.3880073430190058,2.0600161485014642E-3,-2.834559543861664E-3,null,null,null,null,null,null,null,null,20,{"$f":"VLOOKUP(BP27,$BJ$9:$BM$248,2,FALSE)","v":6.1033916434741826},null,null,null,null,null,null,5,null,null,null,null,null,{"$error":"#VALUE!"},{"$f":"'Site&Soil'!$F$173*EXP('Site&Soil'!$F$174*CD27)","v":{"$error":"#VALUE!"}},{"$error":"#VALUE!"},0,{"$error":"#VALUE!"},0,0,{"$error":"#VALUE!"},{"$error":"#VALUE!"},{"$error":"#VALUE!"},{"$error":"#VALUE!"},{"$error":"#VALUE!"},{"$error":"#VALUE!"},{"$error":"#VALUE!"},{"$error":"#VALUE!"},{"$error":"#VALUE!"},null,null,{"$error":"#VALUE!"},{"$f":"'Site&Soil'!$G$173*EXP('Site&Soil'!$G$174*CV27)","v":{"$error":"#VALUE!"}},{"$error":"#VALUE!"},0,{"$error":"#VALUE!"},0,0,{"$error":"#VALUE!"},{"$error":"#VALUE!"},{"$error":"#VALUE!"},{"$error":"#VALUE!"},{"$error":"#VALUE!"},{"$error":"#VALUE!"},{"$error":"#VALUE!"},{"$error":"#VALUE!"},{"$error":"#VALUE!"},null,null,{"$error":"#VALUE!"},{"$f":"'Site&Soil'!$H$173*EXP('Site&Soil'!$H$174*DN27)","v":{"$error":"#VALUE!"}},{"$error":"#VALUE!"},0,{"$error":"#VALUE!"},0,0,{"$error":"#VALUE!"},{"$error":"#VALUE!"},{"$error":"#VALUE!"},{"$error":"#VALUE!"},{"$error":"#VALUE!"},{"$error":"#VALUE!"},{"$error":"#VALUE!"},{"$error":"#VALUE!"},{"$error":"#VALUE!"},null,null,null,null,null,null,null,null,20,{"$f":"VLOOKUP(EL27,$EF$9:$EI$248,2,FALSE)","v":{"$error":"#VALUE!"}},null,null,null,null,null,null,5]
[null,20,"Aug",null,null,null,null,6.1778896771879994,{"$f":"'Site&Soil'!$F$173*EXP('Site&Soil'!$F$174*H28)","v":0},0.69468750000000001,1,6.3228892431828687E-3,0,0,35800.972192509682,1.4640188744616773,2.2636558197150849E-2,3.3418576678036173E-3,2.7774647635587554E-2,6.2056643248235872,0.2123411856508855,1.0781981016004553E-2,-1.5520620445890495E-2,null,null,4.9905448597245394,{"$f":"'Site&Soil'!$G$173*EXP('Site&Soil'!$G$174*Z28)","v":0},0.79087499999999999,1,0.10188477106694858,0,0,96.231349469018141,3.9352146969639122E-3,9.8045090101144374E-4,1.0107877667619219E-4,5.3374171545931652E-3,4.9958822768791329,0,0,1.3632977418687596E-2,null,null,5.2310592732996275,{"$f":"'Site&Soil'!$H$173*EXP('Site&Soil'!$H$174*AR28)","v":0},0.72675000000000001,1,5.8424689872723215E-2,0,0,589.26686426210188,2.4097049843664838E-2,3.4427733796785391E-3,3.628112761241073E-4,4.3770772345794618E-3,5.235436350534207,0.38912836775073478,2.1160661641392788E-3,-2.9116837483856603E-3,null,null,null,null,null,null,null,null,20,{"$f":"VLOOKUP(BP28,$BJ$9:$BM$248,3,FALSE)","v":5.6437102587817494},null,null,null,null,null,null,15,null,null,null,null,null,{"$error":"#VALUE!"},{"$f":"'Site&Soil'!$F$173*EXP('Site&Soil'!$F$174*CD28)","v":{"$error":"#VALUE!"}},{"$error":"#VALUE!"},0,{"$error":"#VALUE!"},0,0,{"$error":"#VALUE!"},{"$error":"#VALUE!"},{"$error":"#VALUE!"},{"$error":"#VALUE!"},{"$error":"#VALUE!"},{"$error":"#VALUE!"},{"$error":"#VALUE!"},{"$error":"#VALUE!"},{"$error":"#VALUE!"},null,null,{"$error":"#VALUE!"},{"$f":"'Site&Soil'!$G$173*EXP('Site&Soil'!$G$174*CV28)","v":{"$error":"#VALUE!"}},{"$error":"#VALUE!"},0,{"$error":"#VALUE!"},0,0,{"$error":"#VALUE!"},{"$error":"#VALUE!"},{"$error":"#VALUE!"},{"$error":"#VALUE!"},{"$error":"#VALUE!"},{"$error":"#VALUE!"},{"$error":"#VALUE!"},{"$error":"#VALUE!"},{"$error":"#VALUE!"},null,null,{"$error":"#VALUE!"},{"$f":"'Site&Soil'!$H$173*EXP('Site&Soil'!$H$174*DN28)","v":{"$error":"#VALUE!"}},{"$error":"#VALUE!"},0,{"$error":"#VALUE!"},0,0,{"$error":"#VALUE!"},{"$error":"#VALUE!"},{"$error":"#VALUE!"},{"$error":"#VALUE!"},{"$error":"#VALUE!"},{"$error":"#VALUE!"},{"$error":"#VALUE!"},{"$error":"#VALUE!"},{"$error":"#VALUE!"},null,null,null,null,null,null,null,null,20,{"$f":"VLOOKUP(EL28,$EF$9:$EI$248,3,FALSE)","v":{"$error":"#VALUE!"}},null,null,null,null,null,null,15]
[null,21,"Sep",null,null,null,null,6.1901437043776966,{"$f":"'Site&Soil'!$F$173*EXP('Site&Soil'!$F$174*H29)","v":0},0.69468750000000001,0.93941306281347592,5.7662850294726538E-3,0,0,35247.420045958075,1.4413823162645265,2.0324667053854238E-2,3.0282552922835642E-3,2.4898118595153465E-2,6.2150418229728501,0.21885561639645157,1.0667339422344562E-2,-1.5355594310167611E-2,null,null,5.0095152542978205,{"$f":"'Site&Soil'!$G$173*EXP('Site&Soil'!$G$174*Z29)","v":0},0.79087499999999999,0.96078943915232284,9.3692949532763359E-2,0,0,72.255500485419176,2.9547637959524684E-3,6.7698309604449379E-4,6.9886540164718267E-5,4.5966200071608527E-3,5.0141118743049811,1.11607285909519E-2,3.5029395438077411E-5,1.344373007985647E-2,null,null,5.232524666785821,{"$f":"'Site&Soil'!$H$173*EXP('Site&Soil'!$H$174*AR29)","v":0},0.72675000000000001,0.97979867385370423,5.7050561685209424E-2,0,0,505.07762587109761,2.06542764639863E-2,2.8814962250578182E-3,3.0371439301602604E-4,3.6431625348558798E-3,5.236167829320677,0.38965996995880192,2.0796510483234239E-3,-2.813376887355138E-3,null,null,null,null,null,null,null,null,20,{"$f":"VLOOKUP(BP29,$BJ$9:$BM$248,4,FALSE)","v":5.4945723155893385},null,null,null,null,null,null,25,null,null,null,null,null,{"$error":"#VALUE!"},{"$f":"'Site&Soil'!$F$173*EXP('Site&Soil'!$F$174*CD29)","v":{"$error":"#VALUE!"}},{"$error":"#VALUE!"},0,{"$error":"#VALUE!"},0,0,{"$error":"#VALUE!"},{"$error":"#VALUE!"},{"$error":"#VALUE!"},{"$error":"#VALUE!"},{"$error":"#VALUE!"},{"$error":"#VALUE!"},{"$error":"#VALUE!"},{"$error":"#VALUE!"},{"$error":"#VALUE!"},null,null,{"$error":"#VALUE!"},{"$f":"'Site&Soil'!$G$173*EXP('Site&Soil'!$G$174*CV29)","v":{"$error":"#VALUE!"}},{"$error":"#VALUE!"},0,{"$error":"#VALUE!"},0,0,{"$error":"#VALUE!"},{"$error":"#VALUE!"},{"$error":"#VALUE!"},{"$error":"#VALUE!"},{"$error":"#VALUE!"},{"$error":"#VALUE!"},{"$error":"#VALUE!"},{"$error":"#VALUE!"},{"$error":"#VALUE!"},null,null,{"$error":"#VALUE!"},{"$f":"'Site&Soil'!$H$173*EXP('Site&Soil'!$H$174*DN29)","v":{"$error":"#VALUE!"}},{"$error":"#VALUE!"},0,{"$error":"#VALUE!"},0,0,{"$error":"#VALUE!"},{"$error":"#VALUE!"},{"$error":"#VALUE!"},{"$error":"#VALUE!"},{"$error":"#VALUE!"},{"$error":"#VALUE!"},{"$error":"#VALUE!"},{"$error":"#VALUE!"},{"$error":"#VALUE!"},null,null,null,null,null,null,null,null,20,{"$f":"VLOOKUP(EL29,$EF$9:$EI$248,4,FALSE)","v":{"$error":"#VALUE!"}},null,null,null,null,null,null,25]
[null,22,"Oct",null,null,null,null,6.1996862286626824,{"$f":"'Site&Soil'!$F$173*EXP('Site&Soil'!$F$174*H30)","v":0},0.69468750000000001,0.77880078307140521,4.6711738112331985E-3,0,0,34750.402655875172,1.4210576492106723,1.6232517081593269E-2,2.4362171735034938E-3,1.9859720965311415E-2,6.2195459496279941,0.22198457688219692,9.0634831272591049E-3,-1.3046849305996013E-2,{"$f":"-'Profit Calculator'!G$29*'Quantity of Lime to Apply'!H$9","v":-4.0091240506329125E-2},null,5.0275556043848377,{"$f":"'Site&Soil'!$G$173*EXP('Site&Soil'!$G$174*Z30)","v":0},0.79087499999999999,0.85214378896621112,7.9706086402232659E-2,0,0,55.700623072926888,2.2777806999079745E-3,4.4396786753089047E-4,4.5892702532507395E-5,3.5837424858566483E-3,5.0311393468706944,2.4627330956360449E-2,7.1296724246053554E-5,1.1369921167078301E-2,{"$f":"-'Profit Calculator'!$G$29*'Quantity of Lime to Apply'!$H$19","v":-4.0091240506329125E-2},null,5.2333544524333222,{"$f":"'Site&Soil'!$H$173*EXP('Site&Soil'!$H$174*AR30)","v":0},0.72675000000000001,0.92161044729772479,5.355945756916506E-2,0,0,434.61380328954192,1.7772780238928483E-2,2.3277679556259669E-3,2.4537457898388674E-4,2.9284982169584966E-3,5.2362829506502804,0.38974363438509113,1.9570835679956515E-3,-2.5948219384239394E-3,0.02,null,{"$f":"BJ18+1","v":2},{"$f":"AVERAGE(H25:H30)","v":6.1700408465874261},{"$f":"AVERAGE(Z25:Z30)","v":4.9847274304607447},{"$f":"AVERAGE(AR25:AR30)","v":5.2290580661793822},null,null,null,null,null,null,null,null,null,null,null,null,null,null,null,null,{"$error":"#VALUE!"},{"$f":"'Site&Soil'!$F$173*EXP('Site&Soil'!$F$174*CD30)","v":{"$error":"#VALUE!"}},{"$error":"#VALUE!"},0,{"$error":"#VALUE!"},0,0,{"$error":"#VALUE!"},{"$error":"#VALUE!"},{"$error":"#VALUE!"},{"$error":"#VALUE!"},{"$error":"#VALUE!"},{"$error":"#VALUE!"},{"$error":"#VALUE!"},{"$error":"#VALUE!"},{"$error":"#VALUE!"},{"$error":"#VALUE!"},null,{"$error":"#VALUE!"},{"$f":"'Site&Soil'!$G$173*EXP('Site&Soil'!$G$174*CV30)","v":{"$error":"#VALUE!"}},{"$error":"#VALUE!"},0,{"$error":"#VALUE!"},0,0,{"$error":"#VALUE!"},{"$error":"#VALUE!"},{"$error":"#VALUE!"},{"$error":"#VALUE!"},{"$error":"#VALUE!"},{"$error":"#VALUE!"},{"$error":"#VALUE!"},{"$error":"#VALUE!"},{"$error":"#VALUE!"},{"$error":"#VALUE!"},null,{"$error":"#VALUE!"},{"$f":"'Site&Soil'!$H$173*EXP('Site&Soil'!$H$174*DN30)","v":{"$error":"#VALUE!"}},{"$error":"#VALUE!"},0,{"$error":"#VALUE!"},0,0,{"$error":"#VALUE!"},{"$error":"#VALUE!"},{"$error":"#VALUE!"},{"$error":"#VALUE!"},{"$error":"#VALUE!"},{"$error":"#VALUE!"},{"$error":"#VALUE!"},{"$error":"#VALUE!"},{"$error":"#VALUE!"},{"$error":"#VALUE!"},null,{"$f":"EF18+1","v":2},{"$f":"AVERAGE(CD25:CD30)","v":{"$error":"#VALUE!"}},{"$f":"AVERAGE(CV25:CV30)","v":{"$error":"#VALUE!"}},{"$f":"AVERAGE(DN25:DN30)","v":{"$error":"#VALUE!"}}]
[null,23,"Nov",null,null,null,null,6.1664078598156689,{"$f":"'Site&Soil'!$F$173*EXP('Site&Soil'!$F$174*H31)","v":0},0.69468750000000001,0.56978282473092301,3.7040180470311332E-3,0,0,34353.454294901174,1.404825132129079,1.2724581468617316E-2,1.8627290375410875E-3,1.56355950424849E-2,6.182043454858154,0.19593206254677362,5.36856627741439E-3,-7.7280306287566564E-3,null,null,5.0024180275314434,{"$f":"'Site&Soil'!$G$173*EXP('Site&Soil'!$G$174*Z31)","v":0},0.79087499999999999,0.69767632607103081,6.9159641120597276E-2,0,0,44.84387692224243,1.8338128323770841E-3,3.1013864343985213E-4,3.2000084582256203E-5,2.7069607667440281E-3,5.0051249882981876,4.0532251203291483E-3,9.0485647898662277E-6,6.7766938044880971E-3,null,null,5.2536881287118558,{"$f":"'Site&Soil'!$H$173*EXP('Site&Soil'!$H$174*AR31)","v":0},0.72675000000000001,0.83220750069030147,4.6139559143479433E-2,0,0,377.69079682856085,1.5445012283302516E-2,1.7426486858219258E-3,1.8414807740803102E-4,2.1885114454711402E-3,5.2558766401573269,0.40398334823433724,1.9163363176333251E-3,-2.6244069526569782E-3,null,null,null,null,null,null,null,null,null,null,null,null,null,null,null,null,null,null,null,null,null,null,{"$error":"#VALUE!"},{"$f":"'Site&Soil'!$F$173*EXP('Site&Soil'!$F$174*CD31)","v":{"$error":"#VALUE!"}},{"$error":"#VALUE!"},0,{"$error":"#VALUE!"},0,0,{"$error":"#VALUE!"},{"$error":"#VALUE!"},{"$error":"#VALUE!"},{"$error":"#VALUE!"},{"$error":"#VALUE!"},{"$error":"#VALUE!"},{"$error":"#VALUE!"},{"$error":"#VALUE!"},{"$error":"#VALUE!"},null,null,{"$error":"#VALUE!"},{"$f":"'Site&Soil'!$G$173*EXP('Site&Soil'!$G$174*CV31)","v":{"$error":"#VALUE!"}},{"$error":"#VALUE!"},0,{"$error":"#VALUE!"},0,0,{"$error":"#VALUE!"},{"$error":"#VALUE!"},{"$error":"#VALUE!"},{"$error":"#VALUE!"},{"$error":"#VALUE!"},{"$error":"#VALUE!"},{"$error":"#VALUE!"},{"$error":"#VALUE!"},{"$error":"#VALUE!"},null,null,{"$error":"#VALUE!"},{"$f":"'Site&Soil'!$H$173*EXP('Site&Soil'!$H$174*DN31)","v":{"$error":"#VALUE!"}},{"$error":"#VALUE!"},0,{"$error":"#VALUE!"},0,0,{"$error":"#VALUE!"},{"$error":"#VALUE!"},{"$error":"#VALUE!"},{"$error":"#VALUE!"},{"$error":"#VALUE!"},{"$error":"#VALUE!"},{"$error":"#VALUE!"},{"$error":"#VALUE!"},{"$error":"#VALUE!"}]
[null,24,"Dec",null,null,null,null,6.1743154242293974,{"$f":"'Site&Soil'!$F$173*EXP('Site&Soil'!$F$174*H32)","v":0},0.69468750000000001,0.36787944117144233,2.3462448651481236E-3,0,0,34042.28864310123,1.3921005506604618,7.9871544926766545E-3,1.1760334365666981E-3,9.8045827168474417E-3,6.1841200069462445,0.19737461732546902,3.508462395640212E-3,-5.0504182033507322E-3,null,null,5.0119016821026756,{"$f":"'Site&Soil'!$G$173*EXP('Site&Soil'!$G$174*Z32)","v":0},0.79087499999999999,0.52729242404304844,5.1137092776651884E-2,0,0,37.259777329472151,1.523674188937232E-3,1.9053566901346079E-4,1.9672833949455385E-5,1.7030457046065478E-3,5.0136047278072819,1.075963910458411E-2,1.8512026531305847E-5,4.4127711321117827E-3,null,null,5.2532522332046696,{"$f":"'Site&Soil'!$H$173*EXP('Site&Soil'!$H$174*AR32)","v":0},0.72675000000000001,0.72142229035475613,4.0037758182852712E-2,0,0,335.07623889441902,1.370236359748059E-2,1.3415701425674538E-3,1.417579247330292E-4,1.6779980072705604E-3,5.2549302312119401,0.40329554553327734,1.6547912404720104E-3,-2.2515021863649186E-3,null,null,null,null,null,null,null,null,null,null,null,null,null,null,null,null,null,null,null,null,null,null,{"$error":"#VALUE!"},{"$f":"'Site&Soil'!$F$173*EXP('Site&Soil'!$F$174*CD32)","v":{"$error":"#VALUE!"}},{"$error":"#VALUE!"},0,{"$error":"#VALUE!"},0,0,{"$error":"#VALUE!"},{"$error":"#VALUE!"},{"$error":"#VALUE!"},{"$error":"#VALUE!"},{"$error":"#VALUE!"},{"$error":"#VALUE!"},{"$error":"#VALUE!"},{"$error":"#VALUE!"},{"$error":"#VALUE!"},null,null,{"$error":"#VALUE!"},{"$f":"'Site&Soil'!$G$173*EXP('Site&Soil'!$G$174*CV32)","v":{"$error":"#VALUE!"}},{"$error":"#VALUE!"},0,{"$error":"#VALUE!"},0,0,{"$error":"#VALUE!"},{"$error":"#VALUE!"},{"$error":"#VALUE!"},{"$error":"#VALUE!"},{"$error":"#VALUE!"},{"$error":"#VALUE!"},{"$error":"#VALUE!"},{"$error":"#VALUE!"},{"$error":"#VALUE!"},null,null,{"$error":"#VALUE!"},{"$f":"'Site&Soil'!$H$173*EXP('Site&Soil'!$H$174*DN32)","v":{"$error":"#VALUE!"}},{"$error":"#VALUE!"},0,{"$error":"#VALUE!"},0,0,{"$error":"#VALUE!"},{"$error":"#VALUE!"},{"$error":"#VALUE!"},{"$error":"#VALUE!"},{"$error":"#VALUE!"},{"$error":"#VALUE!"},{"$error":"#VALUE!"},{"$error":"#VALUE!"},{"$error":"#VALUE!"}]
[{"$f":"A21+1","v":3},25,"Jan",{"$f":"OFFSET(Apply_Lime!$H$16,$A33,0)","v":0},{"$f":"OFFSET(Apply_Lime!$I$16,$A33,0)*G33","v":0},{"$f":"OFFSET(Apply_Lime!$I$16,$A33,0)*(1-G33)","v":0},{"$f":"'Profit Calculator'!H28","v":0},6.1790695887428937,{"$f":"'Site&Soil'!$F$173*EXP('Site&Soil'!$F$174*H33)","v":0},0.69468750000000001,4.6770622383959001E-2,2.9488298673414589E-4,0,0,33846.971560188118,1.3841133961677852,9.980896065573965E-4,1.4747829877910461E-4,1.2244517250969563E-3,6.1802940404679907,0.19471676623760703,4.3618481069822361E-4,-6.2788636717693005E-4,null,null,5.0180174989393933,{"$f":"'Site&Soil'!$G$173*EXP('Site&Soil'!$G$174*Z33)","v":0},0.79087499999999999,0.14085842092104497,1.346887795031566E-2,0,0,32.600436997852206,1.3331385199237711E-3,4.3909130705102648E-5,4.535647661490982E-6,2.3625956291792796E-4,5.0182537585023113,1.4436441255515416E-2,6.7065122460617756E-6,5.4304194525324717E-4,null,null,5.2526787290255754,{"$f":"'Site&Soil'!$H$173*EXP('Site&Soil'!$H$174*AR33)","v":0},0.72675000000000001,0.36787944117144233,2.0443840463048393E-2,0,0,302.26961583362055,1.2360793454913137E-2,6.1795518029294659E-4,6.5292035529859285E-5,7.6669940478098144E-4,5.2534454284303562,0.40221646511176123,8.3870801131826855E-4,-1.1448249041241237E-3,null,null,null,null,null,null,null,null,null,null,null,null,null,null,null,null,null,null,{"$f":"OFFSET(Apply_Lime!$O$16,$A33,0)","v":0},{"$f":"OFFSET(Apply_Lime!$P$16,$A33,0)*CA$7","v":0},{"$f":"OFFSET(Apply_Lime!$P$16,$A33,0)*CB$7","v":0},null,{"$error":"#VALUE!"},{"$f":"'Site&Soil'!$F$173*EXP('Site&Soil'!$F$174*CD33)","v":{"$error":"#VALUE!"}},{"$error":"#VALUE!"},0,{"$error":"#VALUE!"},0,0,{"$error":"#VALUE!"},{"$error":"#VALUE!"},{"$error":"#VALUE!"},{"$error":"#VALUE!"},{"$error":"#VALUE!"},{"$error":"#VALUE!"},{"$error":"#VALUE!"},{"$error":"#VALUE!"},{"$error":"#VALUE!"},null,null,{"$error":"#VALUE!"},{"$f":"'Site&Soil'!$G$173*EXP('Site&Soil'!$G$174*CV33)","v":{"$error":"#VALUE!"}},{"$error":"#VALUE!"},0,{"$error":"#VALUE!"},0,0,{"$error":"#VALUE!"},{"$error":"#VALUE!"},{"$error":"#VALUE!"},{"$error":"#VALUE!"},{"$error":"#VALUE!"},{"$error":"#VALUE!"},{"$error":"#VALUE!"},{"$error":"#VALUE!"},{"$error":"#VALUE!"},null,null,{"$error":"#VALUE!"},{"$f":"'Site&Soil'!$H$173*EXP('Site&Soil'!$H$174*DN33)","v":{"$error":"#VALUE!"}},{"$error":"#VALUE!"},0,{"$error":"#VALUE!"},0,0,{"$error":"#VALUE!"},{"$error":"#VALUE!"},{"$error":"#VALUE!"},{"$error":"#VALUE!"},{"$error":"#VALUE!"},{"$error":"#VALUE!"},{"$error":"#VALUE!"},{"$error":"#VALUE!"},{"$error":"#VALUE!"}]
[null,26,"Feb",null,null,null,null,6.179666154100814,{"$f":"'Site&Soil'!$F$173*EXP('Site&Soil'!$F$174*H34)","v":0},0.69468750000000001,0.1053992245618643,6.6357111775690086E-4,0,0,33822.564376050461,1.3831153065612278,2.2443676848420543E-3,3.3177641507360736E-4,2.7531678197296582E-3,6.1824193219205439,0.19619317269667758,9.9526934565089334E-4,-1.4326864174911645E-3,null,null,5.0187968004475643,{"$f":"'Site&Soil'!$G$173*EXP('Site&Soil'!$G$174*Z34)","v":0},0.79087499999999999,0.23692775868212174,2.2614274893249062E-2,0,0,31.52668747536147,1.2892293892186684E-3,7.1295317704137657E-5,7.3649596055417196E-6,5.0034047500831778E-4,5.0192971409225722,1.5261626327139269E-2,1.1954017928813612E-5,1.2433258450729632E-3,null,null,5.2523006035262325,{"$f":"'Site&Soil'!$H$173*EXP('Site&Soil'!$H$174*AR34)","v":0},0.72675000000000001,0.47965226883004436,2.6678643545392892E-2,0,0,287.1582012119888,1.174283827462019E-2,7.6609912912708588E-4,8.0940886869080732E-5,9.5290430252982017E-4,5.2532535078287621,0.40207698681455273,1.092670523740534E-3,-1.4870540155648027E-3,null,null,null,null,null,null,null,null,null,null,null,null,null,null,null,null,null,null,null,null,null,null,{"$error":"#VALUE!"},{"$f":"'Site&Soil'!$F$173*EXP('Site&Soil'!$F$174*CD34)","v":{"$error":"#VALUE!"}},{"$error":"#VALUE!"},0,{"$error":"#VALUE!"},0,0,{"$error":"#VALUE!"},{"$error":"#VALUE!"},{"$error":"#VALUE!"},{"$error":"#VALUE!"},{"$error":"#VALUE!"},{"$error":"#VALUE!"},{"$error":"#VALUE!"},{"$error":"#VALUE!"},{"$error":"#VALUE!"},null,null,{"$error":"#VALUE!"},{"$f":"'Site&Soil'!$G$173*EXP('Site&Soil'!$G$174*CV34)","v":{"$error":"#VALUE!"}},{"$error":"#VALUE!"},0,{"$error":"#VALUE!"},0,0,{"$error":"#VALUE!"},{"$error":"#VALUE!"},{"$error":"#VALUE!"},{"$error":"#VALUE!"},{"$error":"#VALUE!"},{"$error":"#VALUE!"},{"$error":"#VALUE!"},{"$error":"#VALUE!"},{"$error":"#VALUE!"},null,null,{"$error":"#VALUE!"},{"$f":"'Site&Soil'!$H$173*EXP('Site&Soil'!$H$174*DN34)","v":{"$error":"#VALUE!"}},{"$error":"#VALUE!"},0,{"$error":"#VALUE!"},0,0,{"$error":"#VALUE!"},{"$error":"#VALUE!"},{"$error":"#VALUE!"},{"$error":"#VALUE!"},{"$error":"#VALUE!"},{"$error":"#VALUE!"},{"$error":"#VALUE!"},{"$error":"#VALUE!"},{"$error":"#VALUE!"}]
[null,27,"Mar",null,null,null,null,6.1809866355030527,{"$f":"'Site&Soil'!$F$173*EXP('Site&Soil'!$F$174*H35)","v":0},0.69468750000000001,0.20961138715109778,1.3154611245365046E-3,0,0,33767.68083153035,1.3808709388763858,4.4420071399634692E-3,6.5729209686980392E-4,5.4480828330633058E-3,6.1864347183361161,0.19898261839412043,2.0261179857144198E-3,-2.9165890932461285E-3,null,null,5.0205404667676454,{"$f":"'Site&Soil'!$G$173*EXP('Site&Soil'!$G$174*Z35)","v":0},0.79087499999999999,0.36787944117144206,3.4972186374879533E-2,0,0,29.783238855192206,1.2179340715145308E-3,1.0415849800913355E-4,1.0761180490125505E-5,9.4918844872933386E-4,5.0214896552163744,1.6995631069250072E-2,2.0774590333731729E-5,2.5356009424759764E-3,null,null,5.2517664538131976,{"$f":"'Site&Soil'!$H$173*EXP('Site&Soil'!$H$174*AR35)","v":0},0.72675000000000001,0.60037304119840451,3.3434559731777003E-2,0,0,268.42408917489524,1.0976739145493103E-2,8.9746412429658718E-4,9.4813793336051585E-5,1.1192452857938233E-3,5.2528856990989912,0.40180968182019172,1.3656118569681489E-3,-1.8504812750387578E-3,null,null,null,null,null,null,null,null,null,null,null,null,null,null,null,null,null,null,null,null,null,null,{"$error":"#VALUE!"},{"$f":"'Site&Soil'!$F$173*EXP('Site&Soil'!$F$174*CD35)","v":{"$error":"#VALUE!"}},{"$error":"#VALUE!"},0,{"$error":"#VALUE!"},0,0,{"$error":"#VALUE!"},{"$error":"#VALUE!"},{"$error":"#VALUE!"},{"$error":"#VALUE!"},{"$error":"#VALUE!"},{"$error":"#VALUE!"},{"$error":"#VALUE!"},{"$error":"#VALUE!"},{"$error":"#VALUE!"},null,null,{"$error":"#VALUE!"},{"$f":"'Site&Soil'!$G$173*EXP('Site&Soil'!$G$174*CV35)","v":{"$error":"#VALUE!"}},{"$error":"#VALUE!"},0,{"$error":"#VALUE!"},0,0,{"$error":"#VALUE!"},{"$error":"#VALUE!"},{"$error":"#VALUE!"},{"$error":"#VALUE!"},{"$error":"#VALUE!"},{"$error":"#VALUE!"},{"$error":"#VALUE!"},{"$error":"#VALUE!"},{"$error":"#VALUE!"},null,null,{"$error":"#VALUE!"},{"$f":"'Site&Soil'!$H$173*EXP('Site&Soil'!$H$174*DN35)","v":{"$error":"#VALUE!"}},{"$error":"#VALUE!"},0,{"$error":"#VALUE!"},0,0,{"$error":"#VALUE!"},{"$error":"#VALUE!"},{"$error":"#VALUE!"},{"$error":"#VALUE!"},{"$error":"#VALUE!"},{"$error":"#VALUE!"},{"$error":"#VALUE!"},{"$error":"#VALUE!"},{"$error":"#VALUE!"}]
[null,28,"Apr",null,null,null,null,6.18351812924287,{"$f":"'Site&Soil'!$F$173*EXP('Site&Soil'!$F$174*H36)","v":0},0.69468750000000001,0.36787944117144233,2.2946117822624638E-3,0,0,33659.056429980039,1.3764289317364222,7.7234467464069347E-3,1.1450188384200194E-3,9.4696218198642053E-3,6.1929877510627342,0.20353492831639294,3.6925995950320744E-3,-5.3154829977969578E-3,null,null,5.0240252561588505,{"$f":"'Site&Soil'!$G$173*EXP('Site&Soil'!$G$174*Z36)","v":0},0.79087499999999999,0.52729242404304844,4.9724722652883323E-2,0,0,27.236157286855381,1.1137755735053973E-3,1.3543103672191911E-4,1.3995733801265557E-5,1.6013328798364758E-3,5.0256265890386871,2.0267428605971648E-2,3.5848977452229832E-5,4.623677088768572E-3,null,null,5.2510352178239526,{"$f":"'Site&Soil'!$H$173*EXP('Site&Soil'!$H$174*AR36)","v":0},0.72675000000000001,0.72142229035475613,4.024383574009157E-2,0,0,246.47759058925953,1.0079275021196515E-2,9.9192036692877E-4,1.0478332678741118E-4,1.2399487773548322E-3,5.252275166601307,0.40136597732749973,1.6368364187996306E-3,-2.2029410957652572E-3,null,null,null,null,null,null,null,null,null,null,null,null,null,null,null,null,null,null,null,null,null,null,{"$error":"#VALUE!"},{"$f":"'Site&Soil'!$F$173*EXP('Site&Soil'!$F$174*CD36)","v":{"$error":"#VALUE!"}},{"$error":"#VALUE!"},0,{"$error":"#VALUE!"},0,0,{"$error":"#VALUE!"},{"$error":"#VALUE!"},{"$error":"#VALUE!"},{"$error":"#VALUE!"},{"$error":"#VALUE!"},{"$error":"#VALUE!"},{"$error":"#VALUE!"},{"$error":"#VALUE!"},{"$error":"#VALUE!"},null,null,{"$error":"#VALUE!"},{"$f":"'Site&Soil'!$G$173*EXP('Site&Soil'!$G$174*CV36)","v":{"$error":"#VALUE!"}},{"$error":"#VALUE!"},0,{"$error":"#VALUE!"},0,0,{"$error":"#VALUE!"},{"$error":"#VALUE!"},{"$error":"#VALUE!"},{"$error":"#VALUE!"},{"$error":"#VALUE!"},{"$error":"#VALUE!"},{"$error":"#VALUE!"},{"$error":"#VALUE!"},{"$error":"#VALUE!"},null,null,{"$error":"#VALUE!"},{"$f":"'Site&Soil'!$H$173*EXP('Site&Soil'!$H$174*DN36)","v":{"$error":"#VALUE!"}},{"$error":"#VALUE!"},0,{"$error":"#VALUE!"},0,0,{"$error":"#VALUE!"},{"$error":"#VALUE!"},{"$error":"#VALUE!"},{"$error":"#VALUE!"},{"$error":"#VALUE!"},{"$error":"#VALUE!"},{"$error":"#VALUE!"},{"$error":"#VALUE!"},{"$error":"#VALUE!"}]
[null,29,"May",null,null,null,null,6.1876722680649374,{"$f":"'Site&Soil'!$F$173*EXP('Site&Soil'!$F$174*H37)","v":0},0.69468750000000001,0.56978282473092301,3.5184164702118134E-3,0,0,33470.188030110454,1.3687054849900153,1.1776206082622693E-2,1.7513111174805771E-3,1.4430797970514966E-2,6.2021030660354528,0.20986722368650337,6.0222258300964698E-3,-8.6689710554695015E-3,null,null,5.0302502661274557,{"$f":"'Site&Soil'!$G$173*EXP('Site&Soil'!$G$174*Z37)","v":0},0.79087499999999999,0.69767632607103081,6.4852808599223044E-2,0,0,23.924340161910862,9.7834453678347826E-4,1.5515606533831103E-4,1.6041646842290693E-5,2.3902962364173823E-3,5.0326405623638735,2.5814604759528431E-2,6.1398820602529434E-5,7.5370026989017742E-3,null,null,5.2500722255055416,{"$f":"'Site&Soil'!$H$173*EXP('Site&Soil'!$H$174*AR37)","v":0},0.72675000000000001,0.83220750069030147,4.652751756901384E-2,0,0,222.22126842493046,9.0873546542677448E-3,1.0339403970849492E-3,1.0920928086457382E-4,1.2944929660305003E-3,5.251366718471572,0.40070576264921481,1.8811521896462315E-3,-2.5039606041193014E-3,null,null,null,null,null,null,null,null,null,null,null,null,null,null,null,null,null,null,null,null,null,null,{"$error":"#VALUE!"},{"$f":"'Site&Soil'!$F$173*EXP('Site&Soil'!$F$174*CD37)","v":{"$error":"#VALUE!"}},{"$error":"#VALUE!"},0,{"$error":"#VALUE!"},0,0,{"$error":"#VALUE!"},{"$error":"#VALUE!"},{"$error":"#VALUE!"},{"$error":"#VALUE!"},{"$error":"#VALUE!"},{"$error":"#VALUE!"},{"$error":"#VALUE!"},{"$error":"#VALUE!"},{"$error":"#VALUE!"},null,null,{"$error":"#VALUE!"},{"$f":"'Site&Soil'!$G$173*EXP('Site&Soil'!$G$174*CV37)","v":{"$error":"#VALUE!"}},{"$error":"#VALUE!"},0,{"$error":"#VALUE!"},0,0,{"$error":"#VALUE!"},{"$error":"#VALUE!"},{"$error":"#VALUE!"},{"$error":"#VALUE!"},{"$error":"#VALUE!"},{"$error":"#VALUE!"},{"$error":"#VALUE!"},{"$error":"#VALUE!"},{"$error":"#VALUE!"},null,null,{"$error":"#VALUE!"},{"$f":"'Site&Soil'!$H$173*EXP('Site&Soil'!$H$174*DN37)","v":{"$error":"#VALUE!"}},{"$error":"#VALUE!"},0,{"$error":"#VALUE!"},0,0,{"$error":"#VALUE!"},{"$error":"#VALUE!"},{"$error":"#VALUE!"},{"$error":"#VALUE!"},{"$error":"#VALUE!"},{"$error":"#VALUE!"},{"$error":"#VALUE!"},{"$error":"#VALUE!"},{"$error":"#VALUE!"}]
[null,30,"Jun",null,null,null,null,6.1934340949799829,{"$f":"'Site&Soil'!$F$173*EXP('Site&Soil'!$F$174*H38)","v":0},0.69468750000000001,0.77880078307140521,4.7424778142933508E-3,0,0,33182.213855834692,1.3569292789073926,1.5736591304043344E-2,2.3505227086388168E-3,1.926919455928677E-2,6.2127032895392693,0.21723106645181089,8.7307510197198856E-3,-1.2567882709448329E-2,null,null,5.0401775650627751,{"$f":"'Site&Soil'!$G$173*EXP('Site&Soil'!$G$174*Z38)","v":0},0.79087499999999999,0.85214378896621112,7.7415197151960394E-2,0,0,20.13016914569458,8.2318847144516728E-4,1.5583810131162561E-4,1.612437922663902E-5,3.148710517747815E-3,5.0433262755805233,3.4265668199746337E-2,1.0202306432666067E-4,1.0910356194586029E-2,null,null,5.2488627578674523,{"$f":"'Site&Soil'!$H$173*EXP('Site&Soil'!$H$174*AR38)","v":0},0.72675000000000001,0.92161044729772479,5.1670414355762272E-2,0,0,196.93739261536373,8.053414257182796E-3,1.0175836678579281E-3,1.0746569549115887E-4,1.2744992797982912E-3,5.2501372571472507,0.39981225163176431,2.0727205090140359E-3,-2.7116579906259031E-3,null,null,null,null,null,null,null,null,null,null,null,null,null,null,null,null,null,null,null,null,null,null,{"$error":"#VALUE!"},{"$f":"'Site&Soil'!$F$173*EXP('Site&Soil'!$F$174*CD38)","v":{"$error":"#VALUE!"}},{"$error":"#VALUE!"},0,{"$error":"#VALUE!"},0,0,{"$error":"#VALUE!"},{"$error":"#VALUE!"},{"$error":"#VALUE!"},{"$error":"#VALUE!"},{"$error":"#VALUE!"},{"$error":"#VALUE!"},{"$error":"#VALUE!"},{"$error":"#VALUE!"},{"$error":"#VALUE!"},null,null,{"$error":"#VALUE!"},{"$f":"'Site&Soil'!$G$173*EXP('Site&Soil'!$G$174*CV38)","v":{"$error":"#VALUE!"}},{"$error":"#VALUE!"},0,{"$error":"#VALUE!"},0,0,{"$error":"#VALUE!"},{"$error":"#VALUE!"},{"$error":"#VALUE!"},{"$error":"#VALUE!"},{"$error":"#VALUE!"},{"$error":"#VALUE!"},{"$error":"#VALUE!"},{"$error":"#VALUE!"},{"$error":"#VALUE!"},null,null,{"$error":"#VALUE!"},{"$f":"'Site&Soil'!$H$173*EXP('Site&Soil'!$H$174*DN38)","v":{"$error":"#VALUE!"}},{"$error":"#VALUE!"},0,{"$error":"#VALUE!"},0,0,{"$error":"#VALUE!"},{"$error":"#VALUE!"},{"$error":"#VALUE!"},{"$error":"#VALUE!"},{"$error":"#VALUE!"},{"$error":"#VALUE!"},{"$error":"#VALUE!"},{"$error":"#VALUE!"},{"$error":"#VALUE!"}]
[null,31,"Jul",null,null,null,null,6.2001354068298209,{"$f":"'Site&Soil'!$F$173*EXP('Site&Soil'!$F$174*H39)","v":0},0.69468750000000001,0.93941306281347592,5.6283794623476387E-3,0,0,32797.392814584047,1.3411926876033493,1.8459617213615286E-2,2.7714226704291293E-3,2.2583096058567568E-2,6.2227185028883882,0.22418850997527695,1.1122142326452034E-2,-1.6010281351617861E-2,null,null,5.0542366317751091,{"$f":"'Site&Soil'!$G$173*EXP('Site&Soil'!$G$174*Z39)","v":0},0.79087499999999999,0.96078943915232284,8.4495339255962115E-2,0,0,16.319319689506745,6.6735037013354169E-4,1.3789064535913749E-4,1.4283115141503042E-5,3.6605407942427864E-3,5.0578971725693522,4.5789426355786443E-2,1.5896100361470082E-4,1.3862091130503976E-2,null,null,5.2474255991566245,{"$f":"'Site&Soil'!$H$173*EXP('Site&Soil'!$H$174*AR39)","v":0},0.72675000000000001,0.97979867385370423,5.5115868290154614E-2,0,0,172.05350263824218,7.0358305893248683E-3,9.4828781902691261E-4,1.0012987914776037E-4,1.1867093980332374E-3,5.2486123085546579,0.39870399524209749,2.1897762614150095E-3,-2.7943794396977067E-3,null,null,null,null,null,null,null,null,null,null,null,null,null,null,null,null,null,null,null,null,null,null,{"$error":"#VALUE!"},{"$f":"'Site&Soil'!$F$173*EXP('Site&Soil'!$F$174*CD39)","v":{"$error":"#VALUE!"}},{"$error":"#VALUE!"},0,{"$error":"#VALUE!"},0,0,{"$error":"#VALUE!"},{"$error":"#VALUE!"},{"$error":"#VALUE!"},{"$error":"#VALUE!"},{"$error":"#VALUE!"},{"$error":"#VALUE!"},{"$error":"#VALUE!"},{"$error":"#VALUE!"},{"$error":"#VALUE!"},null,null,{"$error":"#VALUE!"},{"$f":"'Site&Soil'!$G$173*EXP('Site&Soil'!$G$174*CV39)","v":{"$error":"#VALUE!"}},{"$error":"#VALUE!"},0,{"$error":"#VALUE!"},0,0,{"$error":"#VALUE!"},{"$error":"#VALUE!"},{"$error":"#VALUE!"},{"$error":"#VALUE!"},{"$error":"#VALUE!"},{"$error":"#VALUE!"},{"$error":"#VALUE!"},{"$error":"#VALUE!"},{"$error":"#VALUE!"},null,null,{"$error":"#VALUE!"},{"$f":"'Site&Soil'!$H$173*EXP('Site&Soil'!$H$174*DN39)","v":{"$error":"#VALUE!"}},{"$error":"#VALUE!"},0,{"$error":"#VALUE!"},0,0,{"$error":"#VALUE!"},{"$error":"#VALUE!"},{"$error":"#VALUE!"},{"$error":"#VALUE!"},{"$error":"#VALUE!"},{"$error":"#VALUE!"},{"$error":"#VALUE!"},{"$error":"#VALUE!"},{"$error":"#VALUE!"}]
[null,32,"Aug",null,null,null,null,6.2067082215367702,{"$f":"'Site&Soil'!$F$173*EXP('Site&Soil'!$F$174*H40)","v":0},0.69468750000000001,1,5.8966352537706259E-3,0,0,32345.983168112092,1.322733070389734,1.9073246466696107E-2,2.8781315197073777E-3,2.3312806041549228E-2,6.230021027578319,0.22926148259581322,1.2312666721353439E-2,-1.772403666591588E-2,null,null,5.0717592636998559,{"$f":"'Site&Soil'!$G$173*EXP('Site&Soil'!$G$174*Z40)","v":0},0.79087499999999999,1,8.4453489822203257E-2,0,0,12.94735553916415,5.2945972477440426E-4,1.0934493592512465E-4,1.1342397568090431E-5,3.7630903215608181E-3,5.0755223540214169,5.9728741736688122E-2,2.247531151405601E-4,1.5284227730315004E-2,null,null,5.2458179291149598,{"$f":"'Site&Soil'!$H$173*EXP('Site&Soil'!$H$174*AR40)","v":0},0.72675000000000001,1,5.6462031145839954E-2,0,0,148.8641664679954,6.0875427702979552E-3,8.4051732036154604E-4,8.8733011800809115E-5,1.0500539472016888E-3,5.2468679830621614,0.39743630669042568,2.2188887150926041E-3,-2.7439086342649385E-3,null,null,null,null,null,null,null,null,null,null,null,null,null,null,null,null,null,null,null,null,null,null,{"$error":"#VALUE!"},{"$f":"'Site&Soil'!$F$173*EXP('Site&Soil'!$F$174*CD40)","v":{"$error":"#VALUE!"}},{"$error":"#VALUE!"},0,{"$error":"#VALUE!"},0,0,{"$error":"#VALUE!"},{"$error":"#VALUE!"},{"$error":"#VALUE!"},{"$error":"#VALUE!"},{"$error":"#VALUE!"},{"$error":"#VALUE!"},{"$error":"#VALUE!"},{"$error":"#VALUE!"},{"$error":"#VALUE!"},null,null,{"$error":"#VALUE!"},{"$f":"'Site&Soil'!$G$173*EXP('Site&Soil'!$G$174*CV40)","v":{"$error":"#VALUE!"}},{"$error":"#VALUE!"},0,{"$error":"#VALUE!"},0,0,{"$error":"#VALUE!"},{"$error":"#VALUE!"},{"$error":"#VALUE!"},{"$error":"#VALUE!"},{"$error":"#VALUE!"},{"$error":"#VALUE!"},{"$error":"#VALUE!"},{"$error":"#VALUE!"},{"$error":"#VALUE!"},null,null,{"$error":"#VALUE!"},{"$f":"'Site&Soil'!$H$173*EXP('Site&Soil'!$H$174*DN40)","v":{"$error":"#VALUE!"}},{"$error":"#VALUE!"},0,{"$error":"#VALUE!"},0,0,{"$error":"#VALUE!"},{"$error":"#VALUE!"},{"$error":"#VALUE!"},{"$error":"#VALUE!"},{"$error":"#VALUE!"},{"$error":"#VALUE!"},{"$error":"#VALUE!"},{"$error":"#VALUE!"},{"$error":"#VALUE!"}]
[null,33,"Sep",null,null,null,null,6.2122969909124031,{"$f":"'Site&Soil'!$F$173*EXP('Site&Soil'!$F$174*H41)","v":0},0.69468750000000001,0.93941306281347592,5.4647504076362572E-3,0,0,31879.567892813029,1.3036598239230379,1.7421388163751775E-2,2.6403526681450565E-3,2.1277244078246289E-2,6.2335742349906491,0.2317298513700663,1.1787258636707888E-2,-1.6967713737051391E-2,null,null,5.0908065817517318,{"$f":"'Site&Soil'!$G$173*EXP('Site&Soil'!$G$174*Z41)","v":0},0.79087499999999999,0.96078943915232284,7.7647162374657339E-2,0,0,10.273445332995145,4.201147888492796E-4,7.9770387791823965E-5,8.2879585114517117E-6,3.4289048173547386E-3,5.0942354865690866,7.4528490440326403E-2,2.8131055792297242E-4,1.4548377529679047E-2,null,null,5.2441240744278961,{"$f":"'Site&Soil'!$H$173*EXP('Site&Soil'!$H$174*AR41)","v":0},0.72675000000000001,0.97979867385370423,5.5538822448840508E-2,0,0,128.31023937149462,5.2470254499364091E-3,7.1261996028216645E-4,7.521549888613934E-5,8.8846566206739425E-4,5.2450125400899639,0.39608786351038111,2.1574509106948485E-3,-2.5815484730263173E-3,null,null,null,null,null,null,null,null,null,null,null,null,null,null,null,null,null,null,null,null,null,null,{"$error":"#VALUE!"},{"$f":"'Site&Soil'!$F$173*EXP('Site&Soil'!$F$174*CD41)","v":{"$error":"#VALUE!"}},{"$error":"#VALUE!"},0,{"$error":"#VALUE!"},0,0,{"$error":"#VALUE!"},{"$error":"#VALUE!"},{"$error":"#VALUE!"},{"$error":"#VALUE!"},{"$error":"#VALUE!"},{"$error":"#VALUE!"},{"$error":"#VALUE!"},{"$error":"#VALUE!"},{"$error":"#VALUE!"},null,null,{"$error":"#VALUE!"},{"$f":"'Site&Soil'!$G$173*EXP('Site&Soil'!$G$174*CV41)","v":{"$error":"#VALUE!"}},{"$error":"#VALUE!"},0,{"$error":"#VALUE!"},0,0,{"$error":"#VALUE!"},{"$error":"#VALUE!"},{"$error":"#VALUE!"},{"$error":"#VALUE!"},{"$error":"#VALUE!"},{"$error":"#VALUE!"},{"$error":"#VALUE!"},{"$error":"#VALUE!"},{"$error":"#VALUE!"},null,null,{"$error":"#VALUE!"},{"$f":"'Site&Soil'!$H$173*EXP('Site&Soil'!$H$174*DN41)","v":{"$error":"#VALUE!"}},{"$error":"#VALUE!"},0,{"$error":"#VALUE!"},0,0,{"$error":"#VALUE!"},{"$error":"#VALUE!"},{"$error":"#VALUE!"},{"$error":"#VALUE!"},{"$error":"#VALUE!"},{"$error":"#VALUE!"},{"$error":"#VALUE!"},{"$error":"#VALUE!"},{"$error":"#VALUE!"}]
[null,34,"Oct",null,null,null,null,6.2166065212535981,{"$f":"'Site&Soil'!$F$173*EXP('Site&Soil'!$F$174*H42)","v":0},0.69468750000000001,0.77880078307140521,4.4832719728240917E-3,0,0,31453.546996439865,1.2862384357592862,1.4101480569504424E-2,2.1444441789154711E-3,1.7212108164590484E-2,6.233818629418189,0.2318996291239479,9.7846447638893948E-3,-1.4084958724447172E-2,{"$f":"-'Profit Calculator'!H$29*'Quantity of Lime to Apply'!H$9","v":-4.1127189873417735E-2},null,5.1087838640987657,{"$f":"'Site&Soil'!$G$173*EXP('Site&Soil'!$G$174*Z42)","v":0},0.79087499999999999,0.85214378896621112,6.6063433699278307E-2,0,0,8.3227481903979186,3.403444010574556E-4,5.4982932327214146E-5,5.721656504188638E-6,2.7737701340142203E-3,5.1115576342327795,8.822814397384951E-2,3.0738145381846188E-4,1.1983263233849763E-2,{"$f":"-'Profit Calculator'!$H$29*'Quantity of Lime to Apply'!$H$19","v":-4.1127189873417735E-2},null,5.2424309916169376,{"$f":"'Site&Soil'!$H$173*EXP('Site&Soil'!$H$174*AR42)","v":0},0.72675000000000001,0.92161044729772479,5.2445679796138879E-2,0,0,110.88390161934632,4.5344054896542425E-3,5.8153815988748025E-4,6.1367544676172733E-5,7.2362197690470744E-4,5.2431546135938421,0.39473761542932456,2.013773011136298E-3,-2.3479759990613501E-3,0.02,null,{"$f":"BJ30+1","v":3},{"$f":"AVERAGE(H37:H42)","v":6.2028089172629199},{"$f":"AVERAGE(Z37:Z42)","v":5.0660023620859489},{"$f":"AVERAGE(AR37:AR42)","v":5.2464555962815691},null,null,null,null,null,null,null,null,null,null,null,null,null,null,null,null,{"$error":"#VALUE!"},{"$f":"'Site&Soil'!$F$173*EXP('Site&Soil'!$F$174*CD42)","v":{"$error":"#VALUE!"}},{"$error":"#VALUE!"},0,{"$error":"#VALUE!"},0,0,{"$error":"#VALUE!"},{"$error":"#VALUE!"},{"$error":"#VALUE!"},{"$error":"#VALUE!"},{"$error":"#VALUE!"},{"$error":"#VALUE!"},{"$error":"#VALUE!"},{"$error":"#VALUE!"},{"$error":"#VALUE!"},{"$error":"#VALUE!"},null,{"$error":"#VALUE!"},{"$f":"'Site&Soil'!$G$173*EXP('Site&Soil'!$G$174*CV42)","v":{"$error":"#VALUE!"}},{"$error":"#VALUE!"},0,{"$error":"#VALUE!"},0,0,{"$error":"#VALUE!"},{"$error":"#VALUE!"},{"$error":"#VALUE!"},{"$error":"#VALUE!"},{"$error":"#VALUE!"},{"$error":"#VALUE!"},{"$error":"#VALUE!"},{"$error":"#VALUE!"},{"$error":"#VALUE!"},{"$error":"#VALUE!"},null,{"$error":"#VALUE!"},{"$f":"'Site&Soil'!$H$173*EXP('Site&Soil'!$H$174*DN42)","v":{"$error":"#VALUE!"}},{"$error":"#VALUE!"},0,{"$error":"#VALUE!"},0,0,{"$error":"#VALUE!"},{"$error":"#VALUE!"},{"$error":"#VALUE!"},{"$error":"#VALUE!"},{"$error":"#VALUE!"},{"$error":"#VALUE!"},{"$error":"#VALUE!"},{"$error":"#VALUE!"},{"$error":"#VALUE!"},{"$error":"#VALUE!"},null,{"$f":"EF30+1","v":3},{"$f":"AVERAGE(CD37:CD42)","v":{"$error":"#VALUE!"}},{"$f":"AVERAGE(CV37:CV42)","v":{"$error":"#VALUE!"}},{"$f":"AVERAGE(DN37:DN42)","v":{"$error":"#VALUE!"}}]
[null,35,"Nov",null,null,null,null,6.1786064808203243,{"$f":"'Site&Soil'!$F$173*EXP('Site&Soil'!$F$174*H43)","v":0},0.69468750000000001,0.56978282473092301,3.5964352360915324E-3,0,0,31108.71079074021,1.2721369551897819,1.1188046363719898E-2,1.6525827201462162E-3,1.3726263454537013E-2,6.1923327442748617,0.20307990328844275,5.6978242088721025E-3,-8.2019961621190851E-3,null,null,5.0824137075932114,{"$f":"'Site&Soil'!$G$173*EXP('Site&Soil'!$G$174*Z43)","v":0},0.79087499999999999,0.69767632607103081,5.748794087720642E-2,0,0,6.978201022566469,2.8536146873024145E-4,4.0116240781456256E-5,4.1649917895349196E-6,2.1350200336818555E-3,5.0845487276268937,6.6867474961919554E-2,1.7923286126306519E-4,6.9778300586174017E-3,null,null,5.2608066375947802,{"$f":"'Site&Soil'!$H$173*EXP('Site&Soil'!$H$174*AR43)","v":0},0.72675000000000001,0.83220750069030147,4.5385172788859195E-2,0,0,96.663025198835456,3.9528673297667622E-3,4.3870681009429977E-4,4.6399868433255477E-5,5.4554101609986816E-4,5.2613521786108803,0.40796269580545719,1.9597661736992953E-3,-2.4499942379583488E-3,null,null,null,null,null,null,null,null,null,null,null,null,null,null,null,null,null,null,null,null,null,null,{"$error":"#VALUE!"},{"$f":"'Site&Soil'!$F$173*EXP('Site&Soil'!$F$174*CD43)","v":{"$error":"#VALUE!"}},{"$error":"#VALUE!"},0,{"$error":"#VALUE!"},0,0,{"$error":"#VALUE!"},{"$error":"#VALUE!"},{"$error":"#VALUE!"},{"$error":"#VALUE!"},{"$error":"#VALUE!"},{"$error":"#VALUE!"},{"$error":"#VALUE!"},{"$error":"#VALUE!"},{"$error":"#VALUE!"},null,null,{"$error":"#VALUE!"},{"$f":"'Site&Soil'!$G$173*EXP('Site&Soil'!$G$174*CV43)","v":{"$error":"#VALUE!"}},{"$error":"#VALUE!"},0,{"$error":"#VALUE!"},0,0,{"$error":"#VALUE!"},{"$error":"#VALUE!"},{"$error":"#VALUE!"},{"$error":"#VALUE!"},{"$error":"#VALUE!"},{"$error":"#VALUE!"},{"$error":"#VALUE!"},{"$error":"#VALUE!"},{"$error":"#VALUE!"},null,null,{"$error":"#VALUE!"},{"$f":"'Site&Soil'!$H$173*EXP('Site&Soil'!$H$174*DN43)","v":{"$error":"#VALUE!"}},{"$error":"#VALUE!"},0,{"$error":"#VALUE!"},0,0,{"$error":"#VALUE!"},{"$error":"#VALUE!"},{"$error":"#VALUE!"},{"$error":"#VALUE!"},{"$error":"#VALUE!"},{"$error":"#VALUE!"},{"$error":"#VALUE!"},{"$error":"#VALUE!"},{"$error":"#VALUE!"}]
[null,36,"Dec",null,null,null,null,6.184130748112743,{"$f":"'Site&Soil'!$F$173*EXP('Site&Soil'!$F$174*H44)","v":0},0.69468750000000001,0.36787944117144233,2.2912132830475588E-3,0,0,30835.119415831654,1.2609489088260619,7.0649835189911178E-3,1.0478813602507239E-3,8.6615955501436175E-3,6.1927923436628864,0.20339918123831119,3.6884768508901817E-3,-5.3095483233686824E-3,null,null,5.0915265576855111,{"$f":"'Site&Soil'!$G$173*EXP('Site&Soil'!$G$174*Z44)","v":0},0.79087499999999999,0.52729242404304844,4.2542803360284778E-2,0,0,5.9972024536695816,2.4524522794878517E-4,2.5513780469828242E-5,2.6509876873372187E-6,1.3538728029501691E-3,5.092880430488461,7.3456810462561556E-2,1.5169247216054434E-4,4.471989099073352E-3,null,null,5.2589021843729222,{"$f":"'Site&Soil'!$H$173*EXP('Site&Soil'!$H$174*AR44)","v":0},0.72675000000000001,0.72142229035475613,3.9517312040572163E-2,0,0,85.934932424330867,3.5141605196724623E-3,3.3959175397977654E-4,3.5908388493494843E-5,4.2151269786531672E-4,5.259323697070788,0.40648849684619504,1.6848510545162459E-3,-2.1096093324467859E-3,null,null,null,null,null,null,null,null,null,null,null,null,null,null,null,null,null,null,null,null,null,null,{"$error":"#VALUE!"},{"$f":"'Site&Soil'!$F$173*EXP('Site&Soil'!$F$174*CD44)","v":{"$error":"#VALUE!"}},{"$error":"#VALUE!"},0,{"$error":"#VALUE!"},0,0,{"$error":"#VALUE!"},{"$error":"#VALUE!"},{"$error":"#VALUE!"},{"$error":"#VALUE!"},{"$error":"#VALUE!"},{"$error":"#VALUE!"},{"$error":"#VALUE!"},{"$error":"#VALUE!"},{"$error":"#VALUE!"},null,null,{"$error":"#VALUE!"},{"$f":"'Site&Soil'!$G$173*EXP('Site&Soil'!$G$174*CV44)","v":{"$error":"#VALUE!"}},{"$error":"#VALUE!"},0,{"$error":"#VALUE!"},0,0,{"$error":"#VALUE!"},{"$error":"#VALUE!"},{"$error":"#VALUE!"},{"$error":"#VALUE!"},{"$error":"#VALUE!"},{"$error":"#VALUE!"},{"$error":"#VALUE!"},{"$error":"#VALUE!"},{"$error":"#VALUE!"},null,null,{"$error":"#VALUE!"},{"$f":"'Site&Soil'!$H$173*EXP('Site&Soil'!$H$174*DN44)","v":{"$error":"#VALUE!"}},{"$error":"#VALUE!"},0,{"$error":"#VALUE!"},0,0,{"$error":"#VALUE!"},{"$error":"#VALUE!"},{"$error":"#VALUE!"},{"$error":"#VALUE!"},{"$error":"#VALUE!"},{"$error":"#VALUE!"},{"$error":"#VALUE!"},{"$error":"#VALUE!"},{"$error":"#VALUE!"}]
[{"$f":"A33+1","v":4},37,"Jan",{"$f":"OFFSET(Apply_Lime!$H$16,$A45,0)","v":0},{"$f":"OFFSET(Apply_Lime!$I$16,$A45,0)*G45","v":0},{"$f":"OFFSET(Apply_Lime!$I$16,$A45,0)*(1-G45)","v":0},{"$f":"'Profit Calculator'!I28","v":0},6.1874827953395179,{"$f":"'Site&Soil'!$F$173*EXP('Site&Soil'!$F$174*H45)","v":0},0.69468750000000001,4.6770622383959001E-2,2.8894169346217746E-4,0,0,30662.353010345971,1.2538839253070708,8.859632204344459E-4,1.3173814462218194E-4,1.0857041127302046E-3,6.1885684994522485,0.20046492946323366,4.5769909546224011E-4,-6.5885609783138479E-4,null,null,5.0973524195875344,{"$f":"'Site&Soil'!$G$173*EXP('Site&Soil'!$G$174*Z45)","v":0},0.79087499999999999,0.14085842092104497,1.1212657015795539E-2,0,0,5.3732909993435687,2.1973144747895694E-4,6.0248869021700696E-6,6.263284194482472E-7,1.7339870789303462E-4,5.0975258182954271,7.713073154439587E-2,4.3006696509636589E-5,5.243463239482896E-4,null,null,5.2572140877383413,{"$f":"'Site&Soil'!$H$173*EXP('Site&Soil'!$H$174*AR45)","v":0},0.72675000000000001,0.36787944117144233,2.0230246775279209E-2,0,0,77.630589390839589,3.1745687656926859E-3,1.5704859806870572E-4,1.6602801530014769E-5,1.9411369103287127E-4,5.2574082014293744,0.40509641038879768,8.524562797079208E-4,-1.11379371613111E-3,null,null,null,null,null,null,null,null,null,null,null,null,null,null,null,null,null,null,{"$f":"OFFSET(Apply_Lime!$O$16,$A45,0)","v":0},{"$f":"OFFSET(Apply_Lime!$P$16,$A45,0)*CA$7","v":0},{"$f":"OFFSET(Apply_Lime!$P$16,$A45,0)*CB$7","v":0},null,{"$error":"#VALUE!"},{"$f":"'Site&Soil'!$F$173*EXP('Site&Soil'!$F$174*CD45)","v":{"$error":"#VALUE!"}},{"$error":"#VALUE!"},0,{"$error":"#VALUE!"},0,0,{"$error":"#VALUE!"},{"$error":"#VALUE!"},{"$error":"#VALUE!"},{"$error":"#VALUE!"},{"$error":"#VALUE!"},{"$error":"#VALUE!"},{"$error":"#VALUE!"},{"$error":"#VALUE!"},{"$error":"#VALUE!"},null,null,{"$error":"#VALUE!"},{"$f":"'Site&Soil'!$G$173*EXP('Site&Soil'!$G$174*CV45)","v":{"$error":"#VALUE!"}},{"$error":"#VALUE!"},0,{"$error":"#VALUE!"},0,0,{"$error":"#VALUE!"},{"$error":"#VALUE!"},{"$error":"#VALUE!"},{"$error":"#VALUE!"},{"$error":"#VALUE!"},{"$error":"#VALUE!"},{"$error":"#VALUE!"},{"$error":"#VALUE!"},{"$error":"#VALUE!"},null,null,{"$error":"#VALUE!"},{"$f":"'Site&Soil'!$H$173*EXP('Site&Soil'!$H$174*DN45)","v":{"$error":"#VALUE!"}},{"$error":"#VALUE!"},0,{"$error":"#VALUE!"},0,0,{"$error":"#VALUE!"},{"$error":"#VALUE!"},{"$error":"#VALUE!"},{"$error":"#VALUE!"},{"$error":"#VALUE!"},{"$error":"#VALUE!"},{"$error":"#VALUE!"},{"$error":"#VALUE!"},{"$error":"#VALUE!"}]
[null,38,"Feb",null,null,null,null,6.1879096433544172,{"$f":"'Site&Soil'!$F$173*EXP('Site&Soil'!$F$174*H46)","v":0},0.69468750000000001,0.1053992245618643,6.5046775387868014E-4,0,0,30640.687753721446,1.2529979620866363,1.9930779340461171E-3,2.9645580686656493E-4,2.4422810647658868E-3,6.1903519244191827,0.20170385249495074,1.0420859327708821E-3,-1.5000787156395964E-3,null,null,5.0980501646193757,{"$f":"'Site&Soil'!$G$173*EXP('Site&Soil'!$G$174*Z46)","v":0},0.79087499999999999,0.23692775868212174,1.8829602377815689E-2,0,0,5.2259590132536227,2.1370656057678687E-4,9.8402730262327755E-6,1.0230266476250713E-6,3.8599406131837851E-4,5.0984361586806939,7.7850696996593777E-2,7.316689242648236E-5,1.2251228580299034E-3,null,null,5.2562944077132432,{"$f":"'Site&Soil'!$H$173*EXP('Site&Soil'!$H$174*AR46)","v":0},0.72675000000000001,0.47965226883004436,2.6433040931594376E-2,0,0,73.790138567145291,3.0175201676239803E-3,1.9504977530933725E-4,2.0617835812570778E-5,2.4142410202186658E-4,5.2565358318152651,0.40446241577174374,1.1074917669766178E-3,-1.4232196416238535E-3,null,null,null,null,null,null,null,null,null,null,null,null,null,null,null,null,null,null,null,null,null,null,{"$error":"#VALUE!"},{"$f":"'Site&Soil'!$F$173*EXP('Site&Soil'!$F$174*CD46)","v":{"$error":"#VALUE!"}},{"$error":"#VALUE!"},0,{"$error":"#VALUE!"},0,0,{"$error":"#VALUE!"},{"$error":"#VALUE!"},{"$error":"#VALUE!"},{"$error":"#VALUE!"},{"$error":"#VALUE!"},{"$error":"#VALUE!"},{"$error":"#VALUE!"},{"$error":"#VALUE!"},{"$error":"#VALUE!"},null,null,{"$error":"#VALUE!"},{"$f":"'Site&Soil'!$G$173*EXP('Site&Soil'!$G$174*CV46)","v":{"$error":"#VALUE!"}},{"$error":"#VALUE!"},0,{"$error":"#VALUE!"},0,0,{"$error":"#VALUE!"},{"$error":"#VALUE!"},{"$error":"#VALUE!"},{"$error":"#VALUE!"},{"$error":"#VALUE!"},{"$error":"#VALUE!"},{"$error":"#VALUE!"},{"$error":"#VALUE!"},{"$error":"#VALUE!"},null,null,{"$error":"#VALUE!"},{"$f":"'Site&Soil'!$H$173*EXP('Site&Soil'!$H$174*DN46)","v":{"$error":"#VALUE!"}},{"$error":"#VALUE!"},0,{"$error":"#VALUE!"},0,0,{"$error":"#VALUE!"},{"$error":"#VALUE!"},{"$error":"#VALUE!"},{"$error":"#VALUE!"},{"$error":"#VALUE!"},{"$error":"#VALUE!"},{"$error":"#VALUE!"},{"$error":"#VALUE!"},{"$error":"#VALUE!"}]
[null,39,"Mar",null,null,null,null,6.1888518457035433,{"$f":"'Site&Soil'!$F$173*EXP('Site&Soil'!$F$174*H47)","v":0},0.69468750000000001,0.20961138715109778,1.2906625002433727E-3,0,0,30591.949223816548,1.2510048841525903,3.9483881672529369E-3,5.8771192853074934E-4,4.837680595551507E-3,6.193689526299095,0.20402244280090229,2.1124300725659071E-3,-3.0408350122406217E-3,null,null,5.0996612815387241,{"$f":"'Site&Soil'!$G$173*EXP('Site&Soil'!$G$174*Z47)","v":0},0.79087499999999999,0.36787944117144206,2.9128168732253903E-2,0,0,4.9853259537185126,2.0386628755055409E-4,1.4521341556519747E-5,1.5098995871933798E-6,7.5956803603613172E-4,5.1004208495747605,7.94203394074387E-2,1.1642817939542815E-4,2.5237893386065796E-3,null,null,5.2551126121736411,{"$f":"'Site&Soil'!$H$173*EXP('Site&Soil'!$H$174*AR47)","v":0},0.72675000000000001,0.60037304119840451,3.3176485345519514E-2,0,0,69.020410728375111,2.8224703923146431E-3,2.289854645071675E-4,2.4201474781133565E-5,2.8385812083003413E-4,5.2553964702944711,0.40363438478650676,1.3797671751080067E-3,-1.738340551376097E-3,null,null,null,null,null,null,null,null,null,null,null,null,null,null,null,null,null,null,null,null,null,null,{"$error":"#VALUE!"},{"$f":"'Site&Soil'!$F$173*EXP('Site&Soil'!$F$174*CD47)","v":{"$error":"#VALUE!"}},{"$error":"#VALUE!"},0,{"$error":"#VALUE!"},0,0,{"$error":"#VALUE!"},{"$error":"#VALUE!"},{"$error":"#VALUE!"},{"$error":"#VALUE!"},{"$error":"#VALUE!"},{"$error":"#VALUE!"},{"$error":"#VALUE!"},{"$error":"#VALUE!"},{"$error":"#VALUE!"},null,null,{"$error":"#VALUE!"},{"$f":"'Site&Soil'!$G$173*EXP('Site&Soil'!$G$174*CV47)","v":{"$error":"#VALUE!"}},{"$error":"#VALUE!"},0,{"$error":"#VALUE!"},0,0,{"$error":"#VALUE!"},{"$error":"#VALUE!"},{"$error":"#VALUE!"},{"$error":"#VALUE!"},{"$error":"#VALUE!"},{"$error":"#VALUE!"},{"$error":"#VALUE!"},{"$error":"#VALUE!"},{"$error":"#VALUE!"},null,null,{"$error":"#VALUE!"},{"$f":"'Site&Soil'!$H$173*EXP('Site&Soil'!$H$174*DN47)","v":{"$error":"#VALUE!"}},{"$error":"#VALUE!"},0,{"$error":"#VALUE!"},0,0,{"$error":"#VALUE!"},{"$error":"#VALUE!"},{"$error":"#VALUE!"},{"$error":"#VALUE!"},{"$error":"#VALUE!"},{"$error":"#VALUE!"},{"$error":"#VALUE!"},{"$error":"#VALUE!"},{"$error":"#VALUE!"}]
[null,40,"Apr",null,null,null,null,6.1906486912868539,{"$f":"'Site&Soil'!$F$173*EXP('Site&Soil'!$F$174*H48)","v":0},0.69468750000000001,0.36787944117144233,2.2553503229652094E-3,0,0,30495.395731613084,1.2470564959853374,6.8777800612245445E-3,1.0251406371920668E-3,8.4248520723814342E-3,6.1990735433592352,0.20776265215236847,3.8224916202148434E-3,-5.5024620713843902E-3,null,null,5.1029446389133675,{"$f":"'Site&Soil'!$G$173*EXP('Site&Soil'!$G$174*Z48)","v":0},0.79087499999999999,0.52729242404304844,4.1434554589611448E-2,0,0,4.6302225091307108,1.8934494599403434E-4,1.9185120731662416E-5,1.9954090339578897E-6,1.3179457548788006E-3,5.1042625846682466,8.2458671649499493E-2,1.7480363143956563E-4,4.6122180986569025E-3,null,null,5.2536581297430951,{"$f":"'Site&Soil'!$H$173*EXP('Site&Soil'!$H$174*AR48)","v":0},0.72675000000000001,0.72142229035475613,4.0000142805104083E-2,0,0,63.420822915462246,2.5934849278074754E-3,2.5368419734357074E-4,2.6807057790491477E-5,3.1492610744690352E-4,5.2539730558505422,0.40259991833938141,1.6483001389697531E-3,-2.0275149742417439E-3,null,null,null,null,null,null,null,null,null,null,null,null,null,null,null,null,null,null,null,null,null,null,{"$error":"#VALUE!"},{"$f":"'Site&Soil'!$F$173*EXP('Site&Soil'!$F$174*CD48)","v":{"$error":"#VALUE!"}},{"$error":"#VALUE!"},0,{"$error":"#VALUE!"},0,0,{"$error":"#VALUE!"},{"$error":"#VALUE!"},{"$error":"#VALUE!"},{"$error":"#VALUE!"},{"$error":"#VALUE!"},{"$error":"#VALUE!"},{"$error":"#VALUE!"},{"$error":"#VALUE!"},{"$error":"#VALUE!"},null,null,{"$error":"#VALUE!"},{"$f":"'Site&Soil'!$G$173*EXP('Site&Soil'!$G$174*CV48)","v":{"$error":"#VALUE!"}},{"$error":"#VALUE!"},0,{"$error":"#VALUE!"},0,0,{"$error":"#VALUE!"},{"$error":"#VALUE!"},{"$error":"#VALUE!"},{"$error":"#VALUE!"},{"$error":"#VALUE!"},{"$error":"#VALUE!"},{"$error":"#VALUE!"},{"$error":"#VALUE!"},{"$error":"#VALUE!"},null,null,{"$error":"#VALUE!"},{"$f":"'Site&Soil'!$H$173*EXP('Site&Soil'!$H$174*DN48)","v":{"$error":"#VALUE!"}},{"$error":"#VALUE!"},0,{"$error":"#VALUE!"},0,0,{"$error":"#VALUE!"},{"$error":"#VALUE!"},{"$error":"#VALUE!"},{"$error":"#VALUE!"},{"$error":"#VALUE!"},{"$error":"#VALUE!"},{"$error":"#VALUE!"},{"$error":"#VALUE!"},{"$error":"#VALUE!"}]
[null,41,"May",null,null,null,null,6.1935710812878506,{"$f":"'Site&Soil'!$F$173*EXP('Site&Soil'!$F$174*H49)","v":0},0.69468750000000001,0.56978282473092301,3.4685198244843994E-3,0,0,30327.207180896046,1.2401787159241129,1.0519051932818357E-2,1.571359893794005E-3,1.2880168477228036E-2,6.2064512497650783,0.21288785257117762,6.1703739505537388E-3,-8.8822297083994434E-3,null,null,5.1088748027669038,{"$f":"'Site&Soil'!$G$173*EXP('Site&Soil'!$G$174*Z49)","v":0},0.79087499999999999,0.69767632607103081,5.4076794078219269E-2,0,0,4.1610714716642425,1.7015982526237192E-4,2.2501740511794005E-5,2.341604513311008E-6,2.0123534437079035E-3,5.1108871562106115,8.7697879668067386E-2,2.4976422712582219E-4,7.4861510648685532E-3,null,null,5.2519455408763003,{"$f":"'Site&Soil'!$H$173*EXP('Site&Soil'!$H$174*AR49)","v":0},0.72675000000000001,0.83220750069030147,4.6326122114399862E-2,0,0,57.217254742124425,2.3398007304639046E-3,2.6506535302343805E-4,2.8003799725100645E-5,3.2941610981994965E-4,5.2522749569861205,0.40136582498966294,1.8881955670837372E-3,-2.2544634880741865E-3,null,null,null,null,null,null,null,null,null,null,null,null,null,null,null,null,null,null,null,null,null,null,{"$error":"#VALUE!"},{"$f":"'Site&Soil'!$F$173*EXP('Site&Soil'!$F$174*CD49)","v":{"$error":"#VALUE!"}},{"$error":"#VALUE!"},0,{"$error":"#VALUE!"},0,0,{"$error":"#VALUE!"},{"$error":"#VALUE!"},{"$error":"#VALUE!"},{"$error":"#VALUE!"},{"$error":"#VALUE!"},{"$error":"#VALUE!"},{"$error":"#VALUE!"},{"$error":"#VALUE!"},{"$error":"#VALUE!"},null,null,{"$error":"#VALUE!"},{"$f":"'Site&Soil'!$G$173*EXP('Site&Soil'!$G$174*CV49)","v":{"$error":"#VALUE!"}},{"$error":"#VALUE!"},0,{"$error":"#VALUE!"},0,0,{"$error":"#VALUE!"},{"$error":"#VALUE!"},{"$error":"#VALUE!"},{"$error":"#VALUE!"},{"$error":"#VALUE!"},{"$error":"#VALUE!"},{"$error":"#VALUE!"},{"$error":"#VALUE!"},{"$error":"#VALUE!"},null,null,{"$error":"#VALUE!"},{"$f":"'Site&Soil'!$H$173*EXP('Site&Soil'!$H$174*DN49)","v":{"$error":"#VALUE!"}},{"$error":"#VALUE!"},0,{"$error":"#VALUE!"},0,0,{"$error":"#VALUE!"},{"$error":"#VALUE!"},{"$error":"#VALUE!"},{"$error":"#VALUE!"},{"$error":"#VALUE!"},{"$error":"#VALUE!"},{"$error":"#VALUE!"},{"$error":"#VALUE!"},{"$error":"#VALUE!"}]
[null,42,"Jun",null,null,null,null,6.1975690200566786,{"$f":"'Site&Soil'!$F$173*EXP('Site&Soil'!$F$174*H50)","v":0},0.69468750000000001,0.77880078307140521,4.6952051809255177E-3,0,0,30069.975329375779,1.2296596639912944,1.4118470395678765E-2,2.1154969999858777E-3,1.7278234307790033E-2,6.2148472543644688,0.21872045201631671,8.8341145964704101E-3,-1.2716674182953356E-2,null,null,5.1183733072754798,{"$f":"'Site&Soil'!$G$173*EXP('Site&Soil'!$G$174*Z50)","v":0},0.79087499999999999,0.85214378896621112,6.4614821299290429E-2,0,0,3.6108161434042021,1.4765808475057792E-4,2.3331223985065556E-5,2.430019509863329E-6,2.7013095678344616E-3,5.1210746168433143,9.5754887595956226E-2,3.4099534512378672E-4,1.0738889522802747E-2,null,null,5.2500204934980461,{"$f":"'Site&Soil'!$H$173*EXP('Site&Soil'!$H$174*AR50)","v":0},0.72675000000000001,0.92161044729772479,5.1532079704292542E-2,0,0,50.735372917834965,2.0747353774404663E-3,2.6144992810288764E-4,2.7615303180094503E-5,3.2509754995893559E-4,5.2503455910480055,0.39996365829413782,2.0745003493927621E-3,-2.3852838036036812E-3,null,null,null,null,null,null,null,null,null,null,null,null,null,null,null,null,null,null,null,null,null,null,{"$error":"#VALUE!"},{"$f":"'Site&Soil'!$F$173*EXP('Site&Soil'!$F$174*CD50)","v":{"$error":"#VALUE!"}},{"$error":"#VALUE!"},0,{"$error":"#VALUE!"},0,0,{"$error":"#VALUE!"},{"$error":"#VALUE!"},{"$error":"#VALUE!"},{"$error":"#VALUE!"},{"$error":"#VALUE!"},{"$error":"#VALUE!"},{"$error":"#VALUE!"},{"$error":"#VALUE!"},{"$error":"#VALUE!"},null,null,{"$error":"#VALUE!"},{"$f":"'Site&Soil'!$G$173*EXP('Site&Soil'!$G$174*CV50)","v":{"$error":"#VALUE!"}},{"$error":"#VALUE!"},0,{"$error":"#VALUE!"},0,0,{"$error":"#VALUE!"},{"$error":"#VALUE!"},{"$error":"#VALUE!"},{"$error":"#VALUE!"},{"$error":"#VALUE!"},{"$error":"#VALUE!"},{"$error":"#VALUE!"},{"$error":"#VALUE!"},{"$error":"#VALUE!"},null,null,{"$error":"#VALUE!"},{"$f":"'Site&Soil'!$H$173*EXP('Site&Soil'!$H$174*DN50)","v":{"$error":"#VALUE!"}},{"$error":"#VALUE!"},0,{"$error":"#VALUE!"},0,0,{"$error":"#VALUE!"},{"$error":"#VALUE!"},{"$error":"#VALUE!"},{"$error":"#VALUE!"},{"$error":"#VALUE!"},{"$error":"#VALUE!"},{"$error":"#VALUE!"},{"$error":"#VALUE!"},{"$error":"#VALUE!"}]
[null,43,"Jul",null,null,null,null,6.2021305801815156,{"$f":"'Site&Soil'!$F$173*EXP('Site&Soil'!$F$174*H51)","v":0},0.69468750000000001,0.93941306281347592,5.6012200538307867E-3,0,0,29724.72365615379,1.2155411935956157,1.6649471823742698E-2,2.5035011940935884E-3,2.0363070631973526E-2,6.2224936508134894,0.22403230804949567,1.1108640156175725E-2,-1.5990845029132846E-2,null,null,5.1318135063661172,{"$f":"'Site&Soil'!$G$173*EXP('Site&Soil'!$G$174*Z51)","v":0},0.79087499999999999,0.96078943915232284,7.0623681816203862E-2,0,0,3.04027670864884,1.2432686076551238E-4,2.1471553490483123E-5,2.2391318690329904E-6,3.1898006836921619E-3,5.1350033070498098,0.10677074046301831,4.4267376299561795E-4,1.3486285940483777E-2,null,null,5.2479603072444014,{"$f":"'Site&Soil'!$H$173*EXP('Site&Soil'!$H$174*AR51)","v":0},0.72675000000000001,0.97979867385370423,5.5047669548209111E-2,0,0,44.341902335574275,1.8132854493375786E-3,2.4409183869076543E-4,2.5775381620133321E-5,3.0348206252447902E-4,5.2482637893069262,0.39845070887880846,2.186629688878605E-3,-2.3996641567017368E-3,null,null,null,null,null,null,null,null,null,null,null,null,null,null,null,null,null,null,null,null,null,null,{"$error":"#VALUE!"},{"$f":"'Site&Soil'!$F$173*EXP('Site&Soil'!$F$174*CD51)","v":{"$error":"#VALUE!"}},{"$error":"#VALUE!"},0,{"$error":"#VALUE!"},0,0,{"$error":"#VALUE!"},{"$error":"#VALUE!"},{"$error":"#VALUE!"},{"$error":"#VALUE!"},{"$error":"#VALUE!"},{"$error":"#VALUE!"},{"$error":"#VALUE!"},{"$error":"#VALUE!"},{"$error":"#VALUE!"},null,null,{"$error":"#VALUE!"},{"$f":"'Site&Soil'!$G$173*EXP('Site&Soil'!$G$174*CV51)","v":{"$error":"#VALUE!"}},{"$error":"#VALUE!"},0,{"$error":"#VALUE!"},0,0,{"$error":"#VALUE!"},{"$error":"#VALUE!"},{"$error":"#VALUE!"},{"$error":"#VALUE!"},{"$error":"#VALUE!"},{"$error":"#VALUE!"},{"$error":"#VALUE!"},{"$error":"#VALUE!"},{"$error":"#VALUE!"},null,null,{"$error":"#VALUE!"},{"$f":"'Site&Soil'!$H$173*EXP('Site&Soil'!$H$174*DN51)","v":{"$error":"#VALUE!"}},{"$error":"#VALUE!"},0,{"$error":"#VALUE!"},0,0,{"$error":"#VALUE!"},{"$error":"#VALUE!"},{"$error":"#VALUE!"},{"$error":"#VALUE!"},{"$error":"#VALUE!"},{"$error":"#VALUE!"},{"$error":"#VALUE!"},{"$error":"#VALUE!"},{"$error":"#VALUE!"}]
[null,44,"Aug",null,null,null,null,6.2065028057843561,{"$f":"'Site&Soil'!$F$173*EXP('Site&Soil'!$F$174*H52)","v":0},0.69468750000000001,1,5.8995745538320214E-3,0,0,29317.579125315035,1.1988917217718731,1.7296124378766545E-2,2.6095494905047528E-3,2.1141268395158674E-2,6.2276440741795147,0.22761024278158137,1.2157264798427775E-2,-1.7500336192068772E-2,null,null,5.1484895929902939,{"$f":"'Site&Soil'!$G$173*EXP('Site&Soil'!$G$174*Z52)","v":0},0.79087499999999999,1,7.0724991576426394E-2,0,0,2.5152134715198629,1.0285530727502925E-4,1.7788845158615648E-5,1.8580684997035714E-6,3.3197158427863628E-3,5.1518093088330801,0.12006218712336221,5.3853701559450622E-4,1.4690978704388517E-2,null,null,5.2458641251502245,{"$f":"'Site&Soil'!$H$173*EXP('Site&Soil'!$H$174*AR52)","v":0},0.72675000000000001,1,5.6455991946485047E-2,0,0,38.372904748299391,1.5691936106468133E-3,2.1663804014332284E-4,2.287050270985119E-5,2.6917868033460643E-4,5.2461333038305593,0.39690237855885885,2.2121623949796728E-3,-2.3028900989131981E-3,null,null,null,null,null,null,null,null,null,null,null,null,null,null,null,null,null,null,null,null,null,null,{"$error":"#VALUE!"},{"$f":"'Site&Soil'!$F$173*EXP('Site&Soil'!$F$174*CD52)","v":{"$error":"#VALUE!"}},{"$error":"#VALUE!"},0,{"$error":"#VALUE!"},0,0,{"$error":"#VALUE!"},{"$error":"#VALUE!"},{"$error":"#VALUE!"},{"$error":"#VALUE!"},{"$error":"#VALUE!"},{"$error":"#VALUE!"},{"$error":"#VALUE!"},{"$error":"#VALUE!"},{"$error":"#VALUE!"},null,null,{"$error":"#VALUE!"},{"$f":"'Site&Soil'!$G$173*EXP('Site&Soil'!$G$174*CV52)","v":{"$error":"#VALUE!"}},{"$error":"#VALUE!"},0,{"$error":"#VALUE!"},0,0,{"$error":"#VALUE!"},{"$error":"#VALUE!"},{"$error":"#VALUE!"},{"$error":"#VALUE!"},{"$error":"#VALUE!"},{"$error":"#VALUE!"},{"$error":"#VALUE!"},{"$error":"#VALUE!"},{"$error":"#VALUE!"},null,null,{"$error":"#VALUE!"},{"$f":"'Site&Soil'!$H$173*EXP('Site&Soil'!$H$174*DN52)","v":{"$error":"#VALUE!"}},{"$error":"#VALUE!"},0,{"$error":"#VALUE!"},0,0,{"$error":"#VALUE!"},{"$error":"#VALUE!"},{"$error":"#VALUE!"},{"$error":"#VALUE!"},{"$error":"#VALUE!"},{"$error":"#VALUE!"},{"$error":"#VALUE!"},{"$error":"#VALUE!"},{"$error":"#VALUE!"}]
[null,45,"Sep",null,null,null,null,6.2101437379874458,{"$f":"'Site&Soil'!$F$173*EXP('Site&Soil'!$F$174*H53)","v":0},0.69468750000000001,0.93941306281347592,5.4933887192139203E-3,0,0,28894.62141710236,1.1815955973931065,1.5872938733866703E-2,2.401625079838654E-3,1.9391904495227062E-2,6.2295356424826727,0.22892429163718142,1.1536766862006239E-2,-1.6607131785164177E-2,null,null,5.1665002875374686,{"$f":"'Site&Soil'!$G$173*EXP('Site&Soil'!$G$174*Z53)","v":0},0.79087499999999999,0.96078943915232284,6.5179076028535177E-2,0,0,2.0802068182793896,8.5066462116413605E-5,1.355859583637096E-5,1.4187689053601313E-6,3.0520182162410811E-3,5.1695523057537098,0.13409467981296527,6.0199387716059253E-4,1.3826170993956879E-2,null,null,5.2438304137316463,{"$f":"'Site&Soil'!$H$173*EXP('Site&Soil'!$H$174*AR53)","v":0},0.72675000000000001,0.97979867385370423,5.5576598897203372E-2,0,0,33.075259624794583,1.3525555705034904E-3,1.838210437588074E-4,1.940122511947512E-5,2.2819207092492937E-4,5.2440586058025715,0.39539459176701874,2.1489493419880744E-3,-2.1285936908530881E-3,null,null,null,null,null,null,null,null,null,null,null,null,null,null,null,null,null,null,null,null,null,null,{"$error":"#VALUE!"},{"$f":"'Site&Soil'!$F$173*EXP('Site&Soil'!$F$174*CD53)","v":{"$error":"#VALUE!"}},{"$error":"#VALUE!"},0,{"$error":"#VALUE!"},0,0,{"$error":"#VALUE!"},{"$error":"#VALUE!"},{"$error":"#VALUE!"},{"$error":"#VALUE!"},{"$error":"#VALUE!"},{"$error":"#VALUE!"},{"$error":"#VALUE!"},{"$error":"#VALUE!"},{"$error":"#VALUE!"},null,null,{"$error":"#VALUE!"},{"$f":"'Site&Soil'!$G$173*EXP('Site&Soil'!$G$174*CV53)","v":{"$error":"#VALUE!"}},{"$error":"#VALUE!"},0,{"$error":"#VALUE!"},0,0,{"$error":"#VALUE!"},{"$error":"#VALUE!"},{"$error":"#VALUE!"},{"$error":"#VALUE!"},{"$error":"#VALUE!"},{"$error":"#VALUE!"},{"$error":"#VALUE!"},{"$error":"#VALUE!"},{"$error":"#VALUE!"},null,null,{"$error":"#VALUE!"},{"$f":"'Site&Soil'!$H$173*EXP('Site&Soil'!$H$174*DN53)","v":{"$error":"#VALUE!"}},{"$error":"#VALUE!"},0,{"$error":"#VALUE!"},0,0,{"$error":"#VALUE!"},{"$error":"#VALUE!"},{"$error":"#VALUE!"},{"$error":"#VALUE!"},{"$error":"#VALUE!"},{"$error":"#VALUE!"},{"$error":"#VALUE!"},{"$error":"#VALUE!"},{"$error":"#VALUE!"}]
[null,46,"Oct",null,null,null,null,6.2129285106975081,{"$f":"'Site&Soil'!$F$173*EXP('Site&Soil'!$F$174*H54)","v":0},0.69468750000000001,0.77880078307140521,4.523496303055592E-3,0,0,28506.466149340853,1.1657226586592397,1.2894889423972274E-2,1.9552925331617925E-3,1.5747507895003839E-2,6.2286760185925116,0.22832712166598518,9.5205031270497072E-3,-1.3704727848204706E-2,{"$f":"-'Profit Calculator'!I$29*'Quantity of Lime to Apply'!H$9","v":-5.0363037974683549E-2},null,5.1833784767476665,{"$f":"'Site&Soil'!$G$173*EXP('Site&Soil'!$G$174*Z54)","v":0},0.79087499999999999,0.85214378896621112,5.5594834246246207E-2,0,0,1.7486462619403325,7.1507866280042645E-5,9.7215699087890814E-6,1.0190507318659605E-6,2.4833191747605067E-3,5.1858617959224267,0.1469934478501492,6.0767679927192656E-4,1.126957651686775E-2,{"$f":"-'Profit Calculator'!$I$29*'Quantity of Lime to Apply'!$H$19","v":-5.0363037974683549E-2},null,5.2419300121117187,{"$f":"'Site&Soil'!$H$173*EXP('Site&Soil'!$H$174*AR54)","v":0},0.72675000000000001,0.92161044729772479,5.2506549692125912E-2,0,0,28.580118072451548,1.1687345267446831E-3,1.500643389778003E-4,1.5834771757737914E-5,1.8610060949697746E-4,5.2421161127212157,0.39398288492014338,2.0051222579729289E-3,-1.9228695682160335E-3,0.02,null,{"$f":"BJ42+1","v":4},{"$f":"AVERAGE(H49:H54)","v":6.2038076226658925},{"$f":"AVERAGE(Z49:Z54)","v":5.1429049956139883},{"$f":"AVERAGE(AR49:AR54)","v":5.2469251487687236},null,null,null,null,null,null,null,null,null,null,null,null,null,null,null,null,{"$error":"#VALUE!"},{"$f":"'Site&Soil'!$F$173*EXP('Site&Soil'!$F$174*CD54)","v":{"$error":"#VALUE!"}},{"$error":"#VALUE!"},0,{"$error":"#VALUE!"},0,0,{"$error":"#VALUE!"},{"$error":"#VALUE!"},{"$error":"#VALUE!"},{"$error":"#VALUE!"},{"$error":"#VALUE!"},{"$error":"#VALUE!"},{"$error":"#VALUE!"},{"$error":"#VALUE!"},{"$error":"#VALUE!"},{"$error":"#VALUE!"},null,{"$error":"#VALUE!"},{"$f":"'Site&Soil'!$G$173*EXP('Site&Soil'!$G$174*CV54)","v":{"$error":"#VALUE!"}},{"$error":"#VALUE!"},0,{"$error":"#VALUE!"},0,0,{"$error":"#VALUE!"},{"$error":"#VALUE!"},{"$error":"#VALUE!"},{"$error":"#VALUE!"},{"$error":"#VALUE!"},{"$error":"#VALUE!"},{"$error":"#VALUE!"},{"$error":"#VALUE!"},{"$error":"#VALUE!"},{"$error":"#VALUE!"},null,{"$error":"#VALUE!"},{"$f":"'Site&Soil'!$H$173*EXP('Site&Soil'!$H$174*DN54)","v":{"$error":"#VALUE!"}},{"$error":"#VALUE!"},0,{"$error":"#VALUE!"},0,0,{"$error":"#VALUE!"},{"$error":"#VALUE!"},{"$error":"#VALUE!"},{"$error":"#VALUE!"},{"$error":"#VALUE!"},{"$error":"#VALUE!"},{"$error":"#VALUE!"},{"$error":"#VALUE!"},{"$error":"#VALUE!"},{"$error":"#VALUE!"},null,{"$f":"EF42+1","v":4},{"$f":"AVERAGE(CD49:CD54)","v":{"$error":"#VALUE!"}},{"$f":"AVERAGE(CV49:CV54)","v":{"$error":"#VALUE!"}},{"$f":"AVERAGE(DN49:DN54)","v":{"$error":"#VALUE!"}}]
[null,47,"Nov",null,null,null,null,6.1646082527696233,{"$f":"'Site&Soil'!$F$173*EXP('Site&Soil'!$F$174*H55)","v":0},0.69468750000000001,0.56978282473092301,3.720146584294788E-3,0,0,28191.135803710666,1.1528277692352675,1.0487515756756475E-2,1.5332371820706511E-3,1.2889649770128039E-2,6.1774979025397512,0.19277432417058316,5.2270474881529992E-3,-7.5243148727348616E-3,null,null,5.1467683344646105,{"$f":"'Site&Soil'!$G$173*EXP('Site&Soil'!$G$174*Z55)","v":0},0.79087499999999999,0.69767632607103081,4.9539980384412333E-2,0,0,1.510915956653065,6.1786296371253569E-5,7.4850746855088441E-6,7.8169419935327647E-7,1.9471352142333576E-3,5.1487154696788435,0.11761534708225538,3.6545461511471944E-4,6.1471065250997695E-3,null,null,5.2601932431529992,{"$f":"'Site&Soil'!$H$173*EXP('Site&Soil'!$H$174*AR55)","v":0},0.72675000000000001,0.83220750069030147,4.5449691732263056E-2,0,0,24.910459627093708,1.0186701877668827E-3,1.1321727109603937E-4,1.1973514457458632E-5,1.4038589726581908E-4,5.2603336290502654,0.4072224649122802,1.9516277433090556E-3,-2.1825567639412952E-3,null,null,null,null,null,null,null,null,null,null,null,null,null,null,null,null,null,null,null,null,null,null,{"$error":"#VALUE!"},{"$f":"'Site&Soil'!$F$173*EXP('Site&Soil'!$F$174*CD55)","v":{"$error":"#VALUE!"}},{"$error":"#VALUE!"},0,{"$error":"#VALUE!"},0,0,{"$error":"#VALUE!"},{"$error":"#VALUE!"},{"$error":"#VALUE!"},{"$error":"#VALUE!"},{"$error":"#VALUE!"},{"$error":"#VALUE!"},{"$error":"#VALUE!"},{"$error":"#VALUE!"},{"$error":"#VALUE!"},null,null,{"$error":"#VALUE!"},{"$f":"'Site&Soil'!$G$173*EXP('Site&Soil'!$G$174*CV55)","v":{"$error":"#VALUE!"}},{"$error":"#VALUE!"},0,{"$error":"#VALUE!"},0,0,{"$error":"#VALUE!"},{"$error":"#VALUE!"},{"$error":"#VALUE!"},{"$error":"#VALUE!"},{"$error":"#VALUE!"},{"$error":"#VALUE!"},{"$error":"#VALUE!"},{"$error":"#VALUE!"},{"$error":"#VALUE!"},null,null,{"$error":"#VALUE!"},{"$f":"'Site&Soil'!$H$173*EXP('Site&Soil'!$H$174*DN55)","v":{"$error":"#VALUE!"}},{"$error":"#VALUE!"},0,{"$error":"#VALUE!"},0,0,{"$error":"#VALUE!"},{"$error":"#VALUE!"},{"$error":"#VALUE!"},{"$error":"#VALUE!"},{"$error":"#VALUE!"},{"$error":"#VALUE!"},{"$error":"#VALUE!"},{"$error":"#VALUE!"},{"$error":"#VALUE!"}]
[null,48,"Dec",null,null,null,null,6.1699735876670161,{"$f":"'Site&Soil'!$F$173*EXP('Site&Soil'!$F$174*H56)","v":0},0.69468750000000001,0.36787944117144233,2.3709878438312906E-3,0,0,27934.675134708563,1.142340253478511,6.6232775165770228E-3,9.7210287610133587E-4,8.1348442867846139E-3,6.1781084319538007,0.19319845132290564,3.3870186720607429E-3,-4.875600427617803E-3,null,null,5.1548625762039437,{"$f":"'Site&Soil'!$G$173*EXP('Site&Soil'!$G$174*Z56)","v":0},0.79087499999999999,0.52729242404304844,3.6747072537310743E-2,0,0,1.3278766834925366,5.4301221685744727E-5,4.8795580808903869E-6,5.0999740561080657E-7,1.2346735410483523E-3,5.1560972497449917,0.12345341239207033,2.948844557297129E-4,3.9097635104549137E-3,null,null,5.2581510722863243,{"$f":"'Site&Soil'!$H$173*EXP('Site&Soil'!$H$174*AR56)","v":0},0.72675000000000001,0.72142229035475613,3.9586111245908759E-2,0,0,22.141855721142331,9.0545291667084335E-4,8.7650996376800161E-5,9.2673357419042824E-6,1.0855680500929713E-4,5.2582596290913335,0.40571518544212648,1.6775305931998907E-3,-1.9025058651120437E-3,null,null,null,null,null,null,null,null,null,null,null,null,null,null,null,null,null,null,null,null,null,null,{"$error":"#VALUE!"},{"$f":"'Site&Soil'!$F$173*EXP('Site&Soil'!$F$174*CD56)","v":{"$error":"#VALUE!"}},{"$error":"#VALUE!"},0,{"$error":"#VALUE!"},0,0,{"$error":"#VALUE!"},{"$error":"#VALUE!"},{"$error":"#VALUE!"},{"$error":"#VALUE!"},{"$error":"#VALUE!"},{"$error":"#VALUE!"},{"$error":"#VALUE!"},{"$error":"#VALUE!"},{"$error":"#VALUE!"},null,null,{"$error":"#VALUE!"},{"$f":"'Site&Soil'!$G$173*EXP('Site&Soil'!$G$174*CV56)","v":{"$error":"#VALUE!"}},{"$error":"#VALUE!"},0,{"$error":"#VALUE!"},0,0,{"$error":"#VALUE!"},{"$error":"#VALUE!"},{"$error":"#VALUE!"},{"$error":"#VALUE!"},{"$error":"#VALUE!"},{"$error":"#VALUE!"},{"$error":"#VALUE!"},{"$error":"#VALUE!"},{"$error":"#VALUE!"},null,null,{"$error":"#VALUE!"},{"$f":"'Site&Soil'!$H$173*EXP('Site&Soil'!$H$174*DN56)","v":{"$error":"#VALUE!"}},{"$error":"#VALUE!"},0,{"$error":"#VALUE!"},0,0,{"$error":"#VALUE!"},{"$error":"#VALUE!"},{"$error":"#VALUE!"},{"$error":"#VALUE!"},{"$error":"#VALUE!"},{"$error":"#VALUE!"},{"$error":"#VALUE!"},{"$error":"#VALUE!"},{"$error":"#VALUE!"}]
[{"$f":"A45+1","v":5},49,"Jan",{"$f":"OFFSET(Apply_Lime!$H$16,$A57,0)","v":0},{"$f":"OFFSET(Apply_Lime!$I$16,$A57,0)*G57","v":0},{"$f":"OFFSET(Apply_Lime!$I$16,$A57,0)*(1-G57)","v":0},{"$f":"'Profit Calculator'!J28","v":0},6.1732328315261826,{"$f":"'Site&Soil'!$F$173*EXP('Site&Soil'!$F$174*H57)","v":0},0.69468750000000001,4.6770622383959001E-2,2.9907297228379368E-4,0,0,27772.710163948581,1.1357169759619339,8.3060669771084299E-4,1.2220134020183258E-4,1.0197468034317738E-3,6.1742525783296145,0.19051983800835381,4.2088740629800723E-4,-6.0586581203491818E-4,null,null,5.1600070132554468,{"$f":"'Site&Soil'!$G$173*EXP('Site&Soil'!$G$174*Z57)","v":0},0.79087499999999999,0.14085842092104497,9.7003210996603664E-3,0,0,1.2085524546775717,4.9421663604854342E-5,1.1723346876155178E-6,1.2259215869613581E-7,1.5584141960581883E-4,5.1601628546750522,0.1266687976911319,8.158593940514559E-5,4.2902034694845787E-4,null,null,5.2563571232262216,{"$f":"'Site&Soil'!$H$173*EXP('Site&Soil'!$H$174*AR57)","v":0},0.72675000000000001,0.36787944117144233,2.027043497107249E-2,0,0,19.998446958679871,8.1780192029404317E-4,4.0537721859836278E-5,4.2850939320403275E-6,5.0051902423793724E-5,5.2564071751286452,0.40436891452474277,8.4896630846587181E-4,-1.0559069405720347E-3,null,null,null,null,null,null,null,null,null,null,null,null,null,null,null,null,null,null,{"$f":"OFFSET(Apply_Lime!$O$16,$A57,0)","v":0},{"$f":"OFFSET(Apply_Lime!$P$16,$A57,0)*CA$7","v":0},{"$f":"OFFSET(Apply_Lime!$P$16,$A57,0)*CB$7","v":0},null,{"$error":"#VALUE!"},{"$f":"'Site&Soil'!$F$173*EXP('Site&Soil'!$F$174*CD57)","v":{"$error":"#VALUE!"}},{"$error":"#VALUE!"},0,{"$error":"#VALUE!"},0,0,{"$error":"#VALUE!"},{"$error":"#VALUE!"},{"$error":"#VALUE!"},{"$error":"#VALUE!"},{"$error":"#VALUE!"},{"$error":"#VALUE!"},{"$error":"#VALUE!"},{"$error":"#VALUE!"},{"$error":"#VALUE!"},null,null,{"$error":"#VALUE!"},{"$f":"'Site&Soil'!$G$173*EXP('Site&Soil'!$G$174*CV57)","v":{"$error":"#VALUE!"}},{"$error":"#VALUE!"},0,{"$error":"#VALUE!"},0,0,{"$error":"#VALUE!"},{"$error":"#VALUE!"},{"$error":"#VALUE!"},{"$error":"#VALUE!"},{"$error":"#VALUE!"},{"$error":"#VALUE!"},{"$error":"#VALUE!"},{"$error":"#VALUE!"},{"$error":"#VALUE!"},null,null,{"$error":"#VALUE!"},{"$f":"'Site&Soil'!$H$173*EXP('Site&Soil'!$H$174*DN57)","v":{"$error":"#VALUE!"}},{"$error":"#VALUE!"},0,{"$error":"#VALUE!"},0,0,{"$error":"#VALUE!"},{"$error":"#VALUE!"},{"$error":"#VALUE!"},{"$error":"#VALUE!"},{"$error":"#VALUE!"},{"$error":"#VALUE!"},{"$error":"#VALUE!"},{"$error":"#VALUE!"},{"$error":"#VALUE!"}]
[null,50,"Feb",null,null,null,null,6.1736467125175798,{"$f":"'Site&Soil'!$F$173*EXP('Site&Soil'!$F$174*H58)","v":0},0.69468750000000001,0.1053992245618643,6.7329761239061402E-4,0,0,27752.398590234345,1.134886369264223,1.8685623708917427E-3,2.7499243493035567E-4,2.2939378295440565E-3,6.1759406503471235,0.19169252053801711,9.5803909970665585E-4,-1.3790936208103008E-3,null,null,5.1605918750220008,{"$f":"'Site&Soil'!$G$173*EXP('Site&Soil'!$G$174*Z58)","v":0},0.79087499999999999,0.23692775868212174,1.6294149319153982E-2,0,0,1.1798842986286475,4.8249328917238821E-5,1.9225210941180449E-6,2.0105171057901476E-7,3.4988323605360483E-4,5.1609417582580548,0.12728481306233907,1.3814472092034044E-4,1.0366927501644575E-3,null,null,5.2553512681880727,{"$f":"'Site&Soil'!$H$173*EXP('Site&Soil'!$H$174*AR58)","v":0},0.72675000000000001,0.47965226883004436,2.6490836612531009E-2,0,0,19.007141533341464,7.7726419843420695E-4,5.0351508083100088E-5,5.3218085999824566E-6,6.223701574640061E-5,5.2554135052038191,0.4036467649068754,1.1024057870944108E-3,-1.3268126125546204E-3,null,null,null,null,null,null,null,null,null,null,null,null,null,null,null,null,null,null,null,null,null,null,{"$error":"#VALUE!"},{"$f":"'Site&Soil'!$F$173*EXP('Site&Soil'!$F$174*CD58)","v":{"$error":"#VALUE!"}},{"$error":"#VALUE!"},0,{"$error":"#VALUE!"},0,0,{"$error":"#VALUE!"},{"$error":"#VALUE!"},{"$error":"#VALUE!"},{"$error":"#VALUE!"},{"$error":"#VALUE!"},{"$error":"#VALUE!"},{"$error":"#VALUE!"},{"$error":"#VALUE!"},{"$error":"#VALUE!"},null,null,{"$error":"#VALUE!"},{"$f":"'Site&Soil'!$G$173*EXP('Site&Soil'!$G$174*CV58)","v":{"$error":"#VALUE!"}},{"$error":"#VALUE!"},0,{"$error":"#VALUE!"},0,0,{"$error":"#VALUE!"},{"$error":"#VALUE!"},{"$error":"#VALUE!"},{"$error":"#VALUE!"},{"$error":"#VALUE!"},{"$error":"#VALUE!"},{"$error":"#VALUE!"},{"$error":"#VALUE!"},{"$error":"#VALUE!"},null,null,{"$error":"#VALUE!"},{"$f":"'Site&Soil'!$H$173*EXP('Site&Soil'!$H$174*DN58)","v":{"$error":"#VALUE!"}},{"$error":"#VALUE!"},0,{"$error":"#VALUE!"},0,0,{"$error":"#VALUE!"},{"$error":"#VALUE!"},{"$error":"#VALUE!"},{"$error":"#VALUE!"},{"$error":"#VALUE!"},{"$error":"#VALUE!"},{"$error":"#VALUE!"},{"$error":"#VALUE!"},{"$error":"#VALUE!"}]
[null,51,"Mar",null,null,null,null,6.1745615567263128,{"$f":"'Site&Soil'!$F$173*EXP('Site&Soil'!$F$174*H59)","v":0},0.69468750000000001,0.20961138715109778,1.3360550379319218E-3,0,0,27706.704951547574,1.1330178068933312,3.7017682735008459E-3,5.4514972564822313E-4,4.5439403297923495E-3,6.1791054970561055,0.19389109998616302,1.941235583939338E-3,-2.7944012004524881E-3,null,null,5.1619784510082196,{"$f":"'Site&Soil'!$G$173*EXP('Site&Soil'!$G$174*Z59)","v":0},0.79087499999999999,0.36787944117144206,2.5219025568690753E-2,0,0,1.1328711586817042,4.6326807823120778E-5,2.8569906716826222E-6,2.9881766061996438E-7,6.9253409029149452E-4,5.1626709850985115,0.1286524153397853,2.176679300715526E-4,2.1793174065026528E-3,null,null,5.2540866925912644,{"$f":"'Site&Soil'!$H$173*EXP('Site&Soil'!$H$174*AR59)","v":0},0.72675000000000001,0.60037304119840451,3.3255398724459095E-2,0,0,17.775850754117855,7.2691269035110681E-4,5.911430044946662E-5,6.2469970463884427E-6,7.3155997335669956E-5,5.2541598485885999,0.4027356699617648,1.3727805828048015E-3,-1.5894222947825921E-3,null,null,null,null,null,null,null,null,null,null,null,null,null,null,null,null,null,null,null,null,null,null,{"$error":"#VALUE!"},{"$f":"'Site&Soil'!$F$173*EXP('Site&Soil'!$F$174*CD59)","v":{"$error":"#VALUE!"}},{"$error":"#VALUE!"},0,{"$error":"#VALUE!"},0,0,{"$error":"#VALUE!"},{"$error":"#VALUE!"},{"$error":"#VALUE!"},{"$error":"#VALUE!"},{"$error":"#VALUE!"},{"$error":"#VALUE!"},{"$error":"#VALUE!"},{"$error":"#VALUE!"},{"$error":"#VALUE!"},null,null,{"$error":"#VALUE!"},{"$f":"'Site&Soil'!$G$173*EXP('Site&Soil'!$G$174*CV59)","v":{"$error":"#VALUE!"}},{"$error":"#VALUE!"},0,{"$error":"#VALUE!"},0,0,{"$error":"#VALUE!"},{"$error":"#VALUE!"},{"$error":"#VALUE!"},{"$error":"#VALUE!"},{"$error":"#VALUE!"},{"$error":"#VALUE!"},{"$error":"#VALUE!"},{"$error":"#VALUE!"},{"$error":"#VALUE!"},null,null,{"$error":"#VALUE!"},{"$f":"'Site&Soil'!$H$173*EXP('Site&Soil'!$H$174*DN59)","v":{"$error":"#VALUE!"}},{"$error":"#VALUE!"},0,{"$error":"#VALUE!"},0,0,{"$error":"#VALUE!"},{"$error":"#VALUE!"},{"$error":"#VALUE!"},{"$error":"#VALUE!"},{"$error":"#VALUE!"},{"$error":"#VALUE!"},{"$error":"#VALUE!"},{"$error":"#VALUE!"},{"$error":"#VALUE!"}]
[null,52,"Apr",null,null,null,null,6.1763110958556533,{"$f":"'Site&Soil'!$F$173*EXP('Site&Soil'!$F$174*H60)","v":0},0.69468750000000001,0.36787944117144233,2.3349547749498966E-3,0,0,27616.182277738844,1.1293160386198304,6.4482536675293019E-3,9.5084776172755007E-4,7.9134947811811095E-3,6.1842245906368341,0.19744727030802542,3.510599145323839E-3,-5.0534940463501056E-3,null,null,5.1648503025050143,{"$f":"'Site&Soil'!$G$173*EXP('Site&Soil'!$G$174*Z60)","v":0},0.79087499999999999,0.52729242404304844,3.5907830973984298E-2,0,0,1.06300659246921,4.3469817151438156E-5,3.8170261046615402E-6,3.9934573227854696E-7,1.2065945213844578E-3,5.1660568970263991,0.13133024843575342,3.2097646846006577E-4,4.0330300956077422E-3,null,null,5.2525704262938175,{"$f":"'Site&Soil'!$H$173*EXP('Site&Soil'!$H$174*AR60)","v":0},0.72675000000000001,0.72142229035475613,4.0101021995200853E-2,0,0,16.330275520431606,6.6779838990164021E-4,6.5486073783251782E-5,6.9190486610684119E-6,8.1137077199122006E-5,5.2526515633710167,0.40163952367988626,1.6393721905125531E-3,-1.8140980007602164E-3,null,null,null,null,null,null,null,null,null,null,null,null,null,null,null,null,null,null,null,null,null,null,{"$error":"#VALUE!"},{"$f":"'Site&Soil'!$F$173*EXP('Site&Soil'!$F$174*CD60)","v":{"$error":"#VALUE!"}},{"$error":"#VALUE!"},0,{"$error":"#VALUE!"},0,0,{"$error":"#VALUE!"},{"$error":"#VALUE!"},{"$error":"#VALUE!"},{"$error":"#VALUE!"},{"$error":"#VALUE!"},{"$error":"#VALUE!"},{"$error":"#VALUE!"},{"$error":"#VALUE!"},{"$error":"#VALUE!"},null,null,{"$error":"#VALUE!"},{"$f":"'Site&Soil'!$G$173*EXP('Site&Soil'!$G$174*CV60)","v":{"$error":"#VALUE!"}},{"$error":"#VALUE!"},0,{"$error":"#VALUE!"},0,0,{"$error":"#VALUE!"},{"$error":"#VALUE!"},{"$error":"#VALUE!"},{"$error":"#VALUE!"},{"$error":"#VALUE!"},{"$error":"#VALUE!"},{"$error":"#VALUE!"},{"$error":"#VALUE!"},{"$error":"#VALUE!"},null,null,{"$error":"#VALUE!"},{"$f":"'Site&Soil'!$H$173*EXP('Site&Soil'!$H$174*DN60)","v":{"$error":"#VALUE!"}},{"$error":"#VALUE!"},0,{"$error":"#VALUE!"},0,0,{"$error":"#VALUE!"},{"$error":"#VALUE!"},{"$error":"#VALUE!"},{"$error":"#VALUE!"},{"$error":"#VALUE!"},{"$error":"#VALUE!"},{"$error":"#VALUE!"},{"$error":"#VALUE!"},{"$error":"#VALUE!"}]
[null,53,"May",null,null,null,null,6.1791710965904842,{"$f":"'Site&Soil'!$F$173*EXP('Site&Soil'!$F$174*H61)","v":0},0.69468750000000001,0.56978282473092301,3.5915285385428662E-3,0,0,27458.497322805219,1.1228677849523012,9.8617976760357832E-3,1.457295041841603E-3,1.209824940594754E-2,6.1912693459964316,0.20234117379689587,5.6632138960463927E-3,-8.1521747491446056E-3,null,null,5.1700899271220067,{"$f":"'Site&Soil'!$G$173*EXP('Site&Soil'!$G$174*Z61)","v":0},0.79087499999999999,0.69767632607103081,4.6938318042591305E-2,0,0,0.96966541510131654,3.9652791046776618E-5,4.5514463648926916E-6,4.7643775917552976E-7,1.8477889052597694E-3,5.1719377160272666,0.13598124116306448,4.4572880740900039E-4,6.597104584969044E-3,null,null,5.2508374653702568,{"$f":"'Site&Soil'!$H$173*EXP('Site&Soil'!$H$174*AR61)","v":0},0.72675000000000001,0.83220750069030147,4.6445143577346699E-2,0,0,14.728885574299321,6.0231231611838844E-4,6.8408520523264261E-5,7.2262839589732749E-6,8.4841657135832833E-5,5.2509223070273929,0.40038278663215771,1.8777135087091371E-3,-1.9703951858275016E-3,null,null,null,null,null,null,null,null,null,null,null,null,null,null,null,null,null,null,null,null,null,null,{"$error":"#VALUE!"},{"$f":"'Site&Soil'!$F$173*EXP('Site&Soil'!$F$174*CD61)","v":{"$error":"#VALUE!"}},{"$error":"#VALUE!"},0,{"$error":"#VALUE!"},0,0,{"$error":"#VALUE!"},{"$error":"#VALUE!"},{"$error":"#VALUE!"},{"$error":"#VALUE!"},{"$error":"#VALUE!"},{"$error":"#VALUE!"},{"$error":"#VALUE!"},{"$error":"#VALUE!"},{"$error":"#VALUE!"},null,null,{"$error":"#VALUE!"},{"$f":"'Site&Soil'!$G$173*EXP('Site&Soil'!$G$174*CV61)","v":{"$error":"#VALUE!"}},{"$error":"#VALUE!"},0,{"$error":"#VALUE!"},0,0,{"$error":"#VALUE!"},{"$error":"#VALUE!"},{"$error":"#VALUE!"},{"$error":"#VALUE!"},{"$error":"#VALUE!"},{"$error":"#VALUE!"},{"$error":"#VALUE!"},{"$error":"#VALUE!"},{"$error":"#VALUE!"},null,null,{"$error":"#VALUE!"},{"$f":"'Site&Soil'!$H$173*EXP('Site&Soil'!$H$174*DN61)","v":{"$error":"#VALUE!"}},{"$error":"#VALUE!"},0,{"$error":"#VALUE!"},0,0,{"$error":"#VALUE!"},{"$error":"#VALUE!"},{"$error":"#VALUE!"},{"$error":"#VALUE!"},{"$error":"#VALUE!"},{"$error":"#VALUE!"},{"$error":"#VALUE!"},{"$error":"#VALUE!"},{"$error":"#VALUE!"}]
[null,54,"Jun",null,null,null,null,6.1831171712472868,{"$f":"'Site&Soil'!$F$173*EXP('Site&Soil'!$F$174*H62)","v":0},0.69468750000000001,0.77880078307140521,4.8624075473395669E-3,0,0,27217.337901621024,1.1130059872762654,1.3234178923133331E-2,1.9614083353928936E-3,1.6227110157791002E-2,6.1993442814050779,0.20795073048858978,8.1045911539906965E-3,-1.1666527976954669E-2,null,null,5.1785348206122359,{"$f":"'Site&Soil'!$G$173*EXP('Site&Soil'!$G$174*Z62)","v":0},0.79087499999999999,0.85214378896621112,5.6221372334489893E-2,0,0,0.85836479761089113,3.5101344681883927E-5,4.8258446885300969E-6,5.0560461950040155E-7,2.4855110800846192E-3,5.1810203316923209,0.14316445482716431,5.8528638064739129E-4,9.5075767641451623E-3,null,null,5.2489519118415657,{"$f":"'Site&Soil'!$H$173*EXP('Site&Soil'!$H$174*AR62)","v":0},0.72675000000000001,0.92161044729772479,5.1659748481714778E-2,0,0,13.056030405758788,5.3390379559512414E-4,6.7447124693111949E-5,7.1230812992999357E-6,8.3700926058909422E-5,5.2490356127676243,0.39901163157887082,2.06332935997685E-3,-2.0337708693903803E-3,null,null,null,null,null,null,null,null,null,null,null,null,null,null,null,null,null,null,null,null,null,null,{"$error":"#VALUE!"},{"$f":"'Site&Soil'!$F$173*EXP('Site&Soil'!$F$174*CD62)","v":{"$error":"#VALUE!"}},{"$error":"#VALUE!"},0,{"$error":"#VALUE!"},0,0,{"$error":"#VALUE!"},{"$error":"#VALUE!"},{"$error":"#VALUE!"},{"$error":"#VALUE!"},{"$error":"#VALUE!"},{"$error":"#VALUE!"},{"$error":"#VALUE!"},{"$error":"#VALUE!"},{"$error":"#VALUE!"},null,null,{"$error":"#VALUE!"},{"$f":"'Site&Soil'!$G$173*EXP('Site&Soil'!$G$174*CV62)","v":{"$error":"#VALUE!"}},{"$error":"#VALUE!"},0,{"$error":"#VALUE!"},0,0,{"$error":"#VALUE!"},{"$error":"#VALUE!"},{"$error":"#VALUE!"},{"$error":"#VALUE!"},{"$error":"#VALUE!"},{"$error":"#VALUE!"},{"$error":"#VALUE!"},{"$error":"#VALUE!"},{"$error":"#VALUE!"},null,null,{"$error":"#VALUE!"},{"$f":"'Site&Soil'!$H$173*EXP('Site&Soil'!$H$174*DN62)","v":{"$error":"#VALUE!"}},{"$error":"#VALUE!"},0,{"$error":"#VALUE!"},0,0,{"$error":"#VALUE!"},{"$error":"#VALUE!"},{"$error":"#VALUE!"},{"$error":"#VALUE!"},{"$error":"#VALUE!"},{"$error":"#VALUE!"},{"$error":"#VALUE!"},{"$error":"#VALUE!"},{"$error":"#VALUE!"}]
[null,55,"Jul",null,null,null,null,6.1876777534281233,{"$f":"'Site&Soil'!$F$173*EXP('Site&Soil'!$F$174*H63)","v":0},0.69468750000000001,0.93941306281347592,5.8008110537713159E-3,0,0,26893.710604266671,1.099771808353132,1.5600533375015695E-2,2.3200596515455061E-3,1.9117191144896357E-2,6.2067949445730193,0.2131266130580691,1.0192699551616108E-2,-1.4672352031116305E-2,null,null,5.1905279084564659,{"$f":"'Site&Soil'!$G$173*EXP('Site&Soil'!$G$174*Z63)","v":0},0.79087499999999999,0.96078943915232284,6.1654588559275199E-2,0,0,0.74035407075946025,3.0275499993353832E-5,4.5646225620859042E-6,4.7884600282762518E-7,2.9387013473744453E-3,5.1934666098038402,0.15300790502861214,7.2578618841572266E-4,1.1970176530046322E-2,null,null,5.2470018418982338,{"$f":"'Site&Soil'!$H$173*EXP('Site&Soil'!$H$174*AR63)","v":0},0.72675000000000001,0.97979867385370423,5.5169975605111415E-2,0,0,11.406685115391056,4.6645667090201219E-4,6.2930653955131213E-5,6.6445158317484222E-6,7.8107993293719184E-5,5.2470799498915275,0.39759035358366746,2.1759686604540872E-3,-1.9954351180438454E-3,null,null,null,null,null,null,null,null,null,null,null,null,null,null,null,null,null,null,null,null,null,null,{"$error":"#VALUE!"},{"$f":"'Site&Soil'!$F$173*EXP('Site&Soil'!$F$174*CD63)","v":{"$error":"#VALUE!"}},{"$error":"#VALUE!"},0,{"$error":"#VALUE!"},0,0,{"$error":"#VALUE!"},{"$error":"#VALUE!"},{"$error":"#VALUE!"},{"$error":"#VALUE!"},{"$error":"#VALUE!"},{"$error":"#VALUE!"},{"$error":"#VALUE!"},{"$error":"#VALUE!"},{"$error":"#VALUE!"},null,null,{"$error":"#VALUE!"},{"$f":"'Site&Soil'!$G$173*EXP('Site&Soil'!$G$174*CV63)","v":{"$error":"#VALUE!"}},{"$error":"#VALUE!"},0,{"$error":"#VALUE!"},0,0,{"$error":"#VALUE!"},{"$error":"#VALUE!"},{"$error":"#VALUE!"},{"$error":"#VALUE!"},{"$error":"#VALUE!"},{"$error":"#VALUE!"},{"$error":"#VALUE!"},{"$error":"#VALUE!"},{"$error":"#VALUE!"},null,null,{"$error":"#VALUE!"},{"$f":"'Site&Soil'!$H$173*EXP('Site&Soil'!$H$174*DN63)","v":{"$error":"#VALUE!"}},{"$error":"#VALUE!"},0,{"$error":"#VALUE!"},0,0,{"$error":"#VALUE!"},{"$error":"#VALUE!"},{"$error":"#VALUE!"},{"$error":"#VALUE!"},{"$error":"#VALUE!"},{"$error":"#VALUE!"},{"$error":"#VALUE!"},{"$error":"#VALUE!"},{"$error":"#VALUE!"}]
[null,56,"Aug",null,null,null,null,6.192122592541903,{"$f":"'Site&Soil'!$F$173*EXP('Site&Soil'!$F$174*H64)","v":0},0.69468750000000001,1,6.1088354858392698E-3,0,0,26512.216710103166,1.0841712749781163,1.6195877024693908E-2,2.41671386441384E-3,1.9835052682364469E-2,6.2119576452242677,0.21671307666673326,1.1164589590412749E-2,-1.6071384025785333E-2,null,null,5.2054367863338866,{"$f":"'Site&Soil'!$G$173*EXP('Site&Soil'!$G$174*Z64)","v":0},0.79087499999999999,1,6.1994555953339407E-2,0,0,0.62873124385114698,2.5710877431267928E-5,3.8977914276542623E-6,4.0956046795495026E-7,3.0601575411709049E-3,5.2084969438750575,0.16489502048718607,8.42761106866856E-4,1.3051150287397999E-2,null,null,5.2450845147734837,{"$f":"'Site&Soil'!$H$173*EXP('Site&Soil'!$H$174*AR64)","v":0},0.72675000000000001,1,5.6557996377590368E-2,0,0,9.867785152006002,4.0352601694688099E-4,5.5810215688199549E-5,5.8913333153755503E-6,6.9251383337845128E-5,5.2451537661568217,0.39619049955447005,2.2032197870944245E-3,-1.8719761681837887E-3,null,null,null,null,null,null,null,null,null,null,null,null,null,null,null,null,null,null,null,null,null,null,{"$error":"#VALUE!"},{"$f":"'Site&Soil'!$F$173*EXP('Site&Soil'!$F$174*CD64)","v":{"$error":"#VALUE!"}},{"$error":"#VALUE!"},0,{"$error":"#VALUE!"},0,0,{"$error":"#VALUE!"},{"$error":"#VALUE!"},{"$error":"#VALUE!"},{"$error":"#VALUE!"},{"$error":"#VALUE!"},{"$error":"#VALUE!"},{"$error":"#VALUE!"},{"$error":"#VALUE!"},{"$error":"#VALUE!"},null,null,{"$error":"#VALUE!"},{"$f":"'Site&Soil'!$G$173*EXP('Site&Soil'!$G$174*CV64)","v":{"$error":"#VALUE!"}},{"$error":"#VALUE!"},0,{"$error":"#VALUE!"},0,0,{"$error":"#VALUE!"},{"$error":"#VALUE!"},{"$error":"#VALUE!"},{"$error":"#VALUE!"},{"$error":"#VALUE!"},{"$error":"#VALUE!"},{"$error":"#VALUE!"},{"$error":"#VALUE!"},{"$error":"#VALUE!"},null,null,{"$error":"#VALUE!"},{"$f":"'Site&Soil'!$H$173*EXP('Site&Soil'!$H$174*DN64)","v":{"$error":"#VALUE!"}},{"$error":"#VALUE!"},0,{"$error":"#VALUE!"},0,0,{"$error":"#VALUE!"},{"$error":"#VALUE!"},{"$error":"#VALUE!"},{"$error":"#VALUE!"},{"$error":"#VALUE!"},{"$error":"#VALUE!"},{"$error":"#VALUE!"},{"$error":"#VALUE!"},{"$error":"#VALUE!"}]
[null,57,"Sep",null,null,null,null,6.1958862611984822,{"$f":"'Site&Soil'!$F$173*EXP('Site&Soil'!$F$174*H65)","v":0},0.69468750000000001,0.93941306281347592,5.6866387000490057E-3,0,0,26116.164341442567,1.0679753979534223,1.4851319084088715E-2,2.2224438881334376E-3,1.817921755603099E-2,6.2140654787545131,0.21817736227227558,1.0610400095770313E-2,-1.5273630367280702E-2,null,null,5.221548094162455,{"$f":"'Site&Soil'!$G$173*EXP('Site&Soil'!$G$174*Z65)","v":0},0.79087499999999999,0.96078943915232284,5.7383460261898007E-2,0,0,0.53341503929404144,2.1813086003613664E-5,3.060920071042839E-6,3.2221330797628615E-7,2.8135705325070385E-3,5.2243616646949622,0.17744203156562824,9.037459967911769E-4,1.2273310066671896E-2,null,null,5.2432817899886377,{"$f":"'Site&Soil'!$H$173*EXP('Site&Soil'!$H$174*AR65)","v":0},0.72675000000000001,0.97979867385370423,5.5647242210761443E-2,0,0,8.5030076790066254,3.4771580125868143E-4,4.7316892783364617E-5,4.9936872973085387E-6,5.867962682357394E-5,5.2433404696154611,0.39487268629303623,2.1425669978439288E-3,-1.7046040606161015E-3,null,null,null,null,null,null,null,null,null,null,null,null,null,null,null,null,null,null,null,null,null,null,{"$error":"#VALUE!"},{"$f":"'Site&Soil'!$F$173*EXP('Site&Soil'!$F$174*CD65)","v":{"$error":"#VALUE!"}},{"$error":"#VALUE!"},0,{"$error":"#VALUE!"},0,0,{"$error":"#VALUE!"},{"$error":"#VALUE!"},{"$error":"#VALUE!"},{"$error":"#VALUE!"},{"$error":"#VALUE!"},{"$error":"#VALUE!"},{"$error":"#VALUE!"},{"$error":"#VALUE!"},{"$error":"#VALUE!"},null,null,{"$error":"#VALUE!"},{"$f":"'Site&Soil'!$G$173*EXP('Site&Soil'!$G$174*CV65)","v":{"$error":"#VALUE!"}},{"$error":"#VALUE!"},0,{"$error":"#VALUE!"},0,0,{"$error":"#VALUE!"},{"$error":"#VALUE!"},{"$error":"#VALUE!"},{"$error":"#VALUE!"},{"$error":"#VALUE!"},{"$error":"#VALUE!"},{"$error":"#VALUE!"},{"$error":"#VALUE!"},{"$error":"#VALUE!"},null,null,{"$error":"#VALUE!"},{"$f":"'Site&Soil'!$H$173*EXP('Site&Soil'!$H$174*DN65)","v":{"$error":"#VALUE!"}},{"$error":"#VALUE!"},0,{"$error":"#VALUE!"},0,0,{"$error":"#VALUE!"},{"$error":"#VALUE!"},{"$error":"#VALUE!"},{"$error":"#VALUE!"},{"$error":"#VALUE!"},{"$error":"#VALUE!"},{"$error":"#VALUE!"},{"$error":"#VALUE!"},{"$error":"#VALUE!"}]
[null,58,"Oct",null,null,null,null,6.1987918483872324,{"$f":"'Site&Soil'!$F$173*EXP('Site&Soil'!$F$174*H66)","v":0},0.69468750000000001,0.77880078307140521,4.6813111817299944E-3,0,0,25752.991659159321,1.0531240788693337,1.2055776781702181E-2,1.8081192923924206E-3,1.4751463772285754E-2,6.2135433121595183,0.21781461966581511,8.7711536284102651E-3,-1.2626042110172221E-2,{"$f":"-'Profit Calculator'!J$29*'Quantity of Lime to Apply'!H$9","v":-4.0091240506329125E-2},null,5.2366349747616345,{"$f":"'Site&Soil'!$G$173*EXP('Site&Soil'!$G$174*Z66)","v":0},0.79087499999999999,0.85214378896621112,4.9147702721467137E-2,0,0,0.45856360379790173,1.8752165932570824E-5,2.2537347678343911E-6,2.3766307767477169E-7,2.2887755512344937E-3,5.2389237503128694,0.18895882102869058,8.8268105169659803E-4,9.9743607734644121E-3,{"$f":"-'Profit Calculator'!$J$29*'Quantity of Lime to Apply'!$H$19","v":-4.0091240506329125E-2},null,5.2416358655548452,{"$f":"'Site&Soil'!$H$173*EXP('Site&Soil'!$H$174*AR66)","v":0},0.72675000000000001,0.92161044729772479,5.2542321749326285E-2,0,0,7.3459250810134256,3.0039890847531679E-4,3.8597195915305317E-5,4.0726274148354382E-6,4.7832447991943101E-5,5.241683698002837,0.39366862752356163,2.0015290295046172E-3,-1.5395225012838239E-3,0.02,null,{"$f":"BJ54+1","v":5},{"$f":"AVERAGE(H61:H66)","v":6.1894611205655856},{"$f":"AVERAGE(Z61:Z66)","v":5.2004620852414476},{"$f":"AVERAGE(AR61:AR66)","v":5.2461322315711696},null,null,null,null,null,null,null,null,null,null,null,null,null,null,null,null,{"$error":"#VALUE!"},{"$f":"'Site&Soil'!$F$173*EXP('Site&Soil'!$F$174*CD66)","v":{"$error":"#VALUE!"}},{"$error":"#VALUE!"},0,{"$error":"#VALUE!"},0,0,{"$error":"#VALUE!"},{"$error":"#VALUE!"},{"$error":"#VALUE!"},{"$error":"#VALUE!"},{"$error":"#VALUE!"},{"$error":"#VALUE!"},{"$error":"#VALUE!"},{"$error":"#VALUE!"},{"$error":"#VALUE!"},{"$error":"#VALUE!"},null,{"$error":"#VALUE!"},{"$f":"'Site&Soil'!$G$173*EXP('Site&Soil'!$G$174*CV66)","v":{"$error":"#VALUE!"}},{"$error":"#VALUE!"},0,{"$error":"#VALUE!"},0,0,{"$error":"#VALUE!"},{"$error":"#VALUE!"},{"$error":"#VALUE!"},{"$error":"#VALUE!"},{"$error":"#VALUE!"},{"$error":"#VALUE!"},{"$error":"#VALUE!"},{"$error":"#VALUE!"},{"$error":"#VALUE!"},{"$error":"#VALUE!"},null,{"$error":"#VALUE!"},{"$f":"'Site&Soil'!$H$173*EXP('Site&Soil'!$H$174*DN66)","v":{"$error":"#VALUE!"}},{"$error":"#VALUE!"},0,{"$error":"#VALUE!"},0,0,{"$error":"#VALUE!"},{"$error":"#VALUE!"},{"$error":"#VALUE!"},{"$error":"#VALUE!"},{"$error":"#VALUE!"},{"$error":"#VALUE!"},{"$error":"#VALUE!"},{"$error":"#VALUE!"},{"$error":"#VALUE!"},{"$error":"#VALUE!"},null,{"$f":"EF54+1","v":5},{"$f":"AVERAGE(CD61:CD66)","v":{"$error":"#VALUE!"}},{"$f":"AVERAGE(CV61:CV66)","v":{"$error":"#VALUE!"}},{"$f":"AVERAGE(DN61:DN66)","v":{"$error":"#VALUE!"}}]
[null,59,"Nov",null,null,null,null,6.1608260295430171,{"$f":"'Site&Soil'!$F$173*EXP('Site&Soil'!$F$174*H67)","v":0},0.69468750000000001,0.56978282473092301,3.7542624527541206E-3,0,0,25458.180890767057,1.0410683020876315,9.5576692633629213E-3,1.3934684188612444E-3,1.1752335898517933E-2,6.1725783654415354,0.18935678324266636,5.0765490490109E-3,-7.3076729450449298E-3,null,null,5.2088068705800046,{"$f":"'Site&Soil'!$G$173*EXP('Site&Soil'!$G$174*Z67)","v":0},0.79087499999999999,0.69767632607103081,4.2916095025917735E-2,0,0,0.4034509975603629,1.6498431164736432E-5,1.731454134960184E-6,1.8200101086266581E-7,1.7638917300273013E-3,5.2105707623100317,0.16653515164194632,5.9666514084639696E-4,5.6644651912938241E-3,null,null,5.2601441755015523,{"$f":"'Site&Soil'!$H$173*EXP('Site&Soil'!$H$174*AR67)","v":0},0.72675000000000001,0.83220750069030147,4.5454856774496115E-2,0,0,6.4020730844462426,2.6180171256001147E-4,2.9100531511336055E-5,3.0775648321158681E-6,3.605774707957737E-5,5.260180233248632,0.40711098451344319,1.9504044516841306E-3,-1.8627303898696025E-3,null,null,null,null,null,null,null,null,null,null,null,null,null,null,null,null,null,null,null,null,null,null,{"$error":"#VALUE!"},{"$f":"'Site&Soil'!$F$173*EXP('Site&Soil'!$F$174*CD67)","v":{"$error":"#VALUE!"}},{"$error":"#VALUE!"},0,{"$error":"#VALUE!"},0,0,{"$error":"#VALUE!"},{"$error":"#VALUE!"},{"$error":"#VALUE!"},{"$error":"#VALUE!"},{"$error":"#VALUE!"},{"$error":"#VALUE!"},{"$error":"#VALUE!"},{"$error":"#VALUE!"},{"$error":"#VALUE!"},null,null,{"$error":"#VALUE!"},{"$f":"'Site&Soil'!$G$173*EXP('Site&Soil'!$G$174*CV67)","v":{"$error":"#VALUE!"}},{"$error":"#VALUE!"},0,{"$error":"#VALUE!"},0,0,{"$error":"#VALUE!"},{"$error":"#VALUE!"},{"$error":"#VALUE!"},{"$error":"#VALUE!"},{"$error":"#VALUE!"},{"$error":"#VALUE!"},{"$error":"#VALUE!"},{"$error":"#VALUE!"},{"$error":"#VALUE!"},null,null,{"$error":"#VALUE!"},{"$f":"'Site&Soil'!$H$173*EXP('Site&Soil'!$H$174*DN67)","v":{"$error":"#VALUE!"}},{"$error":"#VALUE!"},0,{"$error":"#VALUE!"},0,0,{"$error":"#VALUE!"},{"$error":"#VALUE!"},{"$error":"#VALUE!"},{"$error":"#VALUE!"},{"$error":"#VALUE!"},{"$error":"#VALUE!"},{"$error":"#VALUE!"},{"$error":"#VALUE!"},{"$error":"#VALUE!"}]
[null,60,"Dec",null,null,null,null,6.1652706924964908,{"$f":"'Site&Soil'!$F$173*EXP('Site&Soil'!$F$174*H68)","v":0},0.69468750000000001,0.36787944117144233,2.3980689554326689E-3,0,0,25224.458595589218,1.0315106328242685,6.0489991075679244E-3,8.847685350010481E-4,7.4338901629392735E-3,6.1727045826594305,0.18944446476622284,3.2801372882177962E-3,-4.7217450842541378E-3,null,null,5.2162352275013255,{"$f":"'Site&Soil'!$G$173*EXP('Site&Soil'!$G$174*Z68)","v":0},0.79087499999999999,0.52729242404304844,3.1882389874250683E-2,0,0,0.36111019006147843,1.4766977029776247E-5,1.151305586710482E-6,1.2112054511571604E-7,1.1200236700396938E-3,5.217355251171365,0.17190083427015329,4.7280794653119159E-4,3.5496498709487651E-3,null,null,5.2583175028587625,{"$f":"'Site&Soil'!$H$173*EXP('Site&Soil'!$H$174*AR68)","v":0},0.72675000000000001,0.72142229035475613,3.9570856531983063E-2,0,0,5.6904515762825065,2.3270118104867541E-4,2.2517604292727197E-5,2.3808347017265359E-6,2.7874633830225495E-5,5.258345377492593,0.40577750309274185,1.67811956130138E-3,-1.6584955139596676E-3,null,null,null,null,null,null,null,null,null,null,null,null,null,null,null,null,null,null,null,null,null,null,{"$error":"#VALUE!"},{"$f":"'Site&Soil'!$F$173*EXP('Site&Soil'!$F$174*CD68)","v":{"$error":"#VALUE!"}},{"$error":"#VALUE!"},0,{"$error":"#VALUE!"},0,0,{"$error":"#VALUE!"},{"$error":"#VALUE!"},{"$error":"#VALUE!"},{"$error":"#VALUE!"},{"$error":"#VALUE!"},{"$error":"#VALUE!"},{"$error":"#VALUE!"},{"$error":"#VALUE!"},{"$error":"#VALUE!"},null,null,{"$error":"#VALUE!"},{"$f":"'Site&Soil'!$G$173*EXP('Site&Soil'!$G$174*CV68)","v":{"$error":"#VALUE!"}},{"$error":"#VALUE!"},0,{"$error":"#VALUE!"},0,0,{"$error":"#VALUE!"},{"$error":"#VALUE!"},{"$error":"#VALUE!"},{"$error":"#VALUE!"},{"$error":"#VALUE!"},{"$error":"#VALUE!"},{"$error":"#VALUE!"},{"$error":"#VALUE!"},{"$error":"#VALUE!"},null,null,{"$error":"#VALUE!"},{"$f":"'Site&Soil'!$H$173*EXP('Site&Soil'!$H$174*DN68)","v":{"$error":"#VALUE!"}},{"$error":"#VALUE!"},0,{"$error":"#VALUE!"},0,0,{"$error":"#VALUE!"},{"$error":"#VALUE!"},{"$error":"#VALUE!"},{"$error":"#VALUE!"},{"$error":"#VALUE!"},{"$error":"#VALUE!"},{"$error":"#VALUE!"},{"$error":"#VALUE!"},{"$error":"#VALUE!"}]
[{"$f":"A57+1","v":6},61,"Jan",{"$f":"OFFSET(Apply_Lime!$H$16,$A69,0)","v":0},{"$f":"OFFSET(Apply_Lime!$I$16,$A69,0)*G69","v":0},{"$f":"OFFSET(Apply_Lime!$I$16,$A69,0)*(1-G69)","v":0},{"$f":"'Profit Calculator'!K28","v":0},6.1679828375751766,{"$f":"'Site&Soil'!$F$173*EXP('Site&Soil'!$F$174*H69)","v":0},0.69468750000000001,4.6770622383959001E-2,3.0289015062272409E-4,0,0,25076.536972022594,1.0254616337167006,7.5954360605522337E-4,1.1131625718883618E-4,9.3312079009106566E-4,6.1689159583652673,0.18681255482687137,4.0765724710836786E-4,-5.8682104846908547E-4,null,null,5.2209049010423136,{"$f":"'Site&Soil'!$G$173*EXP('Site&Soil'!$G$174*Z69)","v":0},0.79087499999999999,0.14085842092104497,8.4253494708747961E-3,0,0,0.33295627755809026,1.3615671443065765E-5,2.8052729969484975E-7,2.9528028916158264E-8,1.4106812892001247E-4,5.2210459691712341,0.17481973086829977,1.2954457541995012E-4,3.5165186873831861E-4,null,null,5.2566868819786334,{"$f":"'Site&Soil'!$H$173*EXP('Site&Soil'!$H$174*AR69)","v":0},0.72675000000000001,0.36787944117144233,2.0254961222140037E-2,0,0,5.1398083166986526,2.1018357675594822E-4,1.0410661814396409E-5,1.1005180105568572E-6,1.2851285631586803E-5,5.2566997332642647,0.40458153114980422,8.4998508493554714E-4,-9.9131821054777706E-4,null,null,null,null,null,null,null,null,null,null,null,null,null,null,null,null,null,null,{"$f":"OFFSET(Apply_Lime!$O$16,$A69,0)","v":0},{"$f":"OFFSET(Apply_Lime!$P$16,$A69,0)*CA$7","v":0},{"$f":"OFFSET(Apply_Lime!$P$16,$A69,0)*CB$7","v":0},null,{"$error":"#VALUE!"},{"$f":"'Site&Soil'!$F$173*EXP('Site&Soil'!$F$174*CD69)","v":{"$error":"#VALUE!"}},{"$error":"#VALUE!"},0,{"$error":"#VALUE!"},0,0,{"$error":"#VALUE!"},{"$error":"#VALUE!"},{"$error":"#VALUE!"},{"$error":"#VALUE!"},{"$error":"#VALUE!"},{"$error":"#VALUE!"},{"$error":"#VALUE!"},{"$error":"#VALUE!"},{"$error":"#VALUE!"},null,null,{"$error":"#VALUE!"},{"$f":"'Site&Soil'!$G$173*EXP('Site&Soil'!$G$174*CV69)","v":{"$error":"#VALUE!"}},{"$error":"#VALUE!"},0,{"$error":"#VALUE!"},0,0,{"$error":"#VALUE!"},{"$error":"#VALUE!"},{"$error":"#VALUE!"},{"$error":"#VALUE!"},{"$error":"#VALUE!"},{"$error":"#VALUE!"},{"$error":"#VALUE!"},{"$error":"#VALUE!"},{"$error":"#VALUE!"},null,null,{"$error":"#VALUE!"},{"$f":"'Site&Soil'!$H$173*EXP('Site&Soil'!$H$174*DN69)","v":{"$error":"#VALUE!"}},{"$error":"#VALUE!"},0,{"$error":"#VALUE!"},0,0,{"$error":"#VALUE!"},{"$error":"#VALUE!"},{"$error":"#VALUE!"},{"$error":"#VALUE!"},{"$error":"#VALUE!"},{"$error":"#VALUE!"},{"$error":"#VALUE!"},{"$error":"#VALUE!"},{"$error":"#VALUE!"}]
[null,62,"Feb",null,null,null,null,6.1683291373167979,{"$f":"'Site&Soil'!$F$173*EXP('Site&Soil'!$F$174*H70)","v":0},0.69468750000000001,0.1053992245618643,6.8200286810195612E-4,0,0,25057.963168095797,1.0247020901106454,1.7089602749434513E-3,2.5052316522685601E-4,2.0994146428668938E-3,6.1704285519596649,0.18786333468947947,9.2706032410131626E-4,-1.3344997917787728E-3,null,null,5.2213976210399728,{"$f":"'Site&Soil'!$G$173*EXP('Site&Soil'!$G$174*Z70)","v":0},0.79087499999999999,0.23692775868212174,1.4155516749510953E-2,0,0,0.32609629082512681,1.3335144143370915E-5,4.6160615067284774E-7,4.8590967228425087E-8,3.1728930666704652E-4,5.2217149103466403,0.17534877972039911,2.1889387239197019E-4,8.954214657301673E-4,null,null,5.255708415053717,{"$f":"'Site&Soil'!$H$173*EXP('Site&Soil'!$H$174*AR70)","v":0},0.72675000000000001,0.47965226883004436,2.646893585154822E-2,0,0,4.885227026372136,1.997729149415518E-4,1.2930676078129375E-5,1.366744219950401E-6,1.5978703578131955E-5,5.2557243937572951,0.40387270316311408,1.1038127291503736E-3,-1.2176386057907167E-3,null,null,null,null,null,null,null,null,null,null,null,null,null,null,null,null,null,null,null,null,null,null,{"$error":"#VALUE!"},{"$f":"'Site&Soil'!$F$173*EXP('Site&Soil'!$F$174*CD70)","v":{"$error":"#VALUE!"}},{"$error":"#VALUE!"},0,{"$error":"#VALUE!"},0,0,{"$error":"#VALUE!"},{"$error":"#VALUE!"},{"$error":"#VALUE!"},{"$error":"#VALUE!"},{"$error":"#VALUE!"},{"$error":"#VALUE!"},{"$error":"#VALUE!"},{"$error":"#VALUE!"},{"$error":"#VALUE!"},null,null,{"$error":"#VALUE!"},{"$f":"'Site&Soil'!$G$173*EXP('Site&Soil'!$G$174*CV70)","v":{"$error":"#VALUE!"}},{"$error":"#VALUE!"},0,{"$error":"#VALUE!"},0,0,{"$error":"#VALUE!"},{"$error":"#VALUE!"},{"$error":"#VALUE!"},{"$error":"#VALUE!"},{"$error":"#VALUE!"},{"$error":"#VALUE!"},{"$error":"#VALUE!"},{"$error":"#VALUE!"},{"$error":"#VALUE!"},null,null,{"$error":"#VALUE!"},{"$f":"'Site&Soil'!$H$173*EXP('Site&Soil'!$H$174*DN70)","v":{"$error":"#VALUE!"}},{"$error":"#VALUE!"},0,{"$error":"#VALUE!"},0,0,{"$error":"#VALUE!"},{"$error":"#VALUE!"},{"$error":"#VALUE!"},{"$error":"#VALUE!"},{"$error":"#VALUE!"},{"$error":"#VALUE!"},{"$error":"#VALUE!"},{"$error":"#VALUE!"},{"$error":"#VALUE!"}]
[null,63,"Mar",null,null,null,null,6.1690940521678863,{"$f":"'Site&Soil'!$F$173*EXP('Site&Soil'!$F$174*H71)","v":0},0.69468750000000001,0.20961138715109778,1.353821247393813E-3,0,0,25016.172423216329,1.022993129835702,3.3867425755017438E-3,4.9675400724403195E-4,4.1601274936683211E-3,6.173254179661555,0.18982626293363625,1.8751039541910581E-3,-2.6992049722948204E-3,null,null,5.22261033181237,{"$f":"'Site&Soil'!$G$173*EXP('Site&Soil'!$G$174*Z71)","v":0},0.79087499999999999,0.36787944117144206,2.19177597193327E-2,0,0,0.31480821984980784,1.2873537992698068E-5,6.8998909203389507E-7,7.2641853720506334E-8,6.2888744047080172E-4,5.2232392192528412,0.17655431752659076,3.4341801987663437E-4,1.9366978780647052E-3,null,null,5.2545067551515041,{"$f":"'Site&Soil'!$H$173*EXP('Site&Soil'!$H$174*AR71)","v":0},0.72675000000000001,0.60037304119840451,3.3223065118641253E-2,0,0,4.5690215574544757,1.8684223886342242E-4,1.5179690073178574E-5,1.6042211037389482E-6,1.8779650255466298E-5,5.2545255348017594,0.40300143241717856,1.3748436346928577E-3,-1.4192302921447863E-3,null,null,null,null,null,null,null,null,null,null,null,null,null,null,null,null,null,null,null,null,null,null,{"$error":"#VALUE!"},{"$f":"'Site&Soil'!$F$173*EXP('Site&Soil'!$F$174*CD71)","v":{"$error":"#VALUE!"}},{"$error":"#VALUE!"},0,{"$error":"#VALUE!"},0,0,{"$error":"#VALUE!"},{"$error":"#VALUE!"},{"$error":"#VALUE!"},{"$error":"#VALUE!"},{"$error":"#VALUE!"},{"$error":"#VALUE!"},{"$error":"#VALUE!"},{"$error":"#VALUE!"},{"$error":"#VALUE!"},null,null,{"$error":"#VALUE!"},{"$f":"'Site&Soil'!$G$173*EXP('Site&Soil'!$G$174*CV71)","v":{"$error":"#VALUE!"}},{"$error":"#VALUE!"},0,{"$error":"#VALUE!"},0,0,{"$error":"#VALUE!"},{"$error":"#VALUE!"},{"$error":"#VALUE!"},{"$error":"#VALUE!"},{"$error":"#VALUE!"},{"$error":"#VALUE!"},{"$error":"#VALUE!"},{"$error":"#VALUE!"},{"$error":"#VALUE!"},null,null,{"$error":"#VALUE!"},{"$f":"'Site&Soil'!$H$173*EXP('Site&Soil'!$H$174*DN71)","v":{"$error":"#VALUE!"}},{"$error":"#VALUE!"},0,{"$error":"#VALUE!"},0,0,{"$error":"#VALUE!"},{"$error":"#VALUE!"},{"$error":"#VALUE!"},{"$error":"#VALUE!"},{"$error":"#VALUE!"},{"$error":"#VALUE!"},{"$error":"#VALUE!"},{"$error":"#VALUE!"},{"$error":"#VALUE!"}]
[null,64,"Apr",null,null,null,null,6.1705549746892601,{"$f":"'Site&Soil'!$F$173*EXP('Site&Soil'!$F$174*H72)","v":0},0.69468750000000001,0.36787944117144233,2.3676603114437494E-3,0,0,24933.353356547323,1.0196063872602004,5.9033711173499892E-3,8.6681159869348118E-4,7.2501081690062186E-3,6.1778050828582662,0.19298771849810159,3.3809618699273832E-3,-4.8668816841059949E-3,null,null,5.2251759171309056,{"$f":"'Site&Soil'!$G$173*EXP('Site&Soil'!$G$174*Z72)","v":0},0.79087499999999999,0.52729242404304844,3.1229349043518498E-2,0,0,0.29793529510276617,1.2183548900664172E-5,9.3043253231479733E-7,9.7984776038063843E-8,1.0970684955900209E-3,5.2262729856264958,0.17895364750735485,5.024178630630208E-4,3.6396952829010434E-3,null,null,5.2531063045096147,{"$f":"'Site&Soil'!$H$173*EXP('Site&Soil'!$H$174*AR72)","v":0},0.72675000000000001,0.72142229035475613,4.0051290328942842E-2,0,0,4.1978189236082359,1.7166254879024385E-4,1.681280644577638E-5,1.7765046658880206E-6,2.0824611704061128E-5,5.2531271291213191,0.40198514108891853,1.642580588793787E-3,-1.5688513597946559E-3,null,null,null,null,null,null,null,null,null,null,null,null,null,null,null,null,null,null,null,null,null,null,{"$error":"#VALUE!"},{"$f":"'Site&Soil'!$F$173*EXP('Site&Soil'!$F$174*CD72)","v":{"$error":"#VALUE!"}},{"$error":"#VALUE!"},0,{"$error":"#VALUE!"},0,0,{"$error":"#VALUE!"},{"$error":"#VALUE!"},{"$error":"#VALUE!"},{"$error":"#VALUE!"},{"$error":"#VALUE!"},{"$error":"#VALUE!"},{"$error":"#VALUE!"},{"$error":"#VALUE!"},{"$error":"#VALUE!"},null,null,{"$error":"#VALUE!"},{"$f":"'Site&Soil'!$G$173*EXP('Site&Soil'!$G$174*CV72)","v":{"$error":"#VALUE!"}},{"$error":"#VALUE!"},0,{"$error":"#VALUE!"},0,0,{"$error":"#VALUE!"},{"$error":"#VALUE!"},{"$error":"#VALUE!"},{"$error":"#VALUE!"},{"$error":"#VALUE!"},{"$error":"#VALUE!"},{"$error":"#VALUE!"},{"$error":"#VALUE!"},{"$error":"#VALUE!"},null,null,{"$error":"#VALUE!"},{"$f":"'Site&Soil'!$H$173*EXP('Site&Soil'!$H$174*DN72)","v":{"$error":"#VALUE!"}},{"$error":"#VALUE!"},0,{"$error":"#VALUE!"},0,0,{"$error":"#VALUE!"},{"$error":"#VALUE!"},{"$error":"#VALUE!"},{"$error":"#VALUE!"},{"$error":"#VALUE!"},{"$error":"#VALUE!"},{"$error":"#VALUE!"},{"$error":"#VALUE!"},{"$error":"#VALUE!"}]
[null,65,"May",null,null,null,null,6.1729382011741603,{"$f":"'Site&Soil'!$F$173*EXP('Site&Soil'!$F$174*H73)","v":0},{"$f":"((0.66+45*Soil_OC_A+0.63*I73)*0.5)*Soil_BD_A*(1-Gravel_Pct_A)","v":0.69468750000000001},0.56978282473092301,{"$f":"k*(10^-H73-10^-pH_Equil)*K73*10000","v":3.6460495571065984E-3},{"$f":"D73*Lime_NV_A","v":0},{"$f":"D73*CaCO3_SA_A","v":0},24788.99290539397,1.0137030161428504,{"$f":"MAX(0,MIN(L73*O73*0.0001,(pH_Equil-H73)*J73,P73))","v":9.0381896603830298E-3},{"$f":"(Lime_Leak*Q73)+MIN(Lime_Leach_Max,10^(H73-pH_Leach_A)/10^(pH_Equil-pH_Leach_A))*Q73","v":1.3294366377593243E-3},{"$f":"(Q73-R73)/J73","v":1.1096720500402994E-2},{"$f":"H73+S73","v":6.1840349216745629},{"$f":"MAX(0,(T73-MAX(pH_Leach_A,pH_Initial_A))*J73)","v":0.19731550965079769},{"$f":"K73*(MIN(Alkali_Leach_Max,(10^(T73-pH_Leach_A)/10^(pH_Equil-pH_Leach_A)))*U73)","v":5.4313213515415244E-3},{"$f":"-V73/J73","v":-7.8183663180084913E-3},null,null,5.229912680909397,{"$f":"'Site&Soil'!$G$173*EXP('Site&Soil'!$G$174*Z73)","v":0},{"$f":"((0.66+45*Soil_OC_B+0.63*AA73)*0.5)*Soil_BD_B*(1-Gravel_Pct_B)","v":0.79087499999999999},0.69767632607103081,{"$f":"k*(10^-Z73-10^-pH_Equil)*AC73*10000","v":4.0869863992089923E-2},{"$f":"E73*Lime_NV_A","v":0},{"$f":"E73*CaCO3_SA_A","v":0},0.27518259034091214,1.1253116368349375E-5,{"$f":"MAX(0,MIN(AD73*AG73*0.0001,(pH_Equil-Z73)*AB73,AH73))","v":1.1246675040224077E-6},{"$f":"(Lime_Leak*AI73)+MIN(Lime_Leach_Max,10^(Z73-pH_Leach_B)/10^(pH_Equil-pH_Leach_B))*AI73","v":1.1850535825992134E-7},{"$f":"(R73+AI73-AJ73)/AB73","v":1.6822415677636628E-3},{"$f":"Z73+AK73","v":5.2315949224771607},{"$f":"MAX(0,(AL73-MAX(pH_Leach_B,pH_Initial_B))*AB73)","v":0.1831626343141245},{"$f":"AC73*(MIN(Alkali_Leach_Max,(10^(AL73-pH_Leach_B)/10^(pH_Equil-pH_Leach_B)))*AM73)","v":6.8878834543880394E-4},{"$f":"(V73-AN73)/AB73","v":5.9965645722809815E-3},null,null,5.2515582777615242,{"$f":"'Site&Soil'!$H$173*EXP('Site&Soil'!$H$174*AR73)","v":0},{"$f":"((0.66+45*Soil_OC_C+0.63*AS73)*0.5)*Soil_BD_C*(1-Gravel_Pct_C)","v":0.72675000000000001},0.83220750069030147,{"$f":"k*(10^-AR73-10^-pH_Equil)*AU73*10000","v":4.6367684603976257E-2},{"$f":"F73*Lime_NV_A","v":0},{"$f":"F73*CaCO3_SA_A","v":0},3.7866802241398885,1.5484974234446748E-4,{"$f":"MAX(0,MIN(AV73*AY73*0.0001,(pH_Equil-AR73)*AT73,AZ73))","v":1.7557959432903247E-5},{"$f":"(Lime_Leak*BA73)+MIN(Lime_Leach_Max,10^(AR73-pH_Leach_C)/10^(pH_Equil-pH_Leach_C))*BA73","v":1.8548865115590552E-6},{"$f":"(AJ73+BA73-BB73)/AT73","v":2.1770317550194859E-5},{"$f":"AR73+BC73","v":5.2515800480790746},{"$f":"MAX(0,(BD73-MAX(pH_Leach_C,pH_Initial_C))*AT73)","v":0.40086079994146739},{"$f":"AU73*(MIN(Alkali_Leach_Max,(10^(BD73-pH_Leach_C)/10^(pH_Equil-pH_Leach_C)))*BE73)","v":1.8828046518595486E-3},{"$f":"(AN73-BF73)/AT73","v":-1.6429532940085926E-3},null,null,null,null,null,null,null,null,null,null,null,null,null,null,null,null,null,null,null,null,null,null,{"$error":"#VALUE!"},{"$f":"'Site&Soil'!$F$173*EXP('Site&Soil'!$F$174*CD73)","v":{"$error":"#VALUE!"}},{"$f":"((0.66+45*Soil_OC_A+0.63*CE73)*0.5)*Soil_BD_A*(1-Gravel_Pct_A)","v":{"$error":"#VALUE!"}},0,{"$f":"k*(10^-CD73-10^-pH_Equil)*CG73*10000","v":{"$error":"#VALUE!"}},{"$f":"BZ73*Lime_NV_B","v":0},{"$f":"BZ73*CaCO3_SA_B","v":0},{"$error":"#VALUE!"},{"$error":"#VALUE!"},{"$f":"MAX(0,MIN(CH73*CK73*0.0001,(pH_Equil-CD73)*CF73,CL73))","v":{"$error":"#VALUE!"}},{"$f":"(Lime_Leak*CM73)+MIN(Lime_Leach_Max,10^(CD73-pH_Leach_A)/10^(pH_Equil-pH_Leach_A))*CM73","v":{"$error":"#VALUE!"}},{"$f":"(CM73-CN73)/CF73","v":{"$error":"#VALUE!"}},{"$f":"CD73+CO73","v":{"$error":"#VALUE!"}},{"$f":"MAX(0,(CP73-MAX(pH_Leach_A,pH_Initial_A))*CF73)","v":{"$error":"#VALUE!"}},{"$f":"CG73*(MIN(Alkali_Leach_Max,(10^(CP73-pH_Leach_A)/10^(pH_Equil-pH_Leach_A)))*CQ73)","v":{"$error":"#VALUE!"}},{"$f":"-CR73/CF73","v":{"$error":"#VALUE!"}},null,null,{"$error":"#VALUE!"},{"$f":"'Site&Soil'!$G$173*EXP('Site&Soil'!$G$174*CV73)","v":{"$error":"#VALUE!"}},{"$f":"((0.66+45*Soil_OC_B+0.63*CW73)*0.5)*Soil_BD_B*(1-Gravel_Pct_B)","v":{"$error":"#VALUE!"}},0,{"$f":"k*(10^-CV73-10^-pH_Equil)*CY73*10000","v":{"$error":"#VALUE!"}},{"$f":"CA73*Lime_NV_B","v":0},{"$f":"CA73*CaCO3_SA_B","v":0},{"$error":"#VALUE!"},{"$error":"#VALUE!"},{"$f":"MAX(0,MIN(CZ73*DC73*0.0001,(pH_Equil-CV73)*CX73,DD73))","v":{"$error":"#VALUE!"}},{"$f":"(Lime_Leak*DE73)+MIN(Lime_Leach_Max,10^(CV73-pH_Leach_B)/10^(pH_Equil-pH_Leach_B))*DE73","v":{"$error":"#VALUE!"}},{"$f":"(CN73+DE73-DF73)/CX73","v":{"$error":"#VALUE!"}},{"$f":"CV73+DG73","v":{"$error":"#VALUE!"}},{"$f":"MAX(0,(DH73-MAX(pH_Leach_B,pH_Initial_B))*CX73)","v":{"$error":"#VALUE!"}},{"$f":"CY73*(MIN(Alkali_Leach_Max,(10^(DH73-pH_Leach_B)/10^(pH_Equil-pH_Leach_B)))*DI73)","v":{"$error":"#VALUE!"}},{"$f":"(CR73-DJ73)/CX73","v":{"$error":"#VALUE!"}},null,null,{"$error":"#VALUE!"},{"$f":"'Site&Soil'!$H$173*EXP('Site&Soil'!$H$174*DN73)","v":{"$error":"#VALUE!"}},{"$f":"((0.66+45*Soil_OC_C+0.63*DO73)*0.5)*Soil_BD_C*(1-Gravel_Pct_C)","v":{"$error":"#VALUE!"}},0,{"$f":"k*(10^-DN73-10^-pH_Equil)*DQ73*10000","v":{"$error":"#VALUE!"}},{"$f":"CB73*Lime_NV_B","v":0},{"$f":"CB73*CaCO3_SA_B","v":0},{"$error":"#VALUE!"},{"$error":"#VALUE!"},{"$f":"MAX(0,MIN(DR73*DU73*0.0001,(pH_Equil-DN73)*DP73,DV73))","v":{"$error":"#VALUE!"}},{"$f":"(Lime_Leak*DW73)+MIN(Lime_Leach_Max,10^(DN73-pH_Leach_C)/10^(pH_Equil-pH_Leach_C))*DW73","v":{"$error":"#VALUE!"}},{"$f":"(DF73+DW73-DX73)/DP73","v":{"$error":"#VALUE!"}},{"$f":"DN73+DY73","v":{"$error":"#VALUE!"}},{"$f":"MAX(0,(DZ73-MAX(pH_Leach_C,pH_Initial_C))*DP73)","v":{"$error":"#VALUE!"}},{"$f":"DQ73*(MIN(Alkali_Leach_Max,(10^(DZ73-pH_Leach_C)/10^(pH_Equil-pH_Leach_C)))*EA73)","v":{"$error":"#VALUE!"}},{"$f":"(DJ73-EB73)/DP73","v":{"$error":"#VALUE!"}}]
[null,66,"Jun",null,null,null,null,6.1762165553565547,{"$f":"'Site&Soil'!$F$173*EXP('Site&Soil'!$F$174*H74)","v":0},0.69468750000000001,0.77880078307140521,4.9442290832167474E-3,0,0,{"$f":"N74+IF(P73-Q73=0,0,(O73*(1-Q73/P73)))","v":24567.973912847865},{"$f":"P73-Q73+M74","v":1.0046648264824674},1.2146969113561277E-2,1.7910445027600195E-3,1.4907313879695917E-2,6.1911238692362502,0.20224011291005733,7.734238278916207E-3,-1.1133406429389052E-2,null,null,5.2375914870494418,{"$f":"'Site&Soil'!$G$173*EXP('Site&Soil'!$G$174*Z74)","v":0},0.79087499999999999,0.85214378896621112,4.9038983588057077E-2,0,0,{"$f":"AF74+IF(AH73-AI73=0,0,(AG73*(1-AI73/AH73)))","v":0.24768008286666207},{"$f":"AH73-AI73+AE74","v":1.0128448864326967E-5},1.214597951878686E-6,1.2809759318153271E-7,2.2660104354274907E-3,5.2398574974848691,0.18969729832334581,8.8803795096324375E-4,8.6564884816854298E-3,null,null,5.2499370947850661,{"$f":"'Site&Soil'!$H$173*EXP('Site&Soil'!$H$174*AR74)","v":0},0.72675000000000001,0.92161044729772479,5.1542032466616282E-2,0,0,{"$f":"AX74+IF(AZ73-BA73=0,0,(AY73*(1-BA73/AZ73)))","v":3.3573196275111621},{"$f":"AZ73-BA73+AW74","v":1.3729178291156424E-4},1.730430772419884E-5,1.8277259520881147E-6,2.1471867031705893E-5,5.249958566652098,0.39968238831441211,2.0711948984824258E-3,-1.6280109356989088E-3,null,null,null,null,null,null,null,null,null,null,null,null,null,null,null,null,null,null,null,null,null,null,{"$f":"CP73+CS73+CT73","v":{"$error":"#VALUE!"}},{"$f":"'Site&Soil'!$F$173*EXP('Site&Soil'!$F$174*CD74)","v":{"$error":"#VALUE!"}},{"$error":"#VALUE!"},0,{"$error":"#VALUE!"},0,0,{"$f":"CJ74+IF(CL73-CM73=0,0,(CK73*(1-CM73/CL73)))","v":{"$error":"#VALUE!"}},{"$f":"CL73-CM73+CI74","v":{"$error":"#VALUE!"}},{"$error":"#VALUE!"},{"$error":"#VALUE!"},{"$error":"#VALUE!"},{"$error":"#VALUE!"},{"$error":"#VALUE!"},{"$error":"#VALUE!"},{"$error":"#VALUE!"},null,null,{"$f":"DH73+DK73+DL73","v":{"$error":"#VALUE!"}},{"$f":"'Site&Soil'!$G$173*EXP('Site&Soil'!$G$174*CV74)","v":{"$error":"#VALUE!"}},{"$error":"#VALUE!"},0,{"$error":"#VALUE!"},0,0,{"$f":"DB74+IF(DD73-DE73=0,0,(DC73*(1-DE73/DD73)))","v":{"$error":"#VALUE!"}},{"$f":"DD73-DE73+DA74","v":{"$error":"#VALUE!"}},{"$error":"#VALUE!"},{"$error":"#VALUE!"},{"$error":"#VALUE!"},{"$error":"#VALUE!"},{"$error":"#VALUE!"},{"$error":"#VALUE!"},{"$error":"#VALUE!"},null,null,{"$f":"DZ73+EC73+ED73","v":{"$error":"#VALUE!"}},{"$f":"'Site&Soil'!$H$173*EXP('Site&Soil'!$H$174*DN74)","v":{"$error":"#VALUE!"}},{"$error":"#VALUE!"},0,{"$error":"#VALUE!"},0,0,{"$f":"DT74+IF(DV73-DW73=0,0,(DU73*(1-DW73/DV73)))","v":{"$error":"#VALUE!"}},{"$f":"DV73-DW73+DS74","v":{"$error":"#VALUE!"}},{"$error":"#VALUE!"},{"$error":"#VALUE!"},{"$error":"#VALUE!"},{"$error":"#VALUE!"},{"$error":"#VALUE!"},{"$error":"#VALUE!"},{"$error":"#VALUE!"}]
[null,67,"Jul",null,null,null,null,{"$f":"T74+W74+X74","v":6.1799904628068614},{"$f":"'Site&Soil'!$F$173*EXP('Site&Soil'!$F$174*H75)","v":0},0.69468750000000001,0.93941306281347592,5.9097083620723257E-3,0,0,24270.933136226879,0.99251785736890608,1.4343413651045828E-2,2.1208452291799356E-3,1.7594340508308978E-2,6.1975848033151699,0.20672844305300686,9.679248325286648E-3,-1.3933240954078845E-2,null,null,{"$f":"AL74+AO74+AP74","v":5.2485139859665546},{"$f":"'Site&Soil'!$G$173*EXP('Site&Soil'!$G$174*Z75)","v":0},0.79087499999999999,0.96078943915232284,5.3910519151289006E-2,0,0,0.2179784251497989,8.9138509124482813E-6,1.1751330063606051E-6,1.2409898649215932E-7,2.6829729896631002E-3,5.2511969589562177,0.19866539491449869,1.0763348557482205E-3,1.0877715782567949E-2,null,null,{"$f":"BD74+BG74+BH74","v":5.2483305557163993},{"$f":"'Site&Soil'!$H$173*EXP('Site&Soil'!$H$174*AR75)","v":0},0.72675000000000001,0.97979867385370423,5.5000495799142013E-2,0,0,2.9341618045818172,1.199874751873654E-4,1.6138035400690517E-5,1.7042062021960097E-6,2.0031548930150214E-5,5.2483505872653291,0.3985137892950778,2.1874129954576743E-3,-1.5288312895898916E-3,null,null,null,null,null,null,null,null,null,null,null,null,null,null,null,null,null,null,null,null,null,null,{"$error":"#VALUE!"},{"$f":"'Site&Soil'!$F$173*EXP('Site&Soil'!$F$174*CD75)","v":{"$error":"#VALUE!"}},{"$error":"#VALUE!"},0,{"$error":"#VALUE!"},0,0,{"$error":"#VALUE!"},{"$error":"#VALUE!"},{"$error":"#VALUE!"},{"$error":"#VALUE!"},{"$error":"#VALUE!"},{"$error":"#VALUE!"},{"$error":"#VALUE!"},{"$error":"#VALUE!"},{"$error":"#VALUE!"},null,null,{"$error":"#VALUE!"},{"$f":"'Site&Soil'!$G$173*EXP('Site&Soil'!$G$174*CV75)","v":{"$error":"#VALUE!"}},{"$error":"#VALUE!"},0,{"$error":"#VALUE!"},0,0,{"$error":"#VALUE!"},{"$error":"#VALUE!"},{"$error":"#VALUE!"},{"$error":"#VALUE!"},{"$error":"#VALUE!"},{"$error":"#VALUE!"},{"$error":"#VALUE!"},{"$error":"#VALUE!"},{"$error":"#VALUE!"},null,null,{"$error":"#VALUE!"},{"$f":"'Site&Soil'!$H$173*EXP('Site&Soil'!$H$174*DN75)","v":{"$error":"#VALUE!"}},{"$error":"#VALUE!"},0,{"$error":"#VALUE!"},0,0,{"$error":"#VALUE!"},{"$error":"#VALUE!"},{"$error":"#VALUE!"},{"$error":"#VALUE!"},{"$error":"#VALUE!"},{"$error":"#VALUE!"},{"$error":"#VALUE!"},{"$error":"#VALUE!"},{"$error":"#VALUE!"}]
[null,68,"Aug",null,null,null,null,6.1836515623610913,{"$f":"'Site&Soil'!$F$173*EXP('Site&Soil'!$F$174*H76)","v":0},0.69468750000000001,1,6.2353882760555982E-3,0,0,23920.180722972935,0.97817444371786022,1.4915161444115657E-2,2.2114283237829914E-3,1.8286975251940858E-2,6.2019385376130325,0.20975292784805327,1.0559578164310851E-2,-1.520047239127068E-2,null,null,5.2620746747387859,{"$f":"'Site&Soil'!$G$173*EXP('Site&Soil'!$G$174*Z76)","v":0},0.79087499999999999,1,5.4375963669250869E-2,0,0,0.18924183929212965,7.7387179060876769E-6,1.0290207378051054E-6,1.0885182493440693E-7,2.7973428072651965E-3,5.2648720175460513,0.20948065687673331,1.2190343535181058E-3,1.181039204778599E-2,null,null,5.2468217559757395,{"$f":"'Site&Soil'!$H$173*EXP('Site&Soil'!$H$174*AR76)","v":0},0.72675000000000001,1,5.633094561553223E-2,0,0,2.5395238892514556,1.0384943978667488E-4,1.4305378209476864E-5,1.5103963120808427E-6,1.775553315766141E-5,5.246839511508897,0.39741561498909078,2.2186277392781282E-3,-1.3754294953698279E-3,null,null,null,null,null,null,null,null,null,null,null,null,null,null,null,null,null,null,null,null,null,null,{"$error":"#VALUE!"},{"$f":"'Site&Soil'!$F$173*EXP('Site&Soil'!$F$174*CD76)","v":{"$error":"#VALUE!"}},{"$error":"#VALUE!"},0,{"$error":"#VALUE!"},0,0,{"$error":"#VALUE!"},{"$error":"#VALUE!"},{"$error":"#VALUE!"},{"$error":"#VALUE!"},{"$error":"#VALUE!"},{"$error":"#VALUE!"},{"$error":"#VALUE!"},{"$error":"#VALUE!"},{"$error":"#VALUE!"},null,null,{"$error":"#VALUE!"},{"$f":"'Site&Soil'!$G$173*EXP('Site&Soil'!$G$174*CV76)","v":{"$error":"#VALUE!"}},{"$error":"#VALUE!"},0,{"$error":"#VALUE!"},0,0,{"$error":"#VALUE!"},{"$error":"#VALUE!"},{"$error":"#VALUE!"},{"$error":"#VALUE!"},{"$error":"#VALUE!"},{"$error":"#VALUE!"},{"$error":"#VALUE!"},{"$error":"#VALUE!"},{"$error":"#VALUE!"},null,null,{"$error":"#VALUE!"},{"$f":"'Site&Soil'!$H$173*EXP('Site&Soil'!$H$174*DN76)","v":{"$error":"#VALUE!"}},{"$error":"#VALUE!"},0,{"$error":"#VALUE!"},0,0,{"$error":"#VALUE!"},{"$error":"#VALUE!"},{"$error":"#VALUE!"},{"$error":"#VALUE!"},{"$error":"#VALUE!"},{"$error":"#VALUE!"},{"$error":"#VALUE!"},{"$error":"#VALUE!"},{"$error":"#VALUE!"}]
[null,69,"Sep",null,null,null,null,6.1867380652217614,{"$f":"'Site&Soil'!$F$173*EXP('Site&Soil'!$F$174*H77)","v":0},0.69468750000000001,0.93941306281347592,5.8140193936345652E-3,0,0,23555.446845956543,0.96325928227374458,1.369518247881195E-2,2.03526014387676E-3,1.6784413617540534E-2,6.203522478839302,0.21085327201867735,1.0008279342295454E-2,-1.4406879844959718E-2,null,null,5.2766824095938372,{"$f":"'Site&Soil'!$G$173*EXP('Site&Soil'!$G$174*Z77)","v":0},0.79087499999999999,0.96078943915232284,5.050577582041884E-2,0,0,0.16407826834211545,6.7096971682825712E-6,8.286900237889408E-7,8.7824354498428061E-8,2.5743651140142888E-3,5.2792567747078518,0.22085720169707229,1.2764287003822767E-3,1.104074682081641E-2,null,null,5.2454640820135277,{"$f":"'Site&Soil'!$H$173*EXP('Site&Soil'!$H$174*AR77)","v":0},0.72675000000000001,0.97979867385370423,5.5366768007845138E-2,0,0,2.1897015909090709,8.954406157719802E-5,1.2123669999027196E-5,1.2798350546338804E-6,1.5041842860532156E-5,5.2454791238563878,0.39642695326262972,2.161618984369076E-3,-1.2180120866691424E-3,null,null,null,null,null,null,null,null,null,null,null,null,null,null,null,null,null,null,null,null,null,null,{"$error":"#VALUE!"},{"$f":"'Site&Soil'!$F$173*EXP('Site&Soil'!$F$174*CD77)","v":{"$error":"#VALUE!"}},{"$error":"#VALUE!"},0,{"$error":"#VALUE!"},0,0,{"$error":"#VALUE!"},{"$error":"#VALUE!"},{"$error":"#VALUE!"},{"$error":"#VALUE!"},{"$error":"#VALUE!"},{"$error":"#VALUE!"},{"$error":"#VALUE!"},{"$error":"#VALUE!"},{"$error":"#VALUE!"},null,null,{"$error":"#VALUE!"},{"$f":"'Site&Soil'!$G$173*EXP('Site&Soil'!$G$174*CV77)","v":{"$error":"#VALUE!"}},{"$error":"#VALUE!"},0,{"$error":"#VALUE!"},0,0,{"$error":"#VALUE!"},{"$error":"#VALUE!"},{"$error":"#VALUE!"},{"$error":"#VALUE!"},{"$error":"#VALUE!"},{"$error":"#VALUE!"},{"$error":"#VALUE!"},{"$error":"#VALUE!"},{"$error":"#VALUE!"},null,null,{"$error":"#VALUE!"},{"$f":"'Site&Soil'!$H$173*EXP('Site&Soil'!$H$174*DN77)","v":{"$error":"#VALUE!"}},{"$error":"#VALUE!"},0,{"$error":"#VALUE!"},0,0,{"$error":"#VALUE!"},{"$error":"#VALUE!"},{"$error":"#VALUE!"},{"$error":"#VALUE!"},{"$error":"#VALUE!"},{"$error":"#VALUE!"},{"$error":"#VALUE!"},{"$error":"#VALUE!"},{"$error":"#VALUE!"}]
[null,70,"Oct",null,null,null,null,6.1891155989943423,{"$f":"'Site&Soil'!$F$173*EXP('Site&Soil'!$F$174*H78)","v":0},0.69468750000000001,0.77880078307140521,4.792331988934276E-3,0,0,23220.546213425027,0.94956409979493261,1.1128056641912343E-2,1.6567255369212149E-3,1.363394491046856E-2,6.2027495439048108,0.21031632378137302,8.2613097390807095E-3,-1.1892123780952888E-2,{"$f":"-'Profit Calculator'!K$29*'Quantity of Lime to Apply'!H$9","v":-8.5303635443037998E-2},null,5.2902975215286681,{"$f":"'Site&Soil'!$G$173*EXP('Site&Soil'!$G$174*Z78)","v":0},0.79087499999999999,0.85214378896621112,4.3403763356010955E-2,0,0,0.14381356478165966,5.8810071444936302E-6,6.2420499331675072E-7,6.627195372887528E-8,2.0955062051029589E-3,5.2923930277337714,0.23124633580894646,1.2217455631232748E-3,8.9009820464136993E-3,{"$f":"-'Profit Calculator'!$K$29*'Quantity of Lime to Apply'!$H$19","v":-8.5303635443037998E-2},null,5.2442611117697187,{"$f":"'Site&Soil'!$H$173*EXP('Site&Soil'!$H$174*AR78)","v":0},0.72675000000000001,0.92161044729772479,5.2223912781100224E-2,0,0,1.8932305685215121,7.7420391578170822E-5,9.8871908084980237E-6,1.0435889629804832E-6,1.2259888268656918E-5,5.2442733716579877,0.39555067285244244,2.023125800088781E-3,-1.1026903845414602E-3,0.02,null,{"$f":"BJ66+1","v":6},{"$f":"AVERAGE(H73:H78)","v":6.1814417409857958},{"$f":"AVERAGE(Z73:Z78)","v":5.2575121266311147},{"$f":"AVERAGE(AR73:AR78)","v":5.2477288130036621},null,null,null,null,null,null,null,null,null,null,null,null,null,null,null,null,{"$error":"#VALUE!"},{"$f":"'Site&Soil'!$F$173*EXP('Site&Soil'!$F$174*CD78)","v":{"$error":"#VALUE!"}},{"$error":"#VALUE!"},0,{"$error":"#VALUE!"},0,0,{"$error":"#VALUE!"},{"$error":"#VALUE!"},{"$error":"#VALUE!"},{"$error":"#VALUE!"},{"$error":"#VALUE!"},{"$error":"#VALUE!"},{"$error":"#VALUE!"},{"$error":"#VALUE!"},{"$error":"#VALUE!"},{"$error":"#VALUE!"},null,{"$error":"#VALUE!"},{"$f":"'Site&Soil'!$G$173*EXP('Site&Soil'!$G$174*CV78)","v":{"$error":"#VALUE!"}},{"$error":"#VALUE!"},0,{"$error":"#VALUE!"},0,0,{"$error":"#VALUE!"},{"$error":"#VALUE!"},{"$error":"#VALUE!"},{"$error":"#VALUE!"},{"$error":"#VALUE!"},{"$error":"#VALUE!"},{"$error":"#VALUE!"},{"$error":"#VALUE!"},{"$error":"#VALUE!"},{"$error":"#VALUE!"},null,{"$error":"#VALUE!"},{"$f":"'Site&Soil'!$H$173*EXP('Site&Soil'!$H$174*DN78)","v":{"$error":"#VALUE!"}},{"$error":"#VALUE!"},0,{"$error":"#VALUE!"},0,0,{"$error":"#VALUE!"},{"$error":"#VALUE!"},{"$error":"#VALUE!"},{"$error":"#VALUE!"},{"$error":"#VALUE!"},{"$error":"#VALUE!"},{"$error":"#VALUE!"},{"$error":"#VALUE!"},{"$error":"#VALUE!"},{"$error":"#VALUE!"},null,{"$f":"EF66+1","v":6},{"$f":"AVERAGE(CD73:CD78)","v":{"$error":"#VALUE!"}},{"$f":"AVERAGE(CV73:CV78)","v":{"$error":"#VALUE!"}},{"$f":"AVERAGE(DN73:DN78)","v":{"$error":"#VALUE!"}}]
[null,71,"Nov",null,null,null,null,6.1055537846808194,{"$f":"'Site&Soil'!$F$173*EXP('Site&Soil'!$F$174*H79)","v":0},0.69468750000000001,0.56978282473092301,4.2882551300417494E-3,0,0,22948.421821217129,0.93843604315302032,9.8408687601196383E-3,1.3809010940045098E-3,1.2178091107318224E-2,6.117731875788138,0.1512556124615719,3.5739850226058608E-3,-5.1447377743314236E-3,null,null,5.2159903743371467,{"$f":"'Site&Soil'!$G$173*EXP('Site&Soil'!$G$174*Z79)","v":0},0.79087499999999999,0.69767632607103081,4.2208455102527069E-2,0,0,0.12854931785289261,5.2568021511768792E-6,5.4258681110542989E-7,5.7080048272795465E-8,1.7466560464894482E-3,5.2177370303836366,0.17220277390465857,6.2723626468649189E-4,3.7259348922640983E-3,null,null,5.2631706812734462,{"$f":"'Site&Soil'!$H$173*EXP('Site&Soil'!$H$174*AR79)","v":0},0.72675000000000001,0.83220750069030147,4.5137365151177125E-2,0,0,1.65145018619739,6.7533200769672797E-5,7.4542110083371045E-6,7.886299165887447E-7,9.2503077262072999E-6,5.2631799315811723,0.40929101527661682,1.9744392168148639E-3,-1.853736432237182E-3,null,null,null,null,null,null,null,null,null,null,null,null,null,null,null,null,null,null,null,null,null,null,{"$error":"#VALUE!"},{"$f":"'Site&Soil'!$F$173*EXP('Site&Soil'!$F$174*CD79)","v":{"$error":"#VALUE!"}},{"$error":"#VALUE!"},0,{"$error":"#VALUE!"},0,0,{"$error":"#VALUE!"},{"$error":"#VALUE!"},{"$error":"#VALUE!"},{"$error":"#VALUE!"},{"$error":"#VALUE!"},{"$error":"#VALUE!"},{"$error":"#VALUE!"},{"$error":"#VALUE!"},{"$error":"#VALUE!"},null,null,{"$error":"#VALUE!"},{"$f":"'Site&Soil'!$G$173*EXP('Site&Soil'!$G$174*CV79)","v":{"$error":"#VALUE!"}},{"$error":"#VALUE!"},0,{"$error":"#VALUE!"},0,0,{"$error":"#VALUE!"},{"$error":"#VALUE!"},{"$error":"#VALUE!"},{"$error":"#VALUE!"},{"$error":"#VALUE!"},{"$error":"#VALUE!"},{"$error":"#VALUE!"},{"$error":"#VALUE!"},{"$error":"#VALUE!"},null,null,{"$error":"#VALUE!"},{"$f":"'Site&Soil'!$H$173*EXP('Site&Soil'!$H$174*DN79)","v":{"$error":"#VALUE!"}},{"$error":"#VALUE!"},0,{"$error":"#VALUE!"},0,0,{"$error":"#VALUE!"},{"$error":"#VALUE!"},{"$error":"#VALUE!"},{"$error":"#VALUE!"},{"$error":"#VALUE!"},{"$error":"#VALUE!"},{"$error":"#VALUE!"},{"$error":"#VALUE!"},{"$error":"#VALUE!"}]
[null,72,"Dec",null,null,null,null,6.112587138013807,{"$f":"'Site&Soil'!$F$173*EXP('Site&Soil'!$F$174*H80)","v":0},0.69468750000000001,0.36787944117144233,2.722359000611524E-3,0,0,22707.7741936647,0.92859517439290062,6.1818713459977194E-3,8.7152907962956207E-4,7.6442173874845271E-3,6.1202313554012919,0.15299196970533474,2.3474995058398117E-3,-3.3792165626124145E-3,null,null,5.2214629652759008,{"$f":"'Site&Soil'!$G$173*EXP('Site&Soil'!$G$174*Z80)","v":0},0.79087499999999999,0.52729242404304844,3.1498917095092699E-2,0,0,0.11528095384798821,4.7142153400714496E-6,3.6312252079009885E-7,3.822437650748099E-8,1.1023916267094607E-3,5.22256535690261,0.17602137664035172,4.8998445463385774E-4,2.3486834850083189E-3,null,null,5.2613261951489347,{"$f":"'Site&Soil'!$H$173*EXP('Site&Soil'!$H$174*AR80)","v":0},0.72675000000000001,0.72142229035475613,3.929609113500903E-2,0,0,1.4691656503339405,6.0078989761335692E-5,5.7732467287947339E-6,6.1064784323252647E-7,7.1562755584034249E-6,5.2613333514244935,0.40794901314775056,1.6987473616715551E-3,-1.6632444541282386E-3,null,null,null,null,null,null,null,null,null,null,null,null,null,null,null,null,null,null,null,null,null,null,{"$error":"#VALUE!"},{"$f":"'Site&Soil'!$F$173*EXP('Site&Soil'!$F$174*CD80)","v":{"$error":"#VALUE!"}},{"$error":"#VALUE!"},0,{"$error":"#VALUE!"},0,0,{"$error":"#VALUE!"},{"$error":"#VALUE!"},{"$error":"#VALUE!"},{"$error":"#VALUE!"},{"$error":"#VALUE!"},{"$error":"#VALUE!"},{"$error":"#VALUE!"},{"$error":"#VALUE!"},{"$error":"#VALUE!"},null,null,{"$error":"#VALUE!"},{"$f":"'Site&Soil'!$G$173*EXP('Site&Soil'!$G$174*CV80)","v":{"$error":"#VALUE!"}},{"$error":"#VALUE!"},0,{"$error":"#VALUE!"},0,0,{"$error":"#VALUE!"},{"$error":"#VALUE!"},{"$error":"#VALUE!"},{"$error":"#VALUE!"},{"$error":"#VALUE!"},{"$error":"#VALUE!"},{"$error":"#VALUE!"},{"$error":"#VALUE!"},{"$error":"#VALUE!"},null,null,{"$error":"#VALUE!"},{"$f":"'Site&Soil'!$H$173*EXP('Site&Soil'!$H$174*DN80)","v":{"$error":"#VALUE!"}},{"$error":"#VALUE!"},0,{"$error":"#VALUE!"},0,0,{"$error":"#VALUE!"},{"$error":"#VALUE!"},{"$error":"#VALUE!"},{"$error":"#VALUE!"},{"$error":"#VALUE!"},{"$error":"#VALUE!"},{"$error":"#VALUE!"},{"$error":"#VALUE!"},{"$error":"#VALUE!"}]
[{"$f":"A69+1","v":7},73,"Jan",{"$f":"OFFSET(Apply_Lime!$H$16,$A81,0)","v":0},{"$f":"OFFSET(Apply_Lime!$I$16,$A81,0)*G81","v":0},{"$f":"OFFSET(Apply_Lime!$I$16,$A81,0)*(1-G81)","v":0},{"$f":"'Profit Calculator'!L28","v":0},6.1168521388386798,{"$f":"'Site&Soil'!$F$173*EXP('Site&Soil'!$F$174*H81)","v":0},0.69468750000000001,4.6770622383959001E-2,3.4258223187515376E-4,0,0,22556.603325572501,0.92241330304690294,7.7274915107971437E-4,1.0925581467065263E-4,9.550961207867736E-4,6.117807234959467,0.15130796353590448,2.9352302209604013E-4,-4.2252526797450672E-4,null,null,5.2249140403876186,{"$f":"'Site&Soil'!$G$173*EXP('Site&Soil'!$G$174*Z81)","v":0},0.79087499999999999,0.14085842092104497,8.3475204213404181E-3,0,0,0.10640119177930553,4.3510928192813505E-6,8.8818612123271118E-8,9.3532920884427035E-9,1.382459680615615E-4,5.2250522863556803,0.17798822697154867,1.331148106344514E-4,2.0282372241073334E-4,null,null,5.2596701069703657,{"$f":"'Site&Soil'!$H$173*EXP('Site&Soil'!$H$174*AR81)","v":0},0.72675000000000001,0.36787944117144233,2.0115507672000304E-2,0,0,1.3279872480581656,5.4305743032540961E-5,2.6713137676632605E-6,2.824915109425626E-7,3.2998631562561272E-6,5.2596734068335218,0.40674264841626184,8.603965039436567E-4,-1.0007316041406333E-3,null,null,null,null,null,null,null,null,null,null,null,null,null,null,null,null,null,null,{"$f":"OFFSET(Apply_Lime!$O$16,$A81,0)","v":0},{"$f":"OFFSET(Apply_Lime!$P$16,$A81,0)*CA$7","v":0},{"$f":"OFFSET(Apply_Lime!$P$16,$A81,0)*CB$7","v":0},null,{"$error":"#VALUE!"},{"$f":"'Site&Soil'!$F$173*EXP('Site&Soil'!$F$174*CD81)","v":{"$error":"#VALUE!"}},{"$error":"#VALUE!"},0,{"$error":"#VALUE!"},0,0,{"$error":"#VALUE!"},{"$error":"#VALUE!"},{"$error":"#VALUE!"},{"$error":"#VALUE!"},{"$error":"#VALUE!"},{"$error":"#VALUE!"},{"$error":"#VALUE!"},{"$error":"#VALUE!"},{"$error":"#VALUE!"},null,null,{"$error":"#VALUE!"},{"$f":"'Site&Soil'!$G$173*EXP('Site&Soil'!$G$174*CV81)","v":{"$error":"#VALUE!"}},{"$error":"#VALUE!"},0,{"$error":"#VALUE!"},0,0,{"$error":"#VALUE!"},{"$error":"#VALUE!"},{"$error":"#VALUE!"},{"$error":"#VALUE!"},{"$error":"#VALUE!"},{"$error":"#VALUE!"},{"$error":"#VALUE!"},{"$error":"#VALUE!"},{"$error":"#VALUE!"},null,null,{"$error":"#VALUE!"},{"$f":"'Site&Soil'!$H$173*EXP('Site&Soil'!$H$174*DN81)","v":{"$error":"#VALUE!"}},{"$error":"#VALUE!"},0,{"$error":"#VALUE!"},0,0,{"$error":"#VALUE!"},{"$error":"#VALUE!"},{"$error":"#VALUE!"},{"$error":"#VALUE!"},{"$error":"#VALUE!"},{"$error":"#VALUE!"},{"$error":"#VALUE!"},{"$error":"#VALUE!"},{"$error":"#VALUE!"}]
[null,74,"Feb",null,null,null,null,6.1173847096914926,{"$f":"'Site&Soil'!$F$173*EXP('Site&Soil'!$F$174*H82)","v":0},0.69468750000000001,0.1053992245618643,7.7103398849123739E-4,0,0,22537.706594558866,0.92164055389582322,1.7377337807047988E-3,2.4577925657820433E-4,2.147662832750833E-3,6.1195323725242439,0.15250639503793542,6.6935705244725106E-4,-9.6353691760288048E-4,null,null,5.2252551100780913,{"$f":"'Site&Soil'!$G$173*EXP('Site&Soil'!$G$174*Z82)","v":0},0.79087499999999999,0.23692775868212174,1.4029678868255428E-2,0,0,0.10422923025731236,4.2622742071580792E-6,1.4623026291955446E-7,1.5399796161023276E-8,3.1093420204831717E-4,5.2255660442801393,0.17839454527005513,2.2467955821570785E-4,5.6226014759796833E-4,null,null,5.2586726752293815,{"$f":"'Site&Soil'!$H$173*EXP('Site&Soil'!$H$174*AR82)","v":0},0.72675000000000001,0.47965226883004436,2.6287856550681835E-2,0,0,1.2626632064205563,5.16344292648777E-5,3.3192709242207555E-6,3.5096921589567475E-7,4.1055404258494719E-6,5.2586767807698074,0.40601835042445739,1.1172463545385356E-3,-1.2281620864435195E-3,null,null,null,null,null,null,null,null,null,null,null,null,null,null,null,null,null,null,null,null,null,null,{"$error":"#VALUE!"},{"$f":"'Site&Soil'!$F$173*EXP('Site&Soil'!$F$174*CD82)","v":{"$error":"#VALUE!"}},{"$error":"#VALUE!"},0,{"$error":"#VALUE!"},0,0,{"$error":"#VALUE!"},{"$error":"#VALUE!"},{"$error":"#VALUE!"},{"$error":"#VALUE!"},{"$error":"#VALUE!"},{"$error":"#VALUE!"},{"$error":"#VALUE!"},{"$error":"#VALUE!"},{"$error":"#VALUE!"},null,null,{"$error":"#VALUE!"},{"$f":"'Site&Soil'!$G$173*EXP('Site&Soil'!$G$174*CV82)","v":{"$error":"#VALUE!"}},{"$error":"#VALUE!"},0,{"$error":"#VALUE!"},0,0,{"$error":"#VALUE!"},{"$error":"#VALUE!"},{"$error":"#VALUE!"},{"$error":"#VALUE!"},{"$error":"#VALUE!"},{"$error":"#VALUE!"},{"$error":"#VALUE!"},{"$error":"#VALUE!"},{"$error":"#VALUE!"},null,null,{"$error":"#VALUE!"},{"$f":"'Site&Soil'!$H$173*EXP('Site&Soil'!$H$174*DN82)","v":{"$error":"#VALUE!"}},{"$error":"#VALUE!"},0,{"$error":"#VALUE!"},0,0,{"$error":"#VALUE!"},{"$error":"#VALUE!"},{"$error":"#VALUE!"},{"$error":"#VALUE!"},{"$error":"#VALUE!"},{"$error":"#VALUE!"},{"$error":"#VALUE!"},{"$error":"#VALUE!"},{"$error":"#VALUE!"}]
[null,75,"Mar",null,null,null,null,6.1185688356066406,{"$f":"'Site&Soil'!$F$173*EXP('Site&Soil'!$F$174*H83)","v":0},0.69468750000000001,0.20961138715109778,1.5290285449283166E-3,0,0,22495.212225226453,0.91990282011511837,3.4395821616591683E-3,4.8687213348742864E-4,4.2504147953889189E-3,6.1228192504020296,0.15478974801365966,1.361370437855138E-3,-1.9596875398724435E-3,null,null,5.2261283044277373,{"$f":"'Site&Soil'!$G$173*EXP('Site&Soil'!$G$174*Z83)","v":0},0.79087499999999999,0.36787944117144206,2.173999501675538E-2,0,0,0.10065332992719446,4.1160439442385247E-6,2.1882028910370427E-7,2.3046733781749622E-8,6.1585953158558627E-4,5.2267441639593226,0.17932629067132927,3.5163625601856714E-4,1.276730433806317E-3,null,null,5.2574486186833642,{"$f":"'Site&Soil'!$H$173*EXP('Site&Soil'!$H$174*AR83)","v":0},0.72675000000000001,0.60037304119840451,3.2997494496443167E-2,0,0,1.1814940848126614,4.8315158340656946E-5,3.8986344561185955E-6,4.1216633525441567E-7,4.8290538075623374E-6,5.2574534477371717,0.4051292931429894,1.3914521517099717E-3,-1.4307752262695626E-3,null,null,null,null,null,null,null,null,null,null,null,null,null,null,null,null,null,null,null,null,null,null,{"$error":"#VALUE!"},{"$f":"'Site&Soil'!$F$173*EXP('Site&Soil'!$F$174*CD83)","v":{"$error":"#VALUE!"}},{"$error":"#VALUE!"},0,{"$error":"#VALUE!"},0,0,{"$error":"#VALUE!"},{"$error":"#VALUE!"},{"$error":"#VALUE!"},{"$error":"#VALUE!"},{"$error":"#VALUE!"},{"$error":"#VALUE!"},{"$error":"#VALUE!"},{"$error":"#VALUE!"},{"$error":"#VALUE!"},null,null,{"$error":"#VALUE!"},{"$f":"'Site&Soil'!$G$173*EXP('Site&Soil'!$G$174*CV83)","v":{"$error":"#VALUE!"}},{"$error":"#VALUE!"},0,{"$error":"#VALUE!"},0,0,{"$error":"#VALUE!"},{"$error":"#VALUE!"},{"$error":"#VALUE!"},{"$error":"#VALUE!"},{"$error":"#VALUE!"},{"$error":"#VALUE!"},{"$error":"#VALUE!"},{"$error":"#VALUE!"},{"$error":"#VALUE!"},null,null,{"$error":"#VALUE!"},{"$f":"'Site&Soil'!$H$173*EXP('Site&Soil'!$H$174*DN83)","v":{"$error":"#VALUE!"}},{"$error":"#VALUE!"},0,{"$error":"#VALUE!"},0,0,{"$error":"#VALUE!"},{"$error":"#VALUE!"},{"$error":"#VALUE!"},{"$error":"#VALUE!"},{"$error":"#VALUE!"},{"$error":"#VALUE!"},{"$error":"#VALUE!"},{"$error":"#VALUE!"},{"$error":"#VALUE!"}]
[null,76,"Apr",null,null,null,null,6.1208595628621572,{"$f":"'Site&Soil'!$F$173*EXP('Site&Soil'!$F$174*H84)","v":0},0.69468750000000001,0.36787944117144233,2.6687994095614246E-3,0,0,22411.101024564035,0.91646323795345919,5.9810733181977944E-3,8.479339384597519E-4,7.3891345097443703E-3,6.1282486973719017,0.15856151695554271,2.4782893325044778E-3,-3.567488018000148E-3,null,null,5.2280208943931292,{"$f":"'Site&Soil'!$G$173*EXP('Site&Soil'!$G$174*Z84)","v":0},0.79087499999999999,0.52729242404304844,3.102435162562216E-2,0,0,9.5302320304289687E-2,3.8972236551348202E-6,2.9566926958579538E-7,3.114754553897253E-8,1.0724810623471456E-3,5.2290933754554763,0.1811842233133498,5.1199448819408096E-4,2.4862270830540815E-3,null,null,5.2560226725109018,{"$f":"'Site&Soil'!$H$173*EXP('Site&Soil'!$H$174*AR84)","v":0},0.72675000000000001,0.72142229035475613,3.9781712669955935E-2,0,0,1.0861572649211939,4.4416523884538347E-5,4.3209196227480146E-6,4.5672958838087723E-7,5.359941630417764E-6,5.2560280324525319,0.40409337258487743,1.6622613887785475E-3,-1.5827545931674804E-3,null,null,null,null,null,null,null,null,null,null,null,null,null,null,null,null,null,null,null,null,null,null,{"$error":"#VALUE!"},{"$f":"'Site&Soil'!$F$173*EXP('Site&Soil'!$F$174*CD84)","v":{"$error":"#VALUE!"}},{"$error":"#VALUE!"},0,{"$error":"#VALUE!"},0,0,{"$error":"#VALUE!"},{"$error":"#VALUE!"},{"$error":"#VALUE!"},{"$error":"#VALUE!"},{"$error":"#VALUE!"},{"$error":"#VALUE!"},{"$error":"#VALUE!"},{"$error":"#VALUE!"},{"$error":"#VALUE!"},null,null,{"$error":"#VALUE!"},{"$f":"'Site&Soil'!$G$173*EXP('Site&Soil'!$G$174*CV84)","v":{"$error":"#VALUE!"}},{"$error":"#VALUE!"},0,{"$error":"#VALUE!"},0,0,{"$error":"#VALUE!"},{"$error":"#VALUE!"},{"$error":"#VALUE!"},{"$error":"#VALUE!"},{"$error":"#VALUE!"},{"$error":"#VALUE!"},{"$error":"#VALUE!"},{"$error":"#VALUE!"},{"$error":"#VALUE!"},null,null,{"$error":"#VALUE!"},{"$f":"'Site&Soil'!$H$173*EXP('Site&Soil'!$H$174*DN84)","v":{"$error":"#VALUE!"}},{"$error":"#VALUE!"},0,{"$error":"#VALUE!"},0,0,{"$error":"#VALUE!"},{"$error":"#VALUE!"},{"$error":"#VALUE!"},{"$error":"#VALUE!"},{"$error":"#VALUE!"},{"$error":"#VALUE!"},{"$error":"#VALUE!"},{"$error":"#VALUE!"},{"$error":"#VALUE!"}]
[null,77,"May",null,null,null,null,6.1246812093539011,{"$f":"'Site&Soil'!$F$173*EXP('Site&Soil'!$F$174*H85)","v":0},0.69468750000000001,{"$f":"K73","v":0.56978282473092301},4.0957248040405791E-3,0,0,22264.840451506265,0.91048216463526144,9.1190659295240263E-3,1.2961722437504766E-3,1.1261025548571911E-2,6.1359422349024735,0.1639061213088118,4.0387480566600135E-3,-5.8137623847557551E-3,null,null,5.2315796025385302,{"$f":"'Site&Soil'!$G$173*EXP('Site&Soil'!$G$174*Z85)","v":0},0.79087499999999999,{"$f":"AC73","v":0.69767632607103081},4.0712451577079395E-2,0,0,8.8072053343071097E-2,3.6015543855490247E-6,3.5856292070237354E-7,3.778890543854681E-8,1.6393147055675553E-3,5.2332189172440975,0.18444701117542561,6.9621684357854192E-4,4.226371061269444E-3,null,null,5.2544452778593644,{"$f":"'Site&Soil'!$H$173*EXP('Site&Soil'!$H$174*AR85)","v":0},0.72675000000000001,{"$f":"AU73","v":0.83220750069030147},4.6058731093024378E-2,0,0,0.98049392549399417,4.0095604261790332E-5,4.5160306052671766E-6,4.7725984076900975E-7,5.6093012314230664E-6,5.2544508871605959,0.40294718224396298,1.9051564091143451E-3,-1.6634875342769909E-3,null,null,null,null,null,null,null,null,null,null,null,null,null,null,null,null,null,null,null,null,null,null,{"$error":"#VALUE!"},{"$f":"'Site&Soil'!$F$173*EXP('Site&Soil'!$F$174*CD85)","v":{"$error":"#VALUE!"}},{"$error":"#VALUE!"},{"$f":"CG73","v":0},{"$error":"#VALUE!"},0,0,{"$error":"#VALUE!"},{"$error":"#VALUE!"},{"$error":"#VALUE!"},{"$error":"#VALUE!"},{"$error":"#VALUE!"},{"$error":"#VALUE!"},{"$error":"#VALUE!"},{"$error":"#VALUE!"},{"$error":"#VALUE!"},null,null,{"$error":"#VALUE!"},{"$f":"'Site&Soil'!$G$173*EXP('Site&Soil'!$G$174*CV85)","v":{"$error":"#VALUE!"}},{"$error":"#VALUE!"},{"$f":"CY73","v":0},{"$error":"#VALUE!"},0,0,{"$error":"#VALUE!"},{"$error":"#VALUE!"},{"$error":"#VALUE!"},{"$error":"#VALUE!"},{"$error":"#VALUE!"},{"$error":"#VALUE!"},{"$error":"#VALUE!"},{"$error":"#VALUE!"},{"$error":"#VALUE!"},null,null,{"$error":"#VALUE!"},{"$f":"'Site&Soil'!$H$173*EXP('Site&Soil'!$H$174*DN85)","v":{"$error":"#VALUE!"}},{"$error":"#VALUE!"},{"$f":"DQ73","v":0},{"$error":"#VALUE!"},0,0,{"$error":"#VALUE!"},{"$error":"#VALUE!"},{"$error":"#VALUE!"},{"$error":"#VALUE!"},{"$error":"#VALUE!"},{"$error":"#VALUE!"},{"$error":"#VALUE!"},{"$error":"#VALUE!"},{"$error":"#VALUE!"}]
[null,78,"Jun",null,null,null,null,6.1301284725177174,{"$f":"'Site&Soil'!$F$173*EXP('Site&Soil'!$F$174*H86)","v":0},0.69468750000000001,0.77880078307140521,5.5253439248776313E-3,0,0,22041.843718704855,0.90136309870573739,1.2178876728424807E-2,1.7375673186053034E-3,1.5030224971400096E-2,6.1451586974891175,0.17030868266197105,5.8589779923580139E-3,-8.4339764172495033E-3,null,null,5.2374452883053673,{"$f":"'Site&Soil'!$G$173*EXP('Site&Soil'!$G$174*Z86)","v":0},0.79087499999999999,0.85214378896621112,4.9055585336455369E-2,0,0,7.9303791282207395E-2,3.242991464846651E-6,3.8902939007487702E-7,4.1028275506730294E-8,2.1974589154036624E-3,5.2396427472207705,0.18952745770822688,8.868042528667637E-4,6.2869274404820617E-3,null,null,5.2527873996263192,{"$f":"'Site&Soil'!$H$173*EXP('Site&Soil'!$H$174*AR86)","v":0},0.72675000000000001,0.92161044729772479,5.1202959691579557E-2,0,0,0.87005936147299245,3.5579573656523155E-5,4.4549614414783076E-6,4.7070954039418201E-7,5.538741213059313E-6,5.2527929383675325,0.40174226795860407,2.0955009138470481E-3,-1.6631533002824691E-3,null,null,null,null,null,null,null,null,null,null,null,null,null,null,null,null,null,null,null,null,null,null,{"$error":"#VALUE!"},{"$f":"'Site&Soil'!$F$173*EXP('Site&Soil'!$F$174*CD86)","v":{"$error":"#VALUE!"}},{"$error":"#VALUE!"},0,{"$error":"#VALUE!"},0,0,{"$error":"#VALUE!"},{"$error":"#VALUE!"},{"$error":"#VALUE!"},{"$error":"#VALUE!"},{"$error":"#VALUE!"},{"$error":"#VALUE!"},{"$error":"#VALUE!"},{"$error":"#VALUE!"},{"$error":"#VALUE!"},null,null,{"$error":"#VALUE!"},{"$f":"'Site&Soil'!$G$173*EXP('Site&Soil'!$G$174*CV86)","v":{"$error":"#VALUE!"}},{"$error":"#VALUE!"},0,{"$error":"#VALUE!"},0,0,{"$error":"#VALUE!"},{"$error":"#VALUE!"},{"$error":"#VALUE!"},{"$error":"#VALUE!"},{"$error":"#VALUE!"},{"$error":"#VALUE!"},{"$error":"#VALUE!"},{"$error":"#VALUE!"},{"$error":"#VALUE!"},null,null,{"$error":"#VALUE!"},{"$f":"'Site&Soil'!$H$173*EXP('Site&Soil'!$H$174*DN86)","v":{"$error":"#VALUE!"}},{"$error":"#VALUE!"},0,{"$error":"#VALUE!"},0,0,{"$error":"#VALUE!"},{"$error":"#VALUE!"},{"$error":"#VALUE!"},{"$error":"#VALUE!"},{"$error":"#VALUE!"},{"$error":"#VALUE!"},{"$error":"#VALUE!"},{"$error":"#VALUE!"},{"$error":"#VALUE!"}]
[null,79,"Jul",null,null,null,null,6.1367247210718681,{"$f":"'Site&Soil'!$F$173*EXP('Site&Soil'!$F$174*H87)","v":0},0.69468750000000001,0.93941306281347592,6.5598955759339078E-3,0,0,21744.022676438126,0.88918422197731262,1.4263851815817305E-2,2.0443468534465685E-3,1.7589930670079336E-2,6.1543146517419478,0.17666920963198413,7.487418579246557E-3,-1.0778110415469628E-2,null,null,5.2459296746612525,{"$f":"'Site&Soil'!$G$173*EXP('Site&Soil'!$G$174*Z87)","v":0},0.79087499999999999,0.96078943915232284,5.4234088628563173E-2,0,0,6.9790505204348E-2,2.853962074771774E-6,3.7850244446848088E-7,3.9958864650107373E-8,2.5853458473543691E-3,5.2485150205086066,0.19654431684474427,1.0582876591331046E-3,8.1291366146526971E-3,null,null,5.25112978506725,{"$f":"'Site&Soil'!$H$173*EXP('Site&Soil'!$H$174*AR87)","v":0},0.72675000000000001,0.97979867385370423,5.4645141478222775E-2,0,0,0.76111817671967896,3.112461221504485E-5,4.1591410448493826E-6,4.393635961989681E-7,5.1733557802552758E-6,5.2511349584230302,0.40053733103393713,2.2126606138146228E-3,-1.5884044784059417E-3,null,null,null,null,null,null,null,null,null,null,null,null,null,null,null,null,null,null,null,null,null,null,{"$error":"#VALUE!"},{"$f":"'Site&Soil'!$F$173*EXP('Site&Soil'!$F$174*CD87)","v":{"$error":"#VALUE!"}},{"$error":"#VALUE!"},0,{"$error":"#VALUE!"},0,0,{"$error":"#VALUE!"},{"$error":"#VALUE!"},{"$error":"#VALUE!"},{"$error":"#VALUE!"},{"$error":"#VALUE!"},{"$error":"#VALUE!"},{"$error":"#VALUE!"},{"$error":"#VALUE!"},{"$error":"#VALUE!"},null,null,{"$error":"#VALUE!"},{"$f":"'Site&Soil'!$G$173*EXP('Site&Soil'!$G$174*CV87)","v":{"$error":"#VALUE!"}},{"$error":"#VALUE!"},0,{"$error":"#VALUE!"},0,0,{"$error":"#VALUE!"},{"$error":"#VALUE!"},{"$error":"#VALUE!"},{"$error":"#VALUE!"},{"$error":"#VALUE!"},{"$error":"#VALUE!"},{"$error":"#VALUE!"},{"$error":"#VALUE!"},{"$error":"#VALUE!"},null,null,{"$error":"#VALUE!"},{"$f":"'Site&Soil'!$H$173*EXP('Site&Soil'!$H$174*DN87)","v":{"$error":"#VALUE!"}},{"$error":"#VALUE!"},0,{"$error":"#VALUE!"},0,0,{"$error":"#VALUE!"},{"$error":"#VALUE!"},{"$error":"#VALUE!"},{"$error":"#VALUE!"},{"$error":"#VALUE!"},{"$error":"#VALUE!"},{"$error":"#VALUE!"},{"$error":"#VALUE!"},{"$error":"#VALUE!"}]
[null,80,"Aug",null,null,null,null,6.143536541326478,{"$f":"'Site&Soil'!$F$173*EXP('Site&Soil'!$F$174*H88)","v":0},0.69468750000000001,1,6.8693791988767841E-3,0,0,21395.215860403103,0.87492037016149526,1.4697185078693173E-2,2.1165195403886274E-3,1.8109819938180182E-2,6.1616463612646584,0.18176245659104212,8.3397022417965351E-3,-1.2004969488865907E-2,null,null,5.2566441571232589,{"$f":"'Site&Soil'!$G$173*EXP('Site&Soil'!$G$174*Z88)","v":0},0.79087499999999999,1,5.5064140946901277E-2,0,0,6.0534644009118774E-2,2.475459630303293E-6,3.3332881698886091E-7,3.5236224518646609E-8,2.6765514562745031E-3,5.2593207085795335,0.20509026539783853,1.1783268006179814E-3,9.0550029286278547E-3,null,null,5.249546553944624,{"$f":"'Site&Soil'!$H$173*EXP('Site&Soil'!$H$174*AR88)","v":0},0.72675000000000001,1,5.5976649367722016E-2,0,0,0.65941095457329113,2.6965471170195467E-5,3.6911615793383985E-6,3.8985142391550665E-7,4.5910510903908339E-6,5.2495511449957144,0.3993862946256353,2.2435941683397864E-3,-1.4657961716158308E-3,null,null,null,null,null,null,null,null,null,null,null,null,null,null,null,null,null,null,null,null,null,null,{"$error":"#VALUE!"},{"$f":"'Site&Soil'!$F$173*EXP('Site&Soil'!$F$174*CD88)","v":{"$error":"#VALUE!"}},{"$error":"#VALUE!"},0,{"$error":"#VALUE!"},0,0,{"$error":"#VALUE!"},{"$error":"#VALUE!"},{"$error":"#VALUE!"},{"$error":"#VALUE!"},{"$error":"#VALUE!"},{"$error":"#VALUE!"},{"$error":"#VALUE!"},{"$error":"#VALUE!"},{"$error":"#VALUE!"},null,null,{"$error":"#VALUE!"},{"$f":"'Site&Soil'!$G$173*EXP('Site&Soil'!$G$174*CV88)","v":{"$error":"#VALUE!"}},{"$error":"#VALUE!"},0,{"$error":"#VALUE!"},0,0,{"$error":"#VALUE!"},{"$error":"#VALUE!"},{"$error":"#VALUE!"},{"$error":"#VALUE!"},{"$error":"#VALUE!"},{"$error":"#VALUE!"},{"$error":"#VALUE!"},{"$error":"#VALUE!"},{"$error":"#VALUE!"},null,null,{"$error":"#VALUE!"},{"$f":"'Site&Soil'!$H$173*EXP('Site&Soil'!$H$174*DN88)","v":{"$error":"#VALUE!"}},{"$error":"#VALUE!"},0,{"$error":"#VALUE!"},0,0,{"$error":"#VALUE!"},{"$error":"#VALUE!"},{"$error":"#VALUE!"},{"$error":"#VALUE!"},{"$error":"#VALUE!"},{"$error":"#VALUE!"},{"$error":"#VALUE!"},{"$error":"#VALUE!"},{"$error":"#VALUE!"}]
[null,81,"Sep",null,null,null,null,6.1496413917757922,{"$f":"'Site&Soil'!$F$173*EXP('Site&Soil'!$F$174*H89)","v":0},0.69468750000000001,0.93941306281347592,6.3589604692754894E-3,0,0,21035.812355783713,0.86022318508280204,1.3376589920952555E-2,1.934676139619181E-3,1.647059113822168E-2,6.1661119829140141,0.18486466813057892,8.0504933067964534E-3,-1.1588654332770423E-2,null,null,5.2683757115081615,{"$f":"'Site&Soil'!$G$173*EXP('Site&Soil'!$G$174*Z89)","v":0},0.79087499999999999,0.96078943915232284,5.148695854893022E-2,0,0,5.2383454214951455E-2,2.1421308133144323E-6,2.6970647358149899E-7,2.8552868131473223E-8,2.4465526072067405E-3,5.2708222641153686,0.21418655813224213,1.2140671182184152E-3,8.6441298417297783E-3,null,null,5.2480853488240982,{"$f":"'Site&Soil'!$H$173*EXP('Site&Soil'!$H$174*AR89)","v":0},0.72675000000000001,0.97979867385370423,5.5031733370607641E-2,0,0,0.56914765581046267,2.3274309590857068E-5,3.1321182043067754E-6,3.3074753599869766E-7,3.8939436345917455E-6,5.2480892427677324,0.39832385718144936,2.1850551801253669E-3,-1.3360688846328884E-3,null,null,null,null,null,null,null,null,null,null,null,null,null,null,null,null,null,null,null,null,null,null,{"$error":"#VALUE!"},{"$f":"'Site&Soil'!$F$173*EXP('Site&Soil'!$F$174*CD89)","v":{"$error":"#VALUE!"}},{"$error":"#VALUE!"},0,{"$error":"#VALUE!"},0,0,{"$error":"#VALUE!"},{"$error":"#VALUE!"},{"$error":"#VALUE!"},{"$error":"#VALUE!"},{"$error":"#VALUE!"},{"$error":"#VALUE!"},{"$error":"#VALUE!"},{"$error":"#VALUE!"},{"$error":"#VALUE!"},null,null,{"$error":"#VALUE!"},{"$f":"'Site&Soil'!$G$173*EXP('Site&Soil'!$G$174*CV89)","v":{"$error":"#VALUE!"}},{"$error":"#VALUE!"},0,{"$error":"#VALUE!"},0,0,{"$error":"#VALUE!"},{"$error":"#VALUE!"},{"$error":"#VALUE!"},{"$error":"#VALUE!"},{"$error":"#VALUE!"},{"$error":"#VALUE!"},{"$error":"#VALUE!"},{"$error":"#VALUE!"},{"$error":"#VALUE!"},null,null,{"$error":"#VALUE!"},{"$f":"'Site&Soil'!$H$173*EXP('Site&Soil'!$H$174*DN89)","v":{"$error":"#VALUE!"}},{"$error":"#VALUE!"},0,{"$error":"#VALUE!"},0,0,{"$error":"#VALUE!"},{"$error":"#VALUE!"},{"$error":"#VALUE!"},{"$error":"#VALUE!"},{"$error":"#VALUE!"},{"$error":"#VALUE!"},{"$error":"#VALUE!"},{"$error":"#VALUE!"},{"$error":"#VALUE!"}]
[null,82,"Oct",null,null,null,null,6.1545233285812433,{"$f":"'Site&Soil'!$F$173*EXP('Site&Soil'!$F$174*H90)","v":0},0.69468750000000001,0.77880078307140521,5.2100820009626072E-3,0,0,20708.702554028787,0.84684659516184946,1.0789403844003375E-2,1.5659312075930556E-3,1.3277153592673426E-2,6.1678004821739165,0.18603764746019238,6.7426047270760132E-3,-9.7059537231863439E-3,{"$f":"-'Profit Calculator'!L$29*'Quantity of Lime to Apply'!H$9","v":-4.0091240506329125E-2},null,5.2794663939570983,{"$f":"'Site&Soil'!$G$173*EXP('Site&Soil'!$G$174*Z90)","v":0},0.79087499999999999,0.85214378896621112,4.450665168271084E-2,0,0,4.5788078889355661E-2,1.8724243397329333E-6,2.0378740783490382E-7,2.1605173533299603E-8,1.9802287211346387E-3,5.2814466226782333,0.22258909771064775,1.1467358623488972E-3,7.0755414758680146E-3,{"$f":"-'Profit Calculator'!$L$29*'Quantity of Lime to Apply'!$H$19","v":-4.0091240506329125E-2},null,5.2467531738830999,{"$f":"'Site&Soil'!$H$173*EXP('Site&Soil'!$H$174*AR90)","v":0},0.72675000000000001,0.92161044729772479,5.1923432903535301E-2,0,0,0.49255514823280472,2.0142191386550293E-5,2.5575154190556922E-6,2.7002638800146983E-7,3.1772882072067723E-6,5.2467563511713076,0.39735517821374766,2.0440081230615028E-3,-1.234636753646516E-3,0.02,null,{"$f":"BJ78+1","v":7},{"$f":"AVERAGE(H85:H90)","v":6.1398726107711665},{"$f":"AVERAGE(Z85:Z90)","v":5.2532401380156113},{"$f":"AVERAGE(AR85:AR90)","v":5.2504579232007922},null,null,null,null,null,null,null,null,null,null,null,null,null,null,null,null,{"$error":"#VALUE!"},{"$f":"'Site&Soil'!$F$173*EXP('Site&Soil'!$F$174*CD90)","v":{"$error":"#VALUE!"}},{"$error":"#VALUE!"},0,{"$error":"#VALUE!"},0,0,{"$error":"#VALUE!"},{"$error":"#VALUE!"},{"$error":"#VALUE!"},{"$error":"#VALUE!"},{"$error":"#VALUE!"},{"$error":"#VALUE!"},{"$error":"#VALUE!"},{"$error":"#VALUE!"},{"$error":"#VALUE!"},{"$error":"#VALUE!"},null,{"$error":"#VALUE!"},{"$f":"'Site&Soil'!$G$173*EXP('Site&Soil'!$G$174*CV90)","v":{"$error":"#VALUE!"}},{"$error":"#VALUE!"},0,{"$error":"#VALUE!"},0,0,{"$error":"#VALUE!"},{"$error":"#VALUE!"},{"$error":"#VALUE!"},{"$error":"#VALUE!"},{"$error":"#VALUE!"},{"$error":"#VALUE!"},{"$error":"#VALUE!"},{"$error":"#VALUE!"},{"$error":"#VALUE!"},{"$error":"#VALUE!"},null,{"$error":"#VALUE!"},{"$f":"'Site&Soil'!$H$173*EXP('Site&Soil'!$H$174*DN90)","v":{"$error":"#VALUE!"}},{"$error":"#VALUE!"},0,{"$error":"#VALUE!"},0,0,{"$error":"#VALUE!"},{"$error":"#VALUE!"},{"$error":"#VALUE!"},{"$error":"#VALUE!"},{"$error":"#VALUE!"},{"$error":"#VALUE!"},{"$error":"#VALUE!"},{"$error":"#VALUE!"},{"$error":"#VALUE!"},{"$error":"#VALUE!"},null,{"$f":"EF78+1","v":7},{"$f":"AVERAGE(CD85:CD90)","v":{"$error":"#VALUE!"}},{"$f":"AVERAGE(CV85:CV90)","v":{"$error":"#VALUE!"}},{"$f":"AVERAGE(DN85:DN90)","v":{"$error":"#VALUE!"}}]
[null,83,"Nov",null,null,null,null,6.1180032879444015,{"$f":"'Site&Soil'!$F$173*EXP('Site&Soil'!$F$174*H91)","v":0},0.69468750000000001,0.56978282473092301,4.1619812865796059E-3,0,0,20444.859543715855,0.83605719131784606,8.5091122827693853E-3,1.2040029555401856E-3,1.0515676944279548E-2,6.1285189648886806,0.15874926842110509,3.845386978973608E-3,-5.5354198527735243E-3,null,null,5.2484309236477724,{"$f":"'Site&Soil'!$G$173*EXP('Site&Soil'!$G$174*Z91)","v":0},0.79087499999999999,0.69767632607103081,3.9154601679009061E-2,0,0,4.0804681852371634E-2,1.6686369318980294E-6,1.5976910645683011E-7,1.6872118182644307E-8,1.5225488889248743E-3,5.2499534725366974,0.19768195259246057,7.7548692739724801E-4,3.8816501363380558E-3,null,null,5.2655217144176607,{"$f":"'Site&Soil'!$H$173*EXP('Site&Soil'!$H$174*AR91)","v":0},0.72675000000000001,0.83220750069030147,4.4892255507477143E-2,0,0,0.43001392011291795,1.7584675967494601E-5,1.9304294773480978E-6,2.042935469776943E-7,2.3983598879298902E-6,5.2655241127775483,0.41099464896108306,1.9933883054343285E-3,-1.6758188896279056E-3,null,null,null,null,null,null,null,null,null,null,null,null,null,null,null,null,null,null,null,null,null,null,{"$error":"#VALUE!"},{"$f":"'Site&Soil'!$F$173*EXP('Site&Soil'!$F$174*CD91)","v":{"$error":"#VALUE!"}},{"$error":"#VALUE!"},0,{"$error":"#VALUE!"},0,0,{"$error":"#VALUE!"},{"$error":"#VALUE!"},{"$error":"#VALUE!"},{"$error":"#VALUE!"},{"$error":"#VALUE!"},{"$error":"#VALUE!"},{"$error":"#VALUE!"},{"$error":"#VALUE!"},{"$error":"#VALUE!"},null,null,{"$error":"#VALUE!"},{"$f":"'Site&Soil'!$G$173*EXP('Site&Soil'!$G$174*CV91)","v":{"$error":"#VALUE!"}},{"$error":"#VALUE!"},0,{"$error":"#VALUE!"},0,0,{"$error":"#VALUE!"},{"$error":"#VALUE!"},{"$error":"#VALUE!"},{"$error":"#VALUE!"},{"$error":"#VALUE!"},{"$error":"#VALUE!"},{"$error":"#VALUE!"},{"$error":"#VALUE!"},{"$error":"#VALUE!"},null,null,{"$error":"#VALUE!"},{"$f":"'Site&Soil'!$H$173*EXP('Site&Soil'!$H$174*DN91)","v":{"$error":"#VALUE!"}},{"$error":"#VALUE!"},0,{"$error":"#VALUE!"},0,0,{"$error":"#VALUE!"},{"$error":"#VALUE!"},{"$error":"#VALUE!"},{"$error":"#VALUE!"},{"$error":"#VALUE!"},{"$error":"#VALUE!"},{"$error":"#VALUE!"},{"$error":"#VALUE!"},{"$error":"#VALUE!"}]
[null,84,"Dec",null,null,null,null,6.1229835450359067,{"$f":"'Site&Soil'!$F$173*EXP('Site&Soil'!$F$174*H92)","v":0},0.69468750000000001,0.36787944117144233,2.655211553016258E-3,0,0,20236.778556829409,0.82754807903507666,5.3732928219925122E-3,7.6286953011762417E-4,6.6366866999548538E-3,6.1296202317358617,0.15951430473400616,2.5010673403691661E-3,-3.6002768732259702E-3,null,null,5.2538351226730358,{"$f":"'Site&Soil'!$G$173*EXP('Site&Soil'!$G$174*Z92)","v":0},0.79087499999999999,0.52729242404304844,2.9224393968150256E-2,0,0,3.6897703986675537E-2,1.5088678254411993E-6,1.0783130378267943E-7,1.1394888831264247E-8,9.6471119523638461E-4,5.2547998338682724,0.20151481861056997,6.041688826169797E-4,2.3984807431669812E-3,null,null,5.2638482938879205,{"$f":"'Site&Soil'!$H$173*EXP('Site&Soil'!$H$174*AR92)","v":0},0.72675000000000001,0.72142229035475613,3.9067225442200419E-2,0,0,0.38280738934769637,1.5654246490146504E-5,1.4955222580586646E-6,1.5823465349407159E-7,1.8557722647345818E-6,5.2638501496601853,0.40977809626553952,1.7162812070674919E-3,-1.5302543164093735E-3,null,null,null,null,null,null,null,null,null,null,null,null,null,null,null,null,null,null,null,null,null,null,{"$error":"#VALUE!"},{"$f":"'Site&Soil'!$F$173*EXP('Site&Soil'!$F$174*CD92)","v":{"$error":"#VALUE!"}},{"$error":"#VALUE!"},0,{"$error":"#VALUE!"},0,0,{"$error":"#VALUE!"},{"$error":"#VALUE!"},{"$error":"#VALUE!"},{"$error":"#VALUE!"},{"$error":"#VALUE!"},{"$error":"#VALUE!"},{"$error":"#VALUE!"},{"$error":"#VALUE!"},{"$error":"#VALUE!"},null,null,{"$error":"#VALUE!"},{"$f":"'Site&Soil'!$G$173*EXP('Site&Soil'!$G$174*CV92)","v":{"$error":"#VALUE!"}},{"$error":"#VALUE!"},0,{"$error":"#VALUE!"},0,0,{"$error":"#VALUE!"},{"$error":"#VALUE!"},{"$error":"#VALUE!"},{"$error":"#VALUE!"},{"$error":"#VALUE!"},{"$error":"#VALUE!"},{"$error":"#VALUE!"},{"$error":"#VALUE!"},{"$error":"#VALUE!"},null,null,{"$error":"#VALUE!"},{"$f":"'Site&Soil'!$H$173*EXP('Site&Soil'!$H$174*DN92)","v":{"$error":"#VALUE!"}},{"$error":"#VALUE!"},0,{"$error":"#VALUE!"},0,0,{"$error":"#VALUE!"},{"$error":"#VALUE!"},{"$error":"#VALUE!"},{"$error":"#VALUE!"},{"$error":"#VALUE!"},{"$error":"#VALUE!"},{"$error":"#VALUE!"},{"$error":"#VALUE!"},{"$error":"#VALUE!"}]
[{"$f":"A81+1","v":8},85,"Jan",{"$f":"OFFSET(Apply_Lime!$H$16,$A93,0)","v":0},{"$f":"OFFSET(Apply_Lime!$I$16,$A93,0)*G93","v":0},{"$f":"OFFSET(Apply_Lime!$I$16,$A93,0)*(1-G93)","v":0},{"$f":"'Profit Calculator'!M28","v":0},6.1260199548626355,{"$f":"'Site&Soil'!$F$173*EXP('Site&Soil'!$F$174*H93)","v":0},0.69468750000000001,4.6770622383959001E-2,3.3511728460800731E-4,0,0,20105.380587678843,0.82217478621308415,6.7376605485534771E-4,9.5855890489579125E-5,8.3189947187155169E-4,6.1268518543345074,0.15759114755800288,3.1214531538831849E-4,-4.4933198796339141E-4,null,null,5.2571983146114398,{"$f":"'Site&Soil'!$G$173*EXP('Site&Soil'!$G$174*Z93)","v":0},0.79087499999999999,0.14085842092104497,7.7463005220373676E-3,0,0,3.4260807990628174E-2,1.4010365216585199E-6,2.6539451482322505E-8,2.8056817163464098E-9,1.2123233666425807E-4,5.2573195469481044,0.20350759669258209,1.6393926662939474E-4,1.8739503557316107E-4,null,null,5.2623198953437758,{"$f":"'Site&Soil'!$H$173*EXP('Site&Soil'!$H$174*AR93)","v":0},0.72675000000000001,0.36787944117144233,1.9992441676402895E-2,0,0,0.34623603654070145,1.4158724232087838E-5,6.9221037668088761E-7,7.3225627134853952E-8,8.5557678880272453E-7,5.2623207509205647,0.4086666057315203,8.6975196723625321E-4,-9.7119050651098509E-4,null,null,null,null,null,null,null,null,null,null,null,null,null,null,null,null,null,null,{"$f":"OFFSET(Apply_Lime!$O$16,$A93,0)","v":0},{"$f":"OFFSET(Apply_Lime!$P$16,$A93,0)*CA$7","v":0},{"$f":"OFFSET(Apply_Lime!$P$16,$A93,0)*CB$7","v":0},null,{"$error":"#VALUE!"},{"$f":"'Site&Soil'!$F$173*EXP('Site&Soil'!$F$174*CD93)","v":{"$error":"#VALUE!"}},{"$error":"#VALUE!"},0,{"$error":"#VALUE!"},0,0,{"$error":"#VALUE!"},{"$error":"#VALUE!"},{"$error":"#VALUE!"},{"$error":"#VALUE!"},{"$error":"#VALUE!"},{"$error":"#VALUE!"},{"$error":"#VALUE!"},{"$error":"#VALUE!"},{"$error":"#VALUE!"},null,null,{"$error":"#VALUE!"},{"$f":"'Site&Soil'!$G$173*EXP('Site&Soil'!$G$174*CV93)","v":{"$error":"#VALUE!"}},{"$error":"#VALUE!"},0,{"$error":"#VALUE!"},0,0,{"$error":"#VALUE!"},{"$error":"#VALUE!"},{"$error":"#VALUE!"},{"$error":"#VALUE!"},{"$error":"#VALUE!"},{"$error":"#VALUE!"},{"$error":"#VALUE!"},{"$error":"#VALUE!"},{"$error":"#VALUE!"},null,null,{"$error":"#VALUE!"},{"$f":"'Site&Soil'!$H$173*EXP('Site&Soil'!$H$174*DN93)","v":{"$error":"#VALUE!"}},{"$error":"#VALUE!"},0,{"$error":"#VALUE!"},0,0,{"$error":"#VALUE!"},{"$error":"#VALUE!"},{"$error":"#VALUE!"},{"$error":"#VALUE!"},{"$error":"#VALUE!"},{"$error":"#VALUE!"},{"$error":"#VALUE!"},{"$error":"#VALUE!"},{"$error":"#VALUE!"}]
[null,86,"Feb",null,null,null,null,6.1264025223465444,{"$f":"'Site&Soil'!$F$173*EXP('Site&Soil'!$F$174*H94)","v":0},0.69468750000000001,0.1053992245618643,7.5450415423338195E-4,0,0,20088.904379472169,0.82150102015822879,1.5157161808308933E-3,2.1569558911302671E-4,1.8713746709388991E-3,6.1282738970174835,0.15857902283433281,7.1016137890200423E-4,-1.0222745895125567E-3,null,null,5.257506941983678,{"$f":"'Site&Soil'!$G$173*EXP('Site&Soil'!$G$174*Z94)","v":0},0.79087499999999999,0.23692775868212174,1.3020182437453299E-2,0,0,3.3611814879202298E-2,1.3744970701761974E-6,4.3763196178112125E-8,4.626709038002922E-9,2.7277980161234937E-4,5.2577797217852904,0.20387153746694156,2.7653637524378708E-4,5.4828513185802702E-4,null,null,5.2613495604140539,{"$f":"'Site&Soil'!$H$173*EXP('Site&Soil'!$H$174*AR94)","v":0},0.72675000000000001,0.47965226883004436,2.6125390918223454E-2,0,0,0.32930879271945535,1.3466513855406952E-5,8.6033209426039889E-7,9.0999311990513152E-8,1.0649597403617318E-6,5.2613506253737938,0.40796156699040453,1.1295263837142152E-3,-1.1737048620164129E-3,null,null,null,null,null,null,null,null,null,null,null,null,null,null,null,null,null,null,null,null,null,null,{"$error":"#VALUE!"},{"$f":"'Site&Soil'!$F$173*EXP('Site&Soil'!$F$174*CD94)","v":{"$error":"#VALUE!"}},{"$error":"#VALUE!"},0,{"$error":"#VALUE!"},0,0,{"$error":"#VALUE!"},{"$error":"#VALUE!"},{"$error":"#VALUE!"},{"$error":"#VALUE!"},{"$error":"#VALUE!"},{"$error":"#VALUE!"},{"$error":"#VALUE!"},{"$error":"#VALUE!"},{"$error":"#VALUE!"},null,null,{"$error":"#VALUE!"},{"$f":"'Site&Soil'!$G$173*EXP('Site&Soil'!$G$174*CV94)","v":{"$error":"#VALUE!"}},{"$error":"#VALUE!"},0,{"$error":"#VALUE!"},0,0,{"$error":"#VALUE!"},{"$error":"#VALUE!"},{"$error":"#VALUE!"},{"$error":"#VALUE!"},{"$error":"#VALUE!"},{"$error":"#VALUE!"},{"$error":"#VALUE!"},{"$error":"#VALUE!"},{"$error":"#VALUE!"},null,null,{"$error":"#VALUE!"},{"$f":"'Site&Soil'!$H$173*EXP('Site&Soil'!$H$174*DN94)","v":{"$error":"#VALUE!"}},{"$error":"#VALUE!"},0,{"$error":"#VALUE!"},0,0,{"$error":"#VALUE!"},{"$error":"#VALUE!"},{"$error":"#VALUE!"},{"$error":"#VALUE!"},{"$error":"#VALUE!"},{"$error":"#VALUE!"},{"$error":"#VALUE!"},{"$error":"#VALUE!"},{"$error":"#VALUE!"}]
[null,87,"Mar",null,null,null,null,6.1272516224279707,{"$f":"'Site&Soil'!$F$173*EXP('Site&Soil'!$F$174*H95)","v":0},0.69468750000000001,0.20961138715109778,1.4974503934879399E-3,0,0,20051.839206482771,0.81998530397739788,3.0026634509904525E-3,4.275457922101834E-4,3.7068720234353851E-3,6.1309584944514057,0.16044397911421068,1.4377944097304551E-3,-2.0696995551675468E-3,null,null,5.2583280069171483,{"$f":"'Site&Soil'!$G$173*EXP('Site&Soil'!$G$174*Z95)","v":0},0.79087499999999999,0.36787944117144206,2.0178126828934641E-2,0,0,3.2541634025144636E-2,1.3307338739980852E-6,6.5662921858014347E-8,6.9426909690967644E-9,5.4067268840344218E-4,5.2588686796055519,0.20473276698304088,4.3227642757367736E-4,1.2713993768380311E-3,null,null,5.2601769205117774,{"$f":"'Site&Soil'!$H$173*EXP('Site&Soil'!$H$174*AR95)","v":0},0.72675000000000001,0.60037304119840451,3.2789660193115203E-2,0,0,0.30827031710945635,1.2606181761146554E-5,1.0108078945642942E-6,1.0689975178579656E-7,1.2533207206709243E-6,5.2601781738324984,0.40710948783276812,1.4070534015577934E-3,-1.3412823859430562E-3,null,null,null,null,null,null,null,null,null,null,null,null,null,null,null,null,null,null,null,null,null,null,{"$error":"#VALUE!"},{"$f":"'Site&Soil'!$F$173*EXP('Site&Soil'!$F$174*CD95)","v":{"$error":"#VALUE!"}},{"$error":"#VALUE!"},0,{"$error":"#VALUE!"},0,0,{"$error":"#VALUE!"},{"$error":"#VALUE!"},{"$error":"#VALUE!"},{"$error":"#VALUE!"},{"$error":"#VALUE!"},{"$error":"#VALUE!"},{"$error":"#VALUE!"},{"$error":"#VALUE!"},{"$error":"#VALUE!"},null,null,{"$error":"#VALUE!"},{"$f":"'Site&Soil'!$G$173*EXP('Site&Soil'!$G$174*CV95)","v":{"$error":"#VALUE!"}},{"$error":"#VALUE!"},0,{"$error":"#VALUE!"},0,0,{"$error":"#VALUE!"},{"$error":"#VALUE!"},{"$error":"#VALUE!"},{"$error":"#VALUE!"},{"$error":"#VALUE!"},{"$error":"#VALUE!"},{"$error":"#VALUE!"},{"$error":"#VALUE!"},{"$error":"#VALUE!"},null,null,{"$error":"#VALUE!"},{"$f":"'Site&Soil'!$H$173*EXP('Site&Soil'!$H$174*DN95)","v":{"$error":"#VALUE!"}},{"$error":"#VALUE!"},0,{"$error":"#VALUE!"},0,0,{"$error":"#VALUE!"},{"$error":"#VALUE!"},{"$error":"#VALUE!"},{"$error":"#VALUE!"},{"$error":"#VALUE!"},{"$error":"#VALUE!"},{"$error":"#VALUE!"},{"$error":"#VALUE!"},{"$error":"#VALUE!"}]
[null,88,"Apr",null,null,null,null,6.1288887948962385,{"$f":"'Site&Soil'!$F$173*EXP('Site&Soil'!$F$174*H96)","v":0},0.69468750000000001,0.36787944117144233,2.617780964071613E-3,0,0,19978.412372589046,0.81698264052640746,5.22991076013364E-3,7.4551826061596883E-4,6.4552658562557572E-3,6.1353440607524945,0.16349057720399829,2.5974207518173619E-3,-3.7389772405827968E-3,null,null,5.2601400789823902,{"$f":"'Site&Soil'!$G$173*EXP('Site&Soil'!$G$174*Z96)","v":0},0.79087499999999999,0.52729242404304844,2.8800784640194314E-2,0,0,3.0935919453751494E-2,1.2650709521400707E-6,8.9097875383389444E-8,9.4226576930152781E-9,9.4275066961739735E-4,5.2610828296520076,0.20648388290103148,6.2808803423100199E-4,2.4900682378205911E-3,null,null,5.2588368914465553,{"$f":"'Site&Soil'!$H$173*EXP('Site&Soil'!$H$174*AR96)","v":0},0.72675000000000001,0.72142229035475613,3.9523287920212848E-2,0,0,0.28355212121968554,1.159537386658226E-5,1.1206912127352727E-6,1.1850077801685306E-7,1.391968479410299E-6,5.2588382834150345,0.40613572247187618,1.681508359599295E-3,-1.4494947717485971E-3,null,null,null,null,null,null,null,null,null,null,null,null,null,null,null,null,null,null,null,null,null,null,{"$error":"#VALUE!"},{"$f":"'Site&Soil'!$F$173*EXP('Site&Soil'!$F$174*CD96)","v":{"$error":"#VALUE!"}},{"$error":"#VALUE!"},0,{"$error":"#VALUE!"},0,0,{"$error":"#VALUE!"},{"$error":"#VALUE!"},{"$error":"#VALUE!"},{"$error":"#VALUE!"},{"$error":"#VALUE!"},{"$error":"#VALUE!"},{"$error":"#VALUE!"},{"$error":"#VALUE!"},{"$error":"#VALUE!"},null,null,{"$error":"#VALUE!"},{"$f":"'Site&Soil'!$G$173*EXP('Site&Soil'!$G$174*CV96)","v":{"$error":"#VALUE!"}},{"$error":"#VALUE!"},0,{"$error":"#VALUE!"},0,0,{"$error":"#VALUE!"},{"$error":"#VALUE!"},{"$error":"#VALUE!"},{"$error":"#VALUE!"},{"$error":"#VALUE!"},{"$error":"#VALUE!"},{"$error":"#VALUE!"},{"$error":"#VALUE!"},{"$error":"#VALUE!"},null,null,{"$error":"#VALUE!"},{"$f":"'Site&Soil'!$H$173*EXP('Site&Soil'!$H$174*DN96)","v":{"$error":"#VALUE!"}},{"$error":"#VALUE!"},0,{"$error":"#VALUE!"},0,0,{"$error":"#VALUE!"},{"$error":"#VALUE!"},{"$error":"#VALUE!"},{"$error":"#VALUE!"},{"$error":"#VALUE!"},{"$error":"#VALUE!"},{"$error":"#VALUE!"},{"$error":"#VALUE!"},{"$error":"#VALUE!"}]
[null,89,"May",null,null,null,null,6.1316050835119116,{"$f":"'Site&Soil'!$F$173*EXP('Site&Soil'!$F$174*H97)","v":0},0.69468750000000001,0.56978282473092301,4.0280953842472449E-3,0,0,19850.520654142656,0.81175272976627377,7.9959790621856631E-3,1.1419529509471157E-3,9.8663443796506295E-3,6.1414714278915623,0.16774718256341944,4.186354643291236E-3,-6.026241501813745E-3,null,null,5.2635728978898282,{"$f":"'Site&Soil'!$G$173*EXP('Site&Soil'!$G$174*Z97)","v":0},0.79087499999999999,0.69767632607103081,3.7805414316539075E-2,0,0,2.8757128855723645E-2,1.1759730767566812E-6,1.0871751709447336E-7,1.1502523733440135E-8,1.4440337170102441E-3,5.265016931606838,0.20959526578455803,8.5124071327774044E-4,4.216992483026389E-3,null,null,5.2573887886432855,{"$f":"'Site&Soil'!$H$173*EXP('Site&Soil'!$H$174*AR97)","v":0},0.72675000000000001,0.83220750069030147,4.5745837447168744E-2,0,0,0.25614684957776196,1.0474682653846988E-5,1.1717652143388684E-6,1.2387890672310072E-7,1.4577073702775476E-6,5.2573902463506554,0.40508336153533869,1.92826304176674E-3,-1.4819708682339173E-3,null,null,null,null,null,null,null,null,null,null,null,null,null,null,null,null,null,null,null,null,null,null,{"$error":"#VALUE!"},{"$f":"'Site&Soil'!$F$173*EXP('Site&Soil'!$F$174*CD97)","v":{"$error":"#VALUE!"}},{"$error":"#VALUE!"},0,{"$error":"#VALUE!"},0,0,{"$error":"#VALUE!"},{"$error":"#VALUE!"},{"$error":"#VALUE!"},{"$error":"#VALUE!"},{"$error":"#VALUE!"},{"$error":"#VALUE!"},{"$error":"#VALUE!"},{"$error":"#VALUE!"},{"$error":"#VALUE!"},null,null,{"$error":"#VALUE!"},{"$f":"'Site&Soil'!$G$173*EXP('Site&Soil'!$G$174*CV97)","v":{"$error":"#VALUE!"}},{"$error":"#VALUE!"},0,{"$error":"#VALUE!"},0,0,{"$error":"#VALUE!"},{"$error":"#VALUE!"},{"$error":"#VALUE!"},{"$error":"#VALUE!"},{"$error":"#VALUE!"},{"$error":"#VALUE!"},{"$error":"#VALUE!"},{"$error":"#VALUE!"},{"$error":"#VALUE!"},null,null,{"$error":"#VALUE!"},{"$f":"'Site&Soil'!$H$173*EXP('Site&Soil'!$H$174*DN97)","v":{"$error":"#VALUE!"}},{"$error":"#VALUE!"},0,{"$error":"#VALUE!"},0,0,{"$error":"#VALUE!"},{"$error":"#VALUE!"},{"$error":"#VALUE!"},{"$error":"#VALUE!"},{"$error":"#VALUE!"},{"$error":"#VALUE!"},{"$error":"#VALUE!"},{"$error":"#VALUE!"},{"$error":"#VALUE!"}]
[null,90,"Jun",null,null,null,null,6.1354451863897488,{"$f":"'Site&Soil'!$F$173*EXP('Site&Soil'!$F$174*H98)","v":0},0.69468750000000001,0.77880078307140521,5.4551173900862365E-3,0,0,19654.987776082966,0.80375675070408814,1.072202656192426E-2,1.5353530793363701E-3,1.3224181351453552E-2,6.1486693677412028,0.17274750140271655,5.9911131485081036E-3,-8.624184469287418E-3,null,null,5.269233924089864,{"$f":"'Site&Soil'!$G$173*EXP('Site&Soil'!$G$174*Z98)","v":0},0.79087499999999999,0.85214378896621112,4.5574154260148853E-2,0,0,2.6098561487342482E-2,1.0672555596622078E-6,1.1894198671921263E-7,1.2593346660349429E-8,1.941469167664206E-3,5.2711753932575283,0.21446583914254766,1.0790620086195974E-3,6.210907083785056E-3,null,null,5.2559082754824216,{"$f":"'Site&Soil'!$H$173*EXP('Site&Soil'!$H$174*AR98)","v":0},0.72675000000000001,0.92161044729772479,5.0834243110421458E-2,0,0,0.22749261937180151,9.3029174395081187E-6,1.1564415118972732E-6,1.222363750725472E-7,1.440383190209942E-6,5.2559097158656121,0.40400738600533342,2.122493700727019E-3,-1.4357505223356333E-3,null,null,null,null,null,null,null,null,null,null,null,null,null,null,null,null,null,null,null,null,null,null,{"$error":"#VALUE!"},{"$f":"'Site&Soil'!$F$173*EXP('Site&Soil'!$F$174*CD98)","v":{"$error":"#VALUE!"}},{"$error":"#VALUE!"},0,{"$error":"#VALUE!"},0,0,{"$error":"#VALUE!"},{"$error":"#VALUE!"},{"$error":"#VALUE!"},{"$error":"#VALUE!"},{"$error":"#VALUE!"},{"$error":"#VALUE!"},{"$error":"#VALUE!"},{"$error":"#VALUE!"},{"$error":"#VALUE!"},null,null,{"$error":"#VALUE!"},{"$f":"'Site&Soil'!$G$173*EXP('Site&Soil'!$G$174*CV98)","v":{"$error":"#VALUE!"}},{"$error":"#VALUE!"},0,{"$error":"#VALUE!"},0,0,{"$error":"#VALUE!"},{"$error":"#VALUE!"},{"$error":"#VALUE!"},{"$error":"#VALUE!"},{"$error":"#VALUE!"},{"$error":"#VALUE!"},{"$error":"#VALUE!"},{"$error":"#VALUE!"},{"$error":"#VALUE!"},null,null,{"$error":"#VALUE!"},{"$f":"'Site&Soil'!$H$173*EXP('Site&Soil'!$H$174*DN98)","v":{"$error":"#VALUE!"}},{"$error":"#VALUE!"},0,{"$error":"#VALUE!"},0,0,{"$error":"#VALUE!"},{"$error":"#VALUE!"},{"$error":"#VALUE!"},{"$error":"#VALUE!"},{"$error":"#VALUE!"},{"$error":"#VALUE!"},{"$error":"#VALUE!"},{"$error":"#VALUE!"},{"$error":"#VALUE!"}]
[null,91,"Jul",null,null,null,null,6.1400451832719156,{"$f":"'Site&Soil'!$F$173*EXP('Site&Soil'!$F$174*H99)","v":0},0.69468750000000001,0.93941306281347592,6.5076695560419831E-3,0,0,19392.792403136053,0.79303472414216392,1.2620188472853075E-2,1.8129673714926795E-3,1.5556953452250683E-2,6.1556021367241662,0.17756360935556897,7.5476663914128628E-3,-1.0864836910715771E-2,null,null,5.2773863003413135,{"$f":"'Site&Soil'!$G$173*EXP('Site&Soil'!$G$174*Z99)","v":0},0.79087499999999999,0.96078943915232284,5.042349192216352E-2,0,0,2.318996595395351E-2,9.483135729429952E-7,1.169319060954422E-7,1.2393547376894299E-8,2.2924885852396368E-3,5.2796787889265531,0.22119096219228765,1.2796004598398913E-3,7.9254824486460831E-3,null,null,5.2544739653432764,{"$f":"'Site&Soil'!$H$173*EXP('Site&Soil'!$H$174*AR99)","v":0},0.72675000000000001,0.97979867385370423,5.4223598931616157E-2,0,0,0.19921311346384546,8.1464759276108449E-6,1.0802051966382099E-6,1.141578602904028E-7,1.346323885414106E-6,5.2544753116671616,0.40296493275410961,2.2432589705402568E-3,-1.32598350285568E-3,null,null,null,null,null,null,null,null,null,null,null,null,null,null,null,null,null,null,null,null,null,null,{"$error":"#VALUE!"},{"$f":"'Site&Soil'!$F$173*EXP('Site&Soil'!$F$174*CD99)","v":{"$error":"#VALUE!"}},{"$error":"#VALUE!"},0,{"$error":"#VALUE!"},0,0,{"$error":"#VALUE!"},{"$error":"#VALUE!"},{"$error":"#VALUE!"},{"$error":"#VALUE!"},{"$error":"#VALUE!"},{"$error":"#VALUE!"},{"$error":"#VALUE!"},{"$error":"#VALUE!"},{"$error":"#VALUE!"},null,null,{"$error":"#VALUE!"},{"$f":"'Site&Soil'!$G$173*EXP('Site&Soil'!$G$174*CV99)","v":{"$error":"#VALUE!"}},{"$error":"#VALUE!"},0,{"$error":"#VALUE!"},0,0,{"$error":"#VALUE!"},{"$error":"#VALUE!"},{"$error":"#VALUE!"},{"$error":"#VALUE!"},{"$error":"#VALUE!"},{"$error":"#VALUE!"},{"$error":"#VALUE!"},{"$error":"#VALUE!"},{"$error":"#VALUE!"},null,null,{"$error":"#VALUE!"},{"$f":"'Site&Soil'!$H$173*EXP('Site&Soil'!$H$174*DN99)","v":{"$error":"#VALUE!"}},{"$error":"#VALUE!"},0,{"$error":"#VALUE!"},0,0,{"$error":"#VALUE!"},{"$error":"#VALUE!"},{"$error":"#VALUE!"},{"$error":"#VALUE!"},{"$error":"#VALUE!"},{"$error":"#VALUE!"},{"$error":"#VALUE!"},{"$error":"#VALUE!"},{"$error":"#VALUE!"}]
[null,92,"Aug",null,null,null,null,6.1447372998134506,{"$f":"'Site&Soil'!$F$173*EXP('Site&Soil'!$F$174*H100)","v":0},0.69468750000000001,1,6.8495395230628161E-3,0,0,19084.179567289262,0.78041453566931085,1.3071784221137563E-2,1.8840407392035129E-3,1.6104713964097597E-2,6.1608420137775486,0.18120368644609053,8.2986804628756971E-3,-1.1945918794962767E-2,null,null,5.2876042713751987,{"$f":"'Site&Soil'!$G$173*EXP('Site&Soil'!$G$174*Z100)","v":0},0.79087499999999999,1,5.12536056618772E-2,0,0,2.0330524732555748E-2,8.31381666847553E-7,1.0420126975414539E-7,1.1059092288276068E-8,2.3823409279354877E-3,5.2899866123031343,0.22934316200524132,1.4140748826510822E-3,8.7050489397497901E-3,null,null,5.253149328164306,{"$f":"'Site&Soil'!$H$173*EXP('Site&Soil'!$H$174*AR100)","v":0},0.72675000000000001,1,5.5511592524448677E-2,0,0,0.17279788283967135,7.0662707309726351E-6,9.5922856612832584E-7,1.0135625352835033E-7,1.1956400480058501E-6,5.2531505238043543,0.40200214317481436,2.2770831637390541E-3,-1.1874898948578904E-3,null,null,null,null,null,null,null,null,null,null,null,null,null,null,null,null,null,null,null,null,null,null,{"$error":"#VALUE!"},{"$f":"'Site&Soil'!$F$173*EXP('Site&Soil'!$F$174*CD100)","v":{"$error":"#VALUE!"}},{"$error":"#VALUE!"},0,{"$error":"#VALUE!"},0,0,{"$error":"#VALUE!"},{"$error":"#VALUE!"},{"$error":"#VALUE!"},{"$error":"#VALUE!"},{"$error":"#VALUE!"},{"$error":"#VALUE!"},{"$error":"#VALUE!"},{"$error":"#VALUE!"},{"$error":"#VALUE!"},null,null,{"$error":"#VALUE!"},{"$f":"'Site&Soil'!$G$173*EXP('Site&Soil'!$G$174*CV100)","v":{"$error":"#VALUE!"}},{"$error":"#VALUE!"},0,{"$error":"#VALUE!"},0,0,{"$error":"#VALUE!"},{"$error":"#VALUE!"},{"$error":"#VALUE!"},{"$error":"#VALUE!"},{"$error":"#VALUE!"},{"$error":"#VALUE!"},{"$error":"#VALUE!"},{"$error":"#VALUE!"},{"$error":"#VALUE!"},null,null,{"$error":"#VALUE!"},{"$f":"'Site&Soil'!$H$173*EXP('Site&Soil'!$H$174*DN100)","v":{"$error":"#VALUE!"}},{"$error":"#VALUE!"},0,{"$error":"#VALUE!"},0,0,{"$error":"#VALUE!"},{"$error":"#VALUE!"},{"$error":"#VALUE!"},{"$error":"#VALUE!"},{"$error":"#VALUE!"},{"$error":"#VALUE!"},{"$error":"#VALUE!"},{"$error":"#VALUE!"},{"$error":"#VALUE!"}]
[null,93,"Sep",null,null,null,null,6.1488960949825859,{"$f":"'Site&Soil'!$F$173*EXP('Site&Soil'!$F$174*H101)","v":0},0.69468750000000001,0.93941306281347592,6.3703927491020095E-3,0,0,18764.523453853217,0.76734275144817332,1.1953738415078113E-2,1.7279722236626209E-3,1.4719951332671873E-2,6.1636160463152576,0.18313077217463028,7.9292839038863205E-3,-1.1414173860745041E-2,null,null,5.2986916612428843,{"$f":"'Site&Soil'!$G$173*EXP('Site&Soil'!$G$174*Z101)","v":0},0.79087499999999999,0.96078943915232284,4.7994996033981385E-2,0,0,1.7782397228213245E-2,7.2718039709340766E-7,8.5346608444277632E-8,9.0715417134465748E-9,2.1849830867448736E-3,5.3008766443296294,0.23795581608419561,1.445443728988778E-3,8.1983122173510878E-3,null,null,5.2519630339094965,{"$f":"'Site&Soil'!$H$173*EXP('Site&Soil'!$H$174*AR101)","v":0},0.72675000000000001,0.97979867385370423,5.4539804486334872E-2,0,0,0.14934100272612191,6.1070421648443091E-6,8.1450290904758923E-7,8.6051327353185742E-8,1.0148236992196078E-6,5.2519640487331953,0.40113987241684956,2.2202236683974562E-3,-1.0660886679169979E-3,null,null,null,null,null,null,null,null,null,null,null,null,null,null,null,null,null,null,null,null,null,null,{"$error":"#VALUE!"},{"$f":"'Site&Soil'!$F$173*EXP('Site&Soil'!$F$174*CD101)","v":{"$error":"#VALUE!"}},{"$error":"#VALUE!"},0,{"$error":"#VALUE!"},0,0,{"$error":"#VALUE!"},{"$error":"#VALUE!"},{"$error":"#VALUE!"},{"$error":"#VALUE!"},{"$error":"#VALUE!"},{"$error":"#VALUE!"},{"$error":"#VALUE!"},{"$error":"#VALUE!"},{"$error":"#VALUE!"},null,null,{"$error":"#VALUE!"},{"$f":"'Site&Soil'!$G$173*EXP('Site&Soil'!$G$174*CV101)","v":{"$error":"#VALUE!"}},{"$error":"#VALUE!"},0,{"$error":"#VALUE!"},0,0,{"$error":"#VALUE!"},{"$error":"#VALUE!"},{"$error":"#VALUE!"},{"$error":"#VALUE!"},{"$error":"#VALUE!"},{"$error":"#VALUE!"},{"$error":"#VALUE!"},{"$error":"#VALUE!"},{"$error":"#VALUE!"},null,null,{"$error":"#VALUE!"},{"$f":"'Site&Soil'!$H$173*EXP('Site&Soil'!$H$174*DN101)","v":{"$error":"#VALUE!"}},{"$error":"#VALUE!"},0,{"$error":"#VALUE!"},0,0,{"$error":"#VALUE!"},{"$error":"#VALUE!"},{"$error":"#VALUE!"},{"$error":"#VALUE!"},{"$error":"#VALUE!"},{"$error":"#VALUE!"},{"$error":"#VALUE!"},{"$error":"#VALUE!"},{"$error":"#VALUE!"}]
[null,94,"Oct",null,null,null,null,6.1522018724545129,{"$f":"'Site&Soil'!$F$173*EXP('Site&Soil'!$F$174*H102)","v":0},0.69468750000000001,0.77880078307140521,5.2393262494263484E-3,0,0,18472.207921546909,0.75538901303309525,9.6781923848222057E-3,1.402325584040839E-3,1.1913078615609704E-2,6.1641149510701227,0.18347735507152566,6.593618284426222E-3,-9.491488308665726E-3,{"$f":"-'Profit Calculator'!M$29*'Quantity of Lime to Apply'!H$9","v":-5.0363037974683549E-2},null,5.3090749565469801,{"$f":"'Site&Soil'!$G$173*EXP('Site&Soil'!$G$174*Z102)","v":0},0.79087499999999999,0.85214378896621112,4.1555718842400127E-2,0,0,1.5695339739448217E-2,6.4183378864913005E-7,6.5223112534845981E-8,6.9425310195258241E-9,1.7732054555047944E-3,5.3108481620024852,0.24584204012371549,1.3552430729814747E-3,6.6235185224526594E-3,{"$f":"-'Profit Calculator'!$M$29*'Quantity of Lime to Apply'!$H$19","v":-5.0363037974683549E-2},null,5.2508979600652781,{"$f":"'Site&Soil'!$H$173*EXP('Site&Soil'!$H$174*AR102)","v":0},0.72675000000000001,0.92161044729772479,5.1427479025409499E-2,0,0,0.12942322946090143,5.2925392557967195E-6,6.6559104185012698E-7,7.0309744593061073E-8,8.2865335848172236E-7,5.2508987887186365,0.40036569470126893,2.0792324088751857E-3,-9.9620135657889374E-4,0.02,null,{"$f":"BJ90+1","v":8},{"$f":"AVERAGE(H97:H102)","v":6.1421551200706874},{"$f":"AVERAGE(Z97:Z102)","v":5.2842606685810116},{"$f":"AVERAGE(AR97:AR102)","v":5.2539635586013445},null,null,null,null,null,null,null,null,null,null,null,null,null,null,null,null,{"$error":"#VALUE!"},{"$f":"'Site&Soil'!$F$173*EXP('Site&Soil'!$F$174*CD102)","v":{"$error":"#VALUE!"}},{"$error":"#VALUE!"},0,{"$error":"#VALUE!"},0,0,{"$error":"#VALUE!"},{"$error":"#VALUE!"},{"$error":"#VALUE!"},{"$error":"#VALUE!"},{"$error":"#VALUE!"},{"$error":"#VALUE!"},{"$error":"#VALUE!"},{"$error":"#VALUE!"},{"$error":"#VALUE!"},{"$error":"#VALUE!"},null,{"$error":"#VALUE!"},{"$f":"'Site&Soil'!$G$173*EXP('Site&Soil'!$G$174*CV102)","v":{"$error":"#VALUE!"}},{"$error":"#VALUE!"},0,{"$error":"#VALUE!"},0,0,{"$error":"#VALUE!"},{"$error":"#VALUE!"},{"$error":"#VALUE!"},{"$error":"#VALUE!"},{"$error":"#VALUE!"},{"$error":"#VALUE!"},{"$error":"#VALUE!"},{"$error":"#VALUE!"},{"$error":"#VALUE!"},{"$error":"#VALUE!"},null,{"$error":"#VALUE!"},{"$f":"'Site&Soil'!$H$173*EXP('Site&Soil'!$H$174*DN102)","v":{"$error":"#VALUE!"}},{"$error":"#VALUE!"},0,{"$error":"#VALUE!"},0,0,{"$error":"#VALUE!"},{"$error":"#VALUE!"},{"$error":"#VALUE!"},{"$error":"#VALUE!"},{"$error":"#VALUE!"},{"$error":"#VALUE!"},{"$error":"#VALUE!"},{"$error":"#VALUE!"},{"$error":"#VALUE!"},{"$error":"#VALUE!"},null,{"$f":"EF90+1","v":8},{"$f":"AVERAGE(CD97:CD102)","v":{"$error":"#VALUE!"}},{"$f":"AVERAGE(CV97:CV102)","v":{"$error":"#VALUE!"}},{"$f":"AVERAGE(DN97:DN102)","v":{"$error":"#VALUE!"}}]
[null,95,"Nov",null,null,null,null,6.1042604247867729,{"$f":"'Site&Soil'!$F$173*EXP('Site&Soil'!$F$174*H103)","v":0},0.69468750000000001,0.56978282473092301,4.3015822862492734E-3,0,0,18235.538365923738,0.74571082064827299,7.8441668815076564E-3,1.0997771546157498E-3,9.7085232235960862E-3,6.1139689480103687,0.14864155357095277,3.4819179888290618E-3,-5.0122076312429141E-3,null,null,5.2671086425502542,{"$f":"'Site&Soil'!$G$173*EXP('Site&Soil'!$G$174*Z103)","v":0},0.79087499999999999,0.69767632607103081,3.7497087713184864E-2,0,0,1.4100380221574822E-2,5.7661067611428411E-7,5.287231939576482E-8,5.5965013774296568E-9,1.3906425546815467E-3,5.2684992851049355,0.21234937210736585,8.6936920568738557E-4,3.3033649857963348E-3,null,null,5.2699025873620569,{"$f":"'Site&Soil'!$H$173*EXP('Site&Soil'!$H$174*AR103)","v":0},0.72675000000000001,0.83220750069030147,4.4439047408039084E-2,0,0,0.11314693221055222,4.6269482139465923E-6,5.0281418845789149E-7,5.3241544259523412E-8,6.2630773385042683E-7,5.2699032136697905,0.41417716053452014,2.0291819281315136E-3,-1.5958895389668085E-3,null,null,null,null,null,null,null,null,null,null,null,null,null,null,null,null,null,null,null,null,null,null,{"$error":"#VALUE!"},{"$f":"'Site&Soil'!$F$173*EXP('Site&Soil'!$F$174*CD103)","v":{"$error":"#VALUE!"}},{"$error":"#VALUE!"},0,{"$error":"#VALUE!"},0,0,{"$error":"#VALUE!"},{"$error":"#VALUE!"},{"$error":"#VALUE!"},{"$error":"#VALUE!"},{"$error":"#VALUE!"},{"$error":"#VALUE!"},{"$error":"#VALUE!"},{"$error":"#VALUE!"},{"$error":"#VALUE!"},null,null,{"$error":"#VALUE!"},{"$f":"'Site&Soil'!$G$173*EXP('Site&Soil'!$G$174*CV103)","v":{"$error":"#VALUE!"}},{"$error":"#VALUE!"},0,{"$error":"#VALUE!"},0,0,{"$error":"#VALUE!"},{"$error":"#VALUE!"},{"$error":"#VALUE!"},{"$error":"#VALUE!"},{"$error":"#VALUE!"},{"$error":"#VALUE!"},{"$error":"#VALUE!"},{"$error":"#VALUE!"},{"$error":"#VALUE!"},null,null,{"$error":"#VALUE!"},{"$f":"'Site&Soil'!$H$173*EXP('Site&Soil'!$H$174*DN103)","v":{"$error":"#VALUE!"}},{"$error":"#VALUE!"},0,{"$error":"#VALUE!"},0,0,{"$error":"#VALUE!"},{"$error":"#VALUE!"},{"$error":"#VALUE!"},{"$error":"#VALUE!"},{"$error":"#VALUE!"},{"$error":"#VALUE!"},{"$error":"#VALUE!"},{"$error":"#VALUE!"},{"$error":"#VALUE!"}]
[null,96,"Dec",null,null,null,null,6.1089567403791261,{"$f":"'Site&Soil'!$F$173*EXP('Site&Soil'!$F$174*H104)","v":0},0.69468750000000001,0.36787944117144233,2.746187940826927E-3,0,0,18043.717887856801,0.7378666537667653,4.9551440471315459E-3,6.9689286891600789E-4,6.1297362889292497E-3,6.115086476668055,0.14941788676033924,2.2656592033254851E-3,-3.2614077600726732E-3,null,null,5.2718026500907316,{"$f":"'Site&Soil'!$G$173*EXP('Site&Soil'!$G$174*Z104)","v":0},0.79087499999999999,0.52729242404304844,2.8033240766100025E-2,0,0,1.2807445772804632E-2,5.2373835671851928E-7,3.5903421094780226E-8,3.802636482370447E-9,8.8120748500157455E-4,5.2726838575757329,0.21565884586020773,6.7375603117000122E-4,2.0128378974622841E-3,null,null,5.2683073241308236,{"$f":"'Site&Soil'!$H$173*EXP('Site&Soil'!$H$174*AR104)","v":0},0.72675000000000001,0.72142229035475613,3.8665832472066862E-2,0,0,0.10085116397081598,4.1241340254887009E-6,3.8994942107085164E-7,4.1282202470577753E-8,4.8499464063659349E-7,5.2683078091254645,0.41301770028193119,1.7476965552415268E-3,-1.4777303392797048E-3,null,null,null,null,null,null,null,null,null,null,null,null,null,null,null,null,null,null,null,null,null,null,{"$error":"#VALUE!"},{"$f":"'Site&Soil'!$F$173*EXP('Site&Soil'!$F$174*CD104)","v":{"$error":"#VALUE!"}},{"$error":"#VALUE!"},0,{"$error":"#VALUE!"},0,0,{"$error":"#VALUE!"},{"$error":"#VALUE!"},{"$error":"#VALUE!"},{"$error":"#VALUE!"},{"$error":"#VALUE!"},{"$error":"#VALUE!"},{"$error":"#VALUE!"},{"$error":"#VALUE!"},{"$error":"#VALUE!"},null,null,{"$error":"#VALUE!"},{"$f":"'Site&Soil'!$G$173*EXP('Site&Soil'!$G$174*CV104)","v":{"$error":"#VALUE!"}},{"$error":"#VALUE!"},0,{"$error":"#VALUE!"},0,0,{"$error":"#VALUE!"},{"$error":"#VALUE!"},{"$error":"#VALUE!"},{"$error":"#VALUE!"},{"$error":"#VALUE!"},{"$error":"#VALUE!"},{"$error":"#VALUE!"},{"$error":"#VALUE!"},{"$error":"#VALUE!"},null,null,{"$error":"#VALUE!"},{"$f":"'Site&Soil'!$H$173*EXP('Site&Soil'!$H$174*DN104)","v":{"$error":"#VALUE!"}},{"$error":"#VALUE!"},0,{"$error":"#VALUE!"},0,0,{"$error":"#VALUE!"},{"$error":"#VALUE!"},{"$error":"#VALUE!"},{"$error":"#VALUE!"},{"$error":"#VALUE!"},{"$error":"#VALUE!"},{"$error":"#VALUE!"},{"$error":"#VALUE!"},{"$error":"#VALUE!"}]
[{"$f":"A93+1","v":9},97,"Jan",{"$f":"OFFSET(Apply_Lime!$H$16,$A105,0)","v":0},{"$f":"OFFSET(Apply_Lime!$I$16,$A105,0)*G105","v":0},{"$f":"OFFSET(Apply_Lime!$I$16,$A105,0)*(1-G105)","v":0},{"$f":"'Profit Calculator'!N28","v":0},6.1118250689079821,{"$f":"'Site&Soil'!$F$173*EXP('Site&Soil'!$F$174*H105)","v":0},0.69468750000000001,4.6770622383959001E-2,3.467429432025164E-4,0,0,17922.545287328365,0.7329115097196337,6.2145161026086275E-4,8.7568488207345765E-5,7.6852271280758184E-4,6.1125935916207892,0.14768611067906676,2.8307817970303791E-4,-4.0748995728732404E-4,null,null,5.2746966954731951,{"$f":"'Site&Soil'!$G$173*EXP('Site&Soil'!$G$174*Z105)","v":0},0.79087499999999999,0.14085842092104497,7.4386354182423347E-3,0,0,1.1929467078231566E-2,4.8783493562373908E-7,8.8738956328889232E-9,9.4021109760578997E-10,1.1073358228782179E-4,5.2748074290554827,0.21733832545425488,1.8227477092931524E-4,1.2745807968860145E-4,null,null,5.2668300787861844,{"$f":"'Site&Soil'!$H$173*EXP('Site&Soil'!$H$174*AR105)","v":0},0.72675000000000001,0.36787944117144233,1.978469103293222E-2,0,0,9.1315379546331593E-2,3.7341846044178492E-6,1.8066465708791089E-7,1.9122561422195623E-8,2.2357386551540563E-7,5.2668303023600496,0.41194392224016591,8.8587800751348874E-4,-9.6815030833735606E-4,null,null,null,null,null,null,null,null,null,null,null,null,null,null,null,null,null,null,{"$f":"OFFSET(Apply_Lime!$O$16,$A105,0)","v":0},{"$f":"OFFSET(Apply_Lime!$P$16,$A105,0)*CA$7","v":0},{"$f":"OFFSET(Apply_Lime!$P$16,$A105,0)*CB$7","v":0},null,{"$error":"#VALUE!"},{"$f":"'Site&Soil'!$F$173*EXP('Site&Soil'!$F$174*CD105)","v":{"$error":"#VALUE!"}},{"$error":"#VALUE!"},0,{"$error":"#VALUE!"},0,0,{"$error":"#VALUE!"},{"$error":"#VALUE!"},{"$error":"#VALUE!"},{"$error":"#VALUE!"},{"$error":"#VALUE!"},{"$error":"#VALUE!"},{"$error":"#VALUE!"},{"$error":"#VALUE!"},{"$error":"#VALUE!"},null,null,{"$error":"#VALUE!"},{"$f":"'Site&Soil'!$G$173*EXP('Site&Soil'!$G$174*CV105)","v":{"$error":"#VALUE!"}},{"$error":"#VALUE!"},0,{"$error":"#VALUE!"},0,0,{"$error":"#VALUE!"},{"$error":"#VALUE!"},{"$error":"#VALUE!"},{"$error":"#VALUE!"},{"$error":"#VALUE!"},{"$error":"#VALUE!"},{"$error":"#VALUE!"},{"$error":"#VALUE!"},{"$error":"#VALUE!"},null,null,{"$error":"#VALUE!"},{"$f":"'Site&Soil'!$H$173*EXP('Site&Soil'!$H$174*DN105)","v":{"$error":"#VALUE!"}},{"$error":"#VALUE!"},0,{"$error":"#VALUE!"},0,0,{"$error":"#VALUE!"},{"$error":"#VALUE!"},{"$error":"#VALUE!"},{"$error":"#VALUE!"},{"$error":"#VALUE!"},{"$error":"#VALUE!"},{"$error":"#VALUE!"},{"$error":"#VALUE!"},{"$error":"#VALUE!"}]
[null,98,"Feb",null,null,null,null,6.112186101663502,{"$f":"'Site&Soil'!$F$173*EXP('Site&Soil'!$F$174*H106)","v":0},0.69468750000000001,0.1053992245618643,7.8072027620215679E-4,0,0,17907.348371355463,0.73229005810937287,1.3980629966532879E-3,1.970480417863409E-4,1.728856435256064E-3,6.113914958098758,0.14860404745423067,6.4384749756189882E-4,-9.2681601088532445E-4,null,null,5.2749348871351716,{"$f":"'Site&Soil'!$G$173*EXP('Site&Soil'!$G$174*Z106)","v":0},0.79087499999999999,0.23692775868212174,1.2505088966814118E-2,0,0,1.171246571552092E-2,4.7896103999085015E-7,1.4646542579334929E-8,1.5518850880977745E-9,2.4916849874358416E-4,5.2751840556339156,0.21763618999947298,3.0727775141940251E-4,4.2556629826773679E-4,null,null,5.2658621520517119,{"$f":"'Site&Soil'!$H$173*EXP('Site&Soil'!$H$174*AR106)","v":0},0.72675000000000001,0.47965226883004436,2.5853769305466585E-2,0,0,8.6897423960238557E-2,3.5535199473299384E-6,2.2466259523073325E-7,2.3776626450914927E-8,2.785522585041845E-7,5.2658624306039705,0.41124052144143547,1.1504952629568066E-3,-1.1602580138113576E-3,null,null,null,null,null,null,null,null,null,null,null,null,null,null,null,null,null,null,null,null,null,null,{"$error":"#VALUE!"},{"$f":"'Site&Soil'!$F$173*EXP('Site&Soil'!$F$174*CD106)","v":{"$error":"#VALUE!"}},{"$error":"#VALUE!"},0,{"$error":"#VALUE!"},0,0,{"$error":"#VALUE!"},{"$error":"#VALUE!"},{"$error":"#VALUE!"},{"$error":"#VALUE!"},{"$error":"#VALUE!"},{"$error":"#VALUE!"},{"$error":"#VALUE!"},{"$error":"#VALUE!"},{"$error":"#VALUE!"},null,null,{"$error":"#VALUE!"},{"$f":"'Site&Soil'!$G$173*EXP('Site&Soil'!$G$174*CV106)","v":{"$error":"#VALUE!"}},{"$error":"#VALUE!"},0,{"$error":"#VALUE!"},0,0,{"$error":"#VALUE!"},{"$error":"#VALUE!"},{"$error":"#VALUE!"},{"$error":"#VALUE!"},{"$error":"#VALUE!"},{"$error":"#VALUE!"},{"$error":"#VALUE!"},{"$error":"#VALUE!"},{"$error":"#VALUE!"},null,null,{"$error":"#VALUE!"},{"$f":"'Site&Soil'!$H$173*EXP('Site&Soil'!$H$174*DN106)","v":{"$error":"#VALUE!"}},{"$error":"#VALUE!"},0,{"$error":"#VALUE!"},0,0,{"$error":"#VALUE!"},{"$error":"#VALUE!"},{"$error":"#VALUE!"},{"$error":"#VALUE!"},{"$error":"#VALUE!"},{"$error":"#VALUE!"},{"$error":"#VALUE!"},{"$error":"#VALUE!"},{"$error":"#VALUE!"}]
[null,99,"Mar",null,null,null,null,6.1129881420878727,{"$f":"'Site&Soil'!$F$173*EXP('Site&Soil'!$F$174*H107)","v":0},0.69468750000000001,0.20961138715109778,1.5496606353474227E-3,0,0,17873.160277650069,0.73089199511271963,2.7697332911529528E-3,3.9058582303521462E-4,3.4247736833003875E-3,6.1164129157711731,0.15033934742478655,1.302868093472159E-3,-1.8754736388263199E-3,null,null,5.2756096219321833,{"$f":"'Site&Soil'!$G$173*EXP('Site&Soil'!$G$174*Z107)","v":0},0.79087499999999999,0.36787944117144206,1.9386418213012388E-2,0,0,1.1354300617552503E-2,4.643144974115152E-7,2.2011922028813765E-8,2.3324930680348384E-9,4.9389031447975395E-4,5.2761035122466629,0.21836336524807948,4.7972108695964994E-4,1.0408054452505252E-3,null,null,5.2647021725901588,{"$f":"'Site&Soil'!$H$173*EXP('Site&Soil'!$H$174*AR107)","v":0},0.72675000000000001,0.60037304119840451,3.2447805091002493E-2,0,0,8.1403547163390544E-2,3.3288573520992052E-6,2.6413664320739256E-7,2.7950158172856137E-8,3.2819948827323185E-7,5.2647025007896469,0.41039754244887572,1.4332714001960903E-3,-1.3120747344154665E-3,null,null,null,null,null,null,null,null,null,null,null,null,null,null,null,null,null,null,null,null,null,null,{"$error":"#VALUE!"},{"$f":"'Site&Soil'!$F$173*EXP('Site&Soil'!$F$174*CD107)","v":{"$error":"#VALUE!"}},{"$error":"#VALUE!"},0,{"$error":"#VALUE!"},0,0,{"$error":"#VALUE!"},{"$error":"#VALUE!"},{"$error":"#VALUE!"},{"$error":"#VALUE!"},{"$error":"#VALUE!"},{"$error":"#VALUE!"},{"$error":"#VALUE!"},{"$error":"#VALUE!"},{"$error":"#VALUE!"},null,null,{"$error":"#VALUE!"},{"$f":"'Site&Soil'!$G$173*EXP('Site&Soil'!$G$174*CV107)","v":{"$error":"#VALUE!"}},{"$error":"#VALUE!"},0,{"$error":"#VALUE!"},0,0,{"$error":"#VALUE!"},{"$error":"#VALUE!"},{"$error":"#VALUE!"},{"$error":"#VALUE!"},{"$error":"#VALUE!"},{"$error":"#VALUE!"},{"$error":"#VALUE!"},{"$error":"#VALUE!"},{"$error":"#VALUE!"},null,null,{"$error":"#VALUE!"},{"$f":"'Site&Soil'!$H$173*EXP('Site&Soil'!$H$174*DN107)","v":{"$error":"#VALUE!"}},{"$error":"#VALUE!"},0,{"$error":"#VALUE!"},0,0,{"$error":"#VALUE!"},{"$error":"#VALUE!"},{"$error":"#VALUE!"},{"$error":"#VALUE!"},{"$error":"#VALUE!"},{"$error":"#VALUE!"},{"$error":"#VALUE!"},{"$error":"#VALUE!"},{"$error":"#VALUE!"}]
[null,100,"Apr",null,null,null,null,6.1145374421323471,{"$f":"'Site&Soil'!$F$173*EXP('Site&Soil'!$F$174*H108)","v":0},0.69468750000000001,0.36787944117144233,2.7096397472154013E-3,0,0,17805.429494757194,0.7281222618215667,4.824629947523554E-3,6.8107314977942923E-4,5.9646341667931617E-3,6.1205020762991404,0.15318003612905889,2.3518507735690005E-3,-3.3854801958708059E-3,null,null,5.2771443176919135,{"$f":"'Site&Soil'!$G$173*EXP('Site&Soil'!$G$174*Z108)","v":0},0.79087499999999999,0.52729242404304844,2.7688515327077921E-2,0,0,1.0816023261840804E-2,4.4230257538270146E-7,2.9947962586351039E-8,3.1740679019813752E-9,8.6119794363725456E-4,5.2780055156355505,0.21986761217826603,6.9537377375489175E-4,2.0944864862514415E-3,null,null,5.2633904260552313,{"$f":"'Site&Soil'!$H$173*EXP('Site&Soil'!$H$174*AR108)","v":0},0.72675000000000001,0.72142229035475613,3.9108675585775174E-2,0,0,7.4944375916730338E-2,3.0647207088918128E-6,2.9309752847057887E-7,3.1009571467465761E-8,3.649976262883997E-7,5.2633907910528572,0.40944425739766388,1.7130700896762253E-3,-1.4003389279963311E-3,null,null,null,null,null,null,null,null,null,null,null,null,null,null,null,null,null,null,null,null,null,null,{"$error":"#VALUE!"},{"$f":"'Site&Soil'!$F$173*EXP('Site&Soil'!$F$174*CD108)","v":{"$error":"#VALUE!"}},{"$error":"#VALUE!"},0,{"$error":"#VALUE!"},0,0,{"$error":"#VALUE!"},{"$error":"#VALUE!"},{"$error":"#VALUE!"},{"$error":"#VALUE!"},{"$error":"#VALUE!"},{"$error":"#VALUE!"},{"$error":"#VALUE!"},{"$error":"#VALUE!"},{"$error":"#VALUE!"},null,null,{"$error":"#VALUE!"},{"$f":"'Site&Soil'!$G$173*EXP('Site&Soil'!$G$174*CV108)","v":{"$error":"#VALUE!"}},{"$error":"#VALUE!"},0,{"$error":"#VALUE!"},0,0,{"$error":"#VALUE!"},{"$error":"#VALUE!"},{"$error":"#VALUE!"},{"$error":"#VALUE!"},{"$error":"#VALUE!"},{"$error":"#VALUE!"},{"$error":"#VALUE!"},{"$error":"#VALUE!"},{"$error":"#VALUE!"},null,null,{"$error":"#VALUE!"},{"$f":"'Site&Soil'!$H$173*EXP('Site&Soil'!$H$174*DN108)","v":{"$error":"#VALUE!"}},{"$error":"#VALUE!"},0,{"$error":"#VALUE!"},0,0,{"$error":"#VALUE!"},{"$error":"#VALUE!"},{"$error":"#VALUE!"},{"$error":"#VALUE!"},{"$error":"#VALUE!"},{"$error":"#VALUE!"},{"$error":"#VALUE!"},{"$error":"#VALUE!"},{"$error":"#VALUE!"}]
[null,101,"May",null,null,null,null,6.1171165961032701,{"$f":"'Site&Soil'!$F$173*EXP('Site&Soil'!$F$174*H109)","v":0},0.69468750000000001,0.56978282473092301,4.1708556638649381E-3,0,0,17687.448473061726,0.72329763187404317,7.3771794643188761E-3,1.0432149428815181E-3,9.1177177096714093E-3,6.1262343138129411,0.15716214987692731,3.7869679429483757E-3,-5.4513258737898347E-3,null,null,5.2801000021218023,{"$f":"'Site&Soil'!$G$173*EXP('Site&Soil'!$G$174*Z109)","v":0},0.79087499999999999,0.69767632607103081,3.6385519424646406E-2,0,0,1.0083678758310744E-2,4.1235461279635042E-7,3.6689988933240998E-8,3.8901288510439087E-9,1.3191057281385812E-3,5.2814191078499411,0.22256733692082215,9.3871665591501081E-4,3.6013924919024685E-3,null,null,5.2619904521248611,{"$f":"'Site&Soil'!$H$173*EXP('Site&Soil'!$H$174*AR109)","v":0},0.72675000000000001,0.83220750069030147,4.5260912439516784E-2,0,0,6.7776998057393054E-2,2.7716231804212338E-6,3.0676487744889664E-7,3.2449844388939946E-8,3.8280724033161416E-7,5.2619908349321012,0.40842683928690443,1.9648831765380968E-3,-1.4119938364266752E-3,null,null,null,null,null,null,null,null,null,null,null,null,null,null,null,null,null,null,null,null,null,null,{"$error":"#VALUE!"},{"$f":"'Site&Soil'!$F$173*EXP('Site&Soil'!$F$174*CD109)","v":{"$error":"#VALUE!"}},{"$error":"#VALUE!"},0,{"$error":"#VALUE!"},0,0,{"$error":"#VALUE!"},{"$error":"#VALUE!"},{"$error":"#VALUE!"},{"$error":"#VALUE!"},{"$error":"#VALUE!"},{"$error":"#VALUE!"},{"$error":"#VALUE!"},{"$error":"#VALUE!"},{"$error":"#VALUE!"},null,null,{"$error":"#VALUE!"},{"$f":"'Site&Soil'!$G$173*EXP('Site&Soil'!$G$174*CV109)","v":{"$error":"#VALUE!"}},{"$error":"#VALUE!"},0,{"$error":"#VALUE!"},0,0,{"$error":"#VALUE!"},{"$error":"#VALUE!"},{"$error":"#VALUE!"},{"$error":"#VALUE!"},{"$error":"#VALUE!"},{"$error":"#VALUE!"},{"$error":"#VALUE!"},{"$error":"#VALUE!"},{"$error":"#VALUE!"},null,null,{"$error":"#VALUE!"},{"$f":"'Site&Soil'!$H$173*EXP('Site&Soil'!$H$174*DN109)","v":{"$error":"#VALUE!"}},{"$error":"#VALUE!"},0,{"$error":"#VALUE!"},0,0,{"$error":"#VALUE!"},{"$error":"#VALUE!"},{"$error":"#VALUE!"},{"$error":"#VALUE!"},{"$error":"#VALUE!"},{"$error":"#VALUE!"},{"$error":"#VALUE!"},{"$error":"#VALUE!"},{"$error":"#VALUE!"}]
[null,102,"Jun",null,null,null,null,6.1207829879391511,{"$f":"'Site&Soil'!$F$173*EXP('Site&Soil'!$F$174*H110)","v":0},0.69468750000000001,0.77880078307140521,5.6508880927452557E-3,0,0,17507.047658927175,0.71592045240972424,9.8930367154955283E-3,1.402458287061586E-3,1.2222155182630957E-2,6.1330051431217818,0.16186576036241254,5.4148510455910431E-3,-7.7946573755696526E-3,null,null,5.2850205003418438,{"$f":"'Site&Soil'!$G$173*EXP('Site&Soil'!$G$174*Z110)","v":0},0.79087499999999999,0.85214378896621112,4.3937664768908653E-2,0,0,9.1864654119148941E-3,3.7566462386310943E-7,4.0363183767989094E-8,4.28235848851523E-9,1.7733451782985497E-3,5.2867938455201422,0.22681808257574246,1.1829990699507122E-3,5.3508480804682545E-3,null,null,5.2605788410956746,{"$f":"'Site&Soil'!$H$173*EXP('Site&Soil'!$H$174*AR110)","v":0},0.72675000000000001,0.92161044729772479,5.0287364307943033E-2,0,0,6.0275400203181735E-2,2.4648583029723371E-6,3.0310910088244637E-7,3.2057447196394721E-8,3.7885656989964485E-7,5.2605792199522448,0.40740094810029376,2.1634588769387031E-3,-1.3491019016002627E-3,null,null,null,null,null,null,null,null,null,null,null,null,null,null,null,null,null,null,null,null,null,null,{"$error":"#VALUE!"},{"$f":"'Site&Soil'!$F$173*EXP('Site&Soil'!$F$174*CD110)","v":{"$error":"#VALUE!"}},{"$error":"#VALUE!"},0,{"$error":"#VALUE!"},0,0,{"$error":"#VALUE!"},{"$error":"#VALUE!"},{"$error":"#VALUE!"},{"$error":"#VALUE!"},{"$error":"#VALUE!"},{"$error":"#VALUE!"},{"$error":"#VALUE!"},{"$error":"#VALUE!"},{"$error":"#VALUE!"},null,null,{"$error":"#VALUE!"},{"$f":"'Site&Soil'!$G$173*EXP('Site&Soil'!$G$174*CV110)","v":{"$error":"#VALUE!"}},{"$error":"#VALUE!"},0,{"$error":"#VALUE!"},0,0,{"$error":"#VALUE!"},{"$error":"#VALUE!"},{"$error":"#VALUE!"},{"$error":"#VALUE!"},{"$error":"#VALUE!"},{"$error":"#VALUE!"},{"$error":"#VALUE!"},{"$error":"#VALUE!"},{"$error":"#VALUE!"},null,null,{"$error":"#VALUE!"},{"$f":"'Site&Soil'!$H$173*EXP('Site&Soil'!$H$174*DN110)","v":{"$error":"#VALUE!"}},{"$error":"#VALUE!"},0,{"$error":"#VALUE!"},0,0,{"$error":"#VALUE!"},{"$error":"#VALUE!"},{"$error":"#VALUE!"},{"$error":"#VALUE!"},{"$error":"#VALUE!"},{"$error":"#VALUE!"},{"$error":"#VALUE!"},{"$error":"#VALUE!"},{"$error":"#VALUE!"}]
[null,103,"Jul",null,null,null,null,6.1252104857462122,{"$f":"'Site&Soil'!$F$173*EXP('Site&Soil'!$F$174*H111)","v":0},0.69468750000000001,0.93941306281347592,6.7441222454710506E-3,0,0,17265.12432137378,0.70602741569422867,1.164381090066002E-2,1.6556345582825576E-3,1.437794165344484E-2,6.1395884273996568,0.16643908565919885,6.8186805348719884E-3,-9.8154645576204961E-3,null,null,5.2921446936006102,{"$f":"'Site&Soil'!$G$173*EXP('Site&Soil'!$G$174*Z111)","v":0},0.79087499999999999,0.96078943915232284,4.8728614135593214E-2,0,0,8.1994281237444955E-3,3.3530144009512034E-7,3.9954676917447662E-8,4.2430458436928405E-9,2.0934664389614431E-3,5.2942381600395718,0.23270560482129635,1.3921089460209569E-3,6.8614782220338642E-3,null,null,5.2592301180506444,{"$f":"'Site&Soil'!$H$173*EXP('Site&Soil'!$H$174*AR111)","v":0},0.72675000000000001,0.97979867385370423,5.3629637213552669E-2,0,0,5.2863200346141483E-2,2.1617492020898909E-6,2.8350342565109194E-7,2.9978845062870869E-8,3.5468541648698169E-7,5.2592304727360606,0.40642074606093193,2.2874056462161545E-3,-1.231918404121359E-3,null,null,null,null,null,null,null,null,null,null,null,null,null,null,null,null,null,null,null,null,null,null,{"$error":"#VALUE!"},{"$f":"'Site&Soil'!$F$173*EXP('Site&Soil'!$F$174*CD111)","v":{"$error":"#VALUE!"}},{"$error":"#VALUE!"},0,{"$error":"#VALUE!"},0,0,{"$error":"#VALUE!"},{"$error":"#VALUE!"},{"$error":"#VALUE!"},{"$error":"#VALUE!"},{"$error":"#VALUE!"},{"$error":"#VALUE!"},{"$error":"#VALUE!"},{"$error":"#VALUE!"},{"$error":"#VALUE!"},null,null,{"$error":"#VALUE!"},{"$f":"'Site&Soil'!$G$173*EXP('Site&Soil'!$G$174*CV111)","v":{"$error":"#VALUE!"}},{"$error":"#VALUE!"},0,{"$error":"#VALUE!"},0,0,{"$error":"#VALUE!"},{"$error":"#VALUE!"},{"$error":"#VALUE!"},{"$error":"#VALUE!"},{"$error":"#VALUE!"},{"$error":"#VALUE!"},{"$error":"#VALUE!"},{"$error":"#VALUE!"},{"$error":"#VALUE!"},null,null,{"$error":"#VALUE!"},{"$f":"'Site&Soil'!$H$173*EXP('Site&Soil'!$H$174*DN111)","v":{"$error":"#VALUE!"}},{"$error":"#VALUE!"},0,{"$error":"#VALUE!"},0,0,{"$error":"#VALUE!"},{"$error":"#VALUE!"},{"$error":"#VALUE!"},{"$error":"#VALUE!"},{"$error":"#VALUE!"},{"$error":"#VALUE!"},{"$error":"#VALUE!"},{"$error":"#VALUE!"},{"$error":"#VALUE!"}]
[null,104,"Aug",null,null,null,null,6.1297729628420363,{"$f":"'Site&Soil'!$F$173*EXP('Site&Soil'!$F$174*H112)","v":0},0.69468750000000001,1,7.100751025293936E-3,0,0,16980.387725732107,0.69438360479356864,1.2057350555338082E-2,1.7198081218695689E-3,1.4880852805712658E-2,6.1446538156477493,0.16995794755779559,7.4988608265085799E-3,-1.0794581486652027E-2,null,null,5.301099638261606,{"$f":"'Site&Soil'!$G$173*EXP('Site&Soil'!$G$174*Z112)","v":0},0.79087499999999999,1,4.9675754976459603E-2,0,0,7.2223804215362725E-3,2.953467631776727E-7,3.5877720016701493E-8,3.8147190165365791E-9,2.1746043115164456E-3,5.3032742425731225,0.23985201659501829,1.5248166193154902E-3,7.5537148186414918E-3,null,null,5.2579985543319392,{"$f":"'Site&Soil'!$H$173*EXP('Site&Soil'!$H$174*AR112)","v":0},0.72675000000000001,1,5.4891699936452133E-2,0,0,4.5930435724545984E-2,1.878245776438799E-6,2.5211996957422799E-7,2.6656125329282074E-8,3.1548477916956656E-7,5.2579988698167179,0.40552567863929961,2.3228289470683238E-3,-1.0980561785384707E-3,null,null,null,null,null,null,null,null,null,null,null,null,null,null,null,null,null,null,null,null,null,null,{"$error":"#VALUE!"},{"$f":"'Site&Soil'!$F$173*EXP('Site&Soil'!$F$174*CD112)","v":{"$error":"#VALUE!"}},{"$error":"#VALUE!"},0,{"$error":"#VALUE!"},0,0,{"$error":"#VALUE!"},{"$error":"#VALUE!"},{"$error":"#VALUE!"},{"$error":"#VALUE!"},{"$error":"#VALUE!"},{"$error":"#VALUE!"},{"$error":"#VALUE!"},{"$error":"#VALUE!"},{"$error":"#VALUE!"},null,null,{"$error":"#VALUE!"},{"$f":"'Site&Soil'!$G$173*EXP('Site&Soil'!$G$174*CV112)","v":{"$error":"#VALUE!"}},{"$error":"#VALUE!"},0,{"$error":"#VALUE!"},0,0,{"$error":"#VALUE!"},{"$error":"#VALUE!"},{"$error":"#VALUE!"},{"$error":"#VALUE!"},{"$error":"#VALUE!"},{"$error":"#VALUE!"},{"$error":"#VALUE!"},{"$error":"#VALUE!"},{"$error":"#VALUE!"},null,null,{"$error":"#VALUE!"},{"$f":"'Site&Soil'!$H$173*EXP('Site&Soil'!$H$174*DN112)","v":{"$error":"#VALUE!"}},{"$error":"#VALUE!"},0,{"$error":"#VALUE!"},0,0,{"$error":"#VALUE!"},{"$error":"#VALUE!"},{"$error":"#VALUE!"},{"$error":"#VALUE!"},{"$error":"#VALUE!"},{"$error":"#VALUE!"},{"$error":"#VALUE!"},{"$error":"#VALUE!"},{"$error":"#VALUE!"}]
[null,105,"Sep",null,null,null,null,6.1338592341610969,{"$f":"'Site&Soil'!$F$173*EXP('Site&Soil'!$F$174*H113)","v":0},0.69468750000000001,0.93941306281347592,6.6052875972844377E-3,0,0,16685.538472435612,0.68232625423823057,1.1021278032599127E-2,1.5764693796905581E-3,1.3595765942108602E-2,6.1474550001032053,0.1719038953841952,7.1712904573628597E-3,-1.0323045192785043E-2,null,null,5.3108279573917638,{"$f":"'Site&Soil'!$G$173*EXP('Site&Soil'!$G$174*Z113)","v":0},0.79087499999999999,0.96078943915232284,4.6663976599732579E-2,0,0,6.3450302185746651E-3,2.594690431609712E-7,2.9608434164416426E-8,3.1523763223737887E-9,1.9933565174628104E-3,5.3128213139092271,0.24740255663795996,1.5447340438419026E-3,7.1143434974186267E-3,null,null,5.2569008136381798,{"$f":"'Site&Soil'!$H$173*EXP('Site&Soil'!$H$174*AR113)","v":0},0.72675000000000001,0.97979867385370423,5.3919714577455001E-2,0,0,3.9765119021766278E-2,1.626125806864571E-6,2.1441238677921644E-7,2.2666279849717018E-8,2.6817816752923733E-7,5.2569010818163475,0.40472786121003046,2.2656928342177441E-3,-9.9203135930628328E-4,null,null,null,null,null,null,null,null,null,null,null,null,null,null,null,null,null,null,null,null,null,null,{"$error":"#VALUE!"},{"$f":"'Site&Soil'!$F$173*EXP('Site&Soil'!$F$174*CD113)","v":{"$error":"#VALUE!"}},{"$error":"#VALUE!"},0,{"$error":"#VALUE!"},0,0,{"$error":"#VALUE!"},{"$error":"#VALUE!"},{"$error":"#VALUE!"},{"$error":"#VALUE!"},{"$error":"#VALUE!"},{"$error":"#VALUE!"},{"$error":"#VALUE!"},{"$error":"#VALUE!"},{"$error":"#VALUE!"},null,null,{"$error":"#VALUE!"},{"$f":"'Site&Soil'!$G$173*EXP('Site&Soil'!$G$174*CV113)","v":{"$error":"#VALUE!"}},{"$error":"#VALUE!"},0,{"$error":"#VALUE!"},0,0,{"$error":"#VALUE!"},{"$error":"#VALUE!"},{"$error":"#VALUE!"},{"$error":"#VALUE!"},{"$error":"#VALUE!"},{"$error":"#VALUE!"},{"$error":"#VALUE!"},{"$error":"#VALUE!"},{"$error":"#VALUE!"},null,null,{"$error":"#VALUE!"},{"$f":"'Site&Soil'!$H$173*EXP('Site&Soil'!$H$174*DN113)","v":{"$error":"#VALUE!"}},{"$error":"#VALUE!"},0,{"$error":"#VALUE!"},0,0,{"$error":"#VALUE!"},{"$error":"#VALUE!"},{"$error":"#VALUE!"},{"$error":"#VALUE!"},{"$error":"#VALUE!"},{"$error":"#VALUE!"},{"$error":"#VALUE!"},{"$error":"#VALUE!"},{"$error":"#VALUE!"}]
[null,106,"Oct",null,null,null,null,6.1371319549104202,{"$f":"'Site&Soil'!$F$173*EXP('Site&Soil'!$F$174*H114)","v":0},0.69468750000000001,0.77880078307140521,5.4330165257894178E-3,0,0,16416.025233737728,0.67130497620563145,8.9188536382673166E-3,1.2786448654749252E-3,1.0998051314860842E-2,6.1481300062252808,0.17237281369962454,5.9706987093928595E-3,-8.5947979622389339E-3,{"$f":"-'Profit Calculator'!N$29*'Quantity of Lime to Apply'!H$9","v":-4.0091240506329125E-2},null,5.3199356574066456,{"$f":"'Site&Soil'!$G$173*EXP('Site&Soil'!$G$174*Z114)","v":0},0.79087499999999999,0.85214378896621112,4.0522737605168446E-2,0,0,5.6209885093625534E-3,2.2986060899655478E-7,2.2777784244656568E-8,2.4282474582861318E-9,1.6167728339013265E-3,5.3215524302405468,0.25430777826649248,1.4368947462435953E-3,5.7326429121533299E-3,{"$f":"-'Profit Calculator'!$N$29*'Quantity of Lime to Apply'!$H$19","v":-4.0091240506329125E-2},null,5.2559090504570412,{"$f":"'Site&Soil'!$H$173*EXP('Site&Soil'!$H$174*AR114)","v":0},0.72675000000000001,0.92161044729772479,5.0834151879535071E-2,0,0,3.4521899804640467E-2,1.4117134200853546E-6,1.7548914978391857E-7,1.8549281894350232E-8,2.192887724084685E-7,5.2559092697458132,0.40400706178776963,2.1224898171334429E-3,-9.4337127057426572E-4,0.02,null,{"$f":"BJ102+1","v":9},{"$f":"AVERAGE(H109:H114)","v":6.1273123702836978},{"$f":"AVERAGE(Z109:Z114)","v":5.2981880748540453},{"$f":"AVERAGE(AR109:AR114)","v":5.2587679716163906},null,null,null,null,null,null,null,null,null,null,null,null,null,null,null,null,{"$error":"#VALUE!"},{"$f":"'Site&Soil'!$F$173*EXP('Site&Soil'!$F$174*CD114)","v":{"$error":"#VALUE!"}},{"$error":"#VALUE!"},0,{"$error":"#VALUE!"},0,0,{"$error":"#VALUE!"},{"$error":"#VALUE!"},{"$error":"#VALUE!"},{"$error":"#VALUE!"},{"$error":"#VALUE!"},{"$error":"#VALUE!"},{"$error":"#VALUE!"},{"$error":"#VALUE!"},{"$error":"#VALUE!"},{"$error":"#VALUE!"},null,{"$error":"#VALUE!"},{"$f":"'Site&Soil'!$G$173*EXP('Site&Soil'!$G$174*CV114)","v":{"$error":"#VALUE!"}},{"$error":"#VALUE!"},0,{"$error":"#VALUE!"},0,0,{"$error":"#VALUE!"},{"$error":"#VALUE!"},{"$error":"#VALUE!"},{"$error":"#VALUE!"},{"$error":"#VALUE!"},{"$error":"#VALUE!"},{"$error":"#VALUE!"},{"$error":"#VALUE!"},{"$error":"#VALUE!"},{"$error":"#VALUE!"},null,{"$error":"#VALUE!"},{"$f":"'Site&Soil'!$H$173*EXP('Site&Soil'!$H$174*DN114)","v":{"$error":"#VALUE!"}},{"$error":"#VALUE!"},0,{"$error":"#VALUE!"},0,0,{"$error":"#VALUE!"},{"$error":"#VALUE!"},{"$error":"#VALUE!"},{"$error":"#VALUE!"},{"$error":"#VALUE!"},{"$error":"#VALUE!"},{"$error":"#VALUE!"},{"$error":"#VALUE!"},{"$error":"#VALUE!"},{"$error":"#VALUE!"},null,{"$f":"EF102+1","v":9},{"$f":"AVERAGE(CD109:CD114)","v":{"$error":"#VALUE!"}},{"$f":"AVERAGE(CV109:CV114)","v":{"$error":"#VALUE!"}},{"$f":"AVERAGE(DN109:DN114)","v":{"$error":"#VALUE!"}}]
[null,107,"Nov",null,null,null,null,6.0994439677567129,{"$f":"'Site&Soil'!$F$173*EXP('Site&Soil'!$F$174*H115)","v":0},0.69468750000000001,0.56978282473092301,4.3515630354831582E-3,0,0,16197.924472427474,0.66238612256736418,7.0486289385763429E-3,9.8511482657956265E-4,8.7284053793925762E-3,6.1081723731361057,0.14461474546298819,3.3426761645995633E-3,-4.8117695576781836E-3,null,null,5.2871938326463708,{"$f":"'Site&Soil'!$G$173*EXP('Site&Soil'!$G$174*Z115)","v":0},0.79087499999999999,0.69767632607103081,3.57924460947616E-2,0,0,5.0639828350676902E-3,2.070828247518982E-7,1.8125233264895833E-8,1.9235628110470049E-9,1.2456216573415728E-3,5.2884394543037123,0.22811955342244847,9.7781333015160171E-4,2.9901853446473361E-3,null,null,5.2749658984752381,{"$f":"'Site&Soil'!$H$173*EXP('Site&Soil'!$H$174*AR115)","v":0},0.72675000000000001,0.83220750069030147,4.392090380057654E-2,0,0,3.0230505560279106E-2,1.236224270301436E-6,1.3277511265558127E-7,1.4068340248030859E-8,1.6598601337268304E-7,5.2749660644612515,0.41785658734721437,2.0712138583708884E-3,-1.5045070907730124E-3,null,null,null,null,null,null,null,null,null,null,null,null,null,null,null,null,null,null,null,null,null,null,{"$error":"#VALUE!"},{"$f":"'Site&Soil'!$F$173*EXP('Site&Soil'!$F$174*CD115)","v":{"$error":"#VALUE!"}},{"$error":"#VALUE!"},0,{"$error":"#VALUE!"},0,0,{"$error":"#VALUE!"},{"$error":"#VALUE!"},{"$error":"#VALUE!"},{"$error":"#VALUE!"},{"$error":"#VALUE!"},{"$error":"#VALUE!"},{"$error":"#VALUE!"},{"$error":"#VALUE!"},{"$error":"#VALUE!"},null,null,{"$error":"#VALUE!"},{"$f":"'Site&Soil'!$G$173*EXP('Site&Soil'!$G$174*CV115)","v":{"$error":"#VALUE!"}},{"$error":"#VALUE!"},0,{"$error":"#VALUE!"},0,0,{"$error":"#VALUE!"},{"$error":"#VALUE!"},{"$error":"#VALUE!"},{"$error":"#VALUE!"},{"$error":"#VALUE!"},{"$error":"#VALUE!"},{"$error":"#VALUE!"},{"$error":"#VALUE!"},{"$error":"#VALUE!"},null,null,{"$error":"#VALUE!"},{"$f":"'Site&Soil'!$H$173*EXP('Site&Soil'!$H$174*DN115)","v":{"$error":"#VALUE!"}},{"$error":"#VALUE!"},0,{"$error":"#VALUE!"},0,0,{"$error":"#VALUE!"},{"$error":"#VALUE!"},{"$error":"#VALUE!"},{"$error":"#VALUE!"},{"$error":"#VALUE!"},{"$error":"#VALUE!"},{"$error":"#VALUE!"},{"$error":"#VALUE!"},{"$error":"#VALUE!"}]
[null,108,"Dec",null,null,null,null,6.1033606035784276,{"$f":"'Site&Soil'!$F$173*EXP('Site&Soil'!$F$174*H116)","v":0},0.69468750000000001,0.36787944117144233,2.7833118637141272E-3,0,0,16025.558000227395,0.65533749362878779,4.4604125704671756E-3,6.2499287720012503E-4,5.5210719831104644E-3,6.1088816755615376,0.1451074889916554,2.169087245211834E-3,-3.1223927956265714E-3,null,null,5.29142963964836,{"$f":"'Site&Soil'!$G$173*EXP('Site&Soil'!$G$174*Z116)","v":0},0.79087499999999999,0.52729242404304844,2.6787172819643375E-2,0,0,4.6207501804764791E-3,1.8895759148700238E-7,1.2377683364082177E-8,1.3143401632166576E-9,7.9026893066960757E-4,5.29221990857903,0.23110942019744035,7.5524713796998484E-4,1.7876909843424675E-3,null,null,5.2734615573704788,{"$f":"'Site&Soil'!$H$173*EXP('Site&Soil'!$H$174*AR116)","v":0},0.72675000000000001,0.72142229035475613,3.8206964843344661E-2,0,0,2.6983636138744039E-2,1.1034491576458548E-6,1.030962837298598E-7,1.0921562350663679E-8,1.2863991956300347E-7,5.273461686010398,0.41676328030805659,1.7845991862009507E-3,-1.4163770873491103E-3,null,null,null,null,null,null,null,null,null,null,null,null,null,null,null,null,null,null,null,null,null,null,{"$error":"#VALUE!"},{"$f":"'Site&Soil'!$F$173*EXP('Site&Soil'!$F$174*CD116)","v":{"$error":"#VALUE!"}},{"$error":"#VALUE!"},0,{"$error":"#VALUE!"},0,0,{"$error":"#VALUE!"},{"$error":"#VALUE!"},{"$error":"#VALUE!"},{"$error":"#VALUE!"},{"$error":"#VALUE!"},{"$error":"#VALUE!"},{"$error":"#VALUE!"},{"$error":"#VALUE!"},{"$error":"#VALUE!"},null,null,{"$error":"#VALUE!"},{"$f":"'Site&Soil'!$G$173*EXP('Site&Soil'!$G$174*CV116)","v":{"$error":"#VALUE!"}},{"$error":"#VALUE!"},0,{"$error":"#VALUE!"},0,0,{"$error":"#VALUE!"},{"$error":"#VALUE!"},{"$error":"#VALUE!"},{"$error":"#VALUE!"},{"$error":"#VALUE!"},{"$error":"#VALUE!"},{"$error":"#VALUE!"},{"$error":"#VALUE!"},{"$error":"#VALUE!"},null,null,{"$error":"#VALUE!"},{"$f":"'Site&Soil'!$H$173*EXP('Site&Soil'!$H$174*DN116)","v":{"$error":"#VALUE!"}},{"$error":"#VALUE!"},0,{"$error":"#VALUE!"},0,0,{"$error":"#VALUE!"},{"$error":"#VALUE!"},{"$error":"#VALUE!"},{"$error":"#VALUE!"},{"$error":"#VALUE!"},{"$error":"#VALUE!"},{"$error":"#VALUE!"},{"$error":"#VALUE!"},{"$error":"#VALUE!"}]
[{"$f":"A105+1","v":10},109,"Jan",{"$f":"OFFSET(Apply_Lime!$H$16,$A117,0)","v":0},{"$f":"OFFSET(Apply_Lime!$I$16,$A117,0)*G117","v":0},{"$f":"OFFSET(Apply_Lime!$I$16,$A117,0)*(1-G117)","v":0},{"$f":"'Profit Calculator'!O28","v":0},6.1057592827659111,{"$f":"'Site&Soil'!$F$173*EXP('Site&Soil'!$F$174*H117)","v":0},0.69468750000000001,4.6770622383959001E-2,3.5182790022465679E-4,0,0,15916.483514107034,0.65087708105832065,5.5998629737286445E-4,7.8589693580201656E-5,6.9296857046177284E-4,6.106452251336373,0.14341979835023641,2.7104069861054854E-4,-3.9016204928194121E-4,null,null,5.2940075995633729,{"$f":"'Site&Soil'!$G$173*EXP('Site&Soil'!$G$174*Z117)","v":0},0.79087499999999999,0.14085842092104497,7.1131850701292212E-3,0,0,4.3180675404810515E-3,1.765799081229202E-7,3.0715213560759425E-9,3.2626655623895103E-10,9.9374033614669195E-5,5.2941069735969872,0.23260185274351727,2.0394025535897244E-4,8.4843297931501315E-5,null,null,5.2720453089230492,{"$f":"'Site&Soil'!$H$173*EXP('Site&Soil'!$H$174*AR117)","v":0},0.72675000000000001,0.36787944117144233,1.9547138535788565E-2,0,0,2.4462529852924485E-2,1.000352873915995E-6,4.7817245997097836E-8,5.0646225940915761E-9,5.9276078375294411E-8,5.2720453681991275,0.41573397133871581,9.0482876844061809E-4,-9.6441487868131491E-4,null,null,null,null,null,null,null,null,null,null,null,null,null,null,null,null,null,null,{"$f":"OFFSET(Apply_Lime!$O$16,$A117,0)","v":0},{"$f":"OFFSET(Apply_Lime!$P$16,$A117,0)*CA$7","v":0},{"$f":"OFFSET(Apply_Lime!$P$16,$A117,0)*CB$7","v":0},null,{"$error":"#VALUE!"},{"$f":"'Site&Soil'!$F$173*EXP('Site&Soil'!$F$174*CD117)","v":{"$error":"#VALUE!"}},{"$error":"#VALUE!"},0,{"$error":"#VALUE!"},0,0,{"$error":"#VALUE!"},{"$error":"#VALUE!"},{"$error":"#VALUE!"},{"$error":"#VALUE!"},{"$error":"#VALUE!"},{"$error":"#VALUE!"},{"$error":"#VALUE!"},{"$error":"#VALUE!"},{"$error":"#VALUE!"},null,null,{"$error":"#VALUE!"},{"$f":"'Site&Soil'!$G$173*EXP('Site&Soil'!$G$174*CV117)","v":{"$error":"#VALUE!"}},{"$error":"#VALUE!"},0,{"$error":"#VALUE!"},0,0,{"$error":"#VALUE!"},{"$error":"#VALUE!"},{"$error":"#VALUE!"},{"$error":"#VALUE!"},{"$error":"#VALUE!"},{"$error":"#VALUE!"},{"$error":"#VALUE!"},{"$error":"#VALUE!"},{"$error":"#VALUE!"},null,null,{"$error":"#VALUE!"},{"$f":"'Site&Soil'!$H$173*EXP('Site&Soil'!$H$174*DN117)","v":{"$error":"#VALUE!"}},{"$error":"#VALUE!"},0,{"$error":"#VALUE!"},0,0,{"$error":"#VALUE!"},{"$error":"#VALUE!"},{"$error":"#VALUE!"},{"$error":"#VALUE!"},{"$error":"#VALUE!"},{"$error":"#VALUE!"},{"$error":"#VALUE!"},{"$error":"#VALUE!"},{"$error":"#VALUE!"}]
[null,110,"Feb",null,null,null,null,6.1060620892870912,{"$f":"'Site&Soil'!$F$173*EXP('Site&Soil'!$F$174*H118)","v":0},0.69468750000000001,0.1053992245618643,7.9228056454929644E-4,0,0,15902.789664792555,0.65031709476094779,1.2599471173530563E-3,1.7685916802684019E-4,1.5591009616931586E-3,6.1076211902487847,0.14423184560095237,6.1591356159202933E-4,-8.866052168666189E-4,null,null,5.2941918168949185,{"$f":"'Site&Soil'!$G$173*EXP('Site&Soil'!$G$174*Z118)","v":0},0.79087499999999999,0.23692775868212174,1.1959468181631409E-2,0,0,4.2429568622133224E-3,1.7350838676684425E-7,5.074350758967488E-9,5.390267252923357E-10,2.2363041359364485E-4,5.2944154473085119,0.23284581689011932,3.436369324381417E-4,3.4427264631438299E-4,null,null,5.2710809533204461,{"$f":"'Site&Soil'!$H$173*EXP('Site&Soil'!$H$174*AR118)","v":0},0.72675000000000001,0.47965226883004436,2.5543138865759363E-2,0,0,2.3293211667123111E-2,9.5253562791889718E-7,5.9498174024285179E-8,6.3010417309862797E-9,7.3940363286675249E-8,5.2710810272608093,0.41503313656179303,1.1751418767863701E-3,-1.1441416502899599E-3,null,null,null,null,null,null,null,null,null,null,null,null,null,null,null,null,null,null,null,null,null,null,{"$error":"#VALUE!"},{"$f":"'Site&Soil'!$F$173*EXP('Site&Soil'!$F$174*CD118)","v":{"$error":"#VALUE!"}},{"$error":"#VALUE!"},0,{"$error":"#VALUE!"},0,0,{"$error":"#VALUE!"},{"$error":"#VALUE!"},{"$error":"#VALUE!"},{"$error":"#VALUE!"},{"$error":"#VALUE!"},{"$error":"#VALUE!"},{"$error":"#VALUE!"},{"$error":"#VALUE!"},{"$error":"#VALUE!"},null,null,{"$error":"#VALUE!"},{"$f":"'Site&Soil'!$G$173*EXP('Site&Soil'!$G$174*CV118)","v":{"$error":"#VALUE!"}},{"$error":"#VALUE!"},0,{"$error":"#VALUE!"},0,0,{"$error":"#VALUE!"},{"$error":"#VALUE!"},{"$error":"#VALUE!"},{"$error":"#VALUE!"},{"$error":"#VALUE!"},{"$error":"#VALUE!"},{"$error":"#VALUE!"},{"$error":"#VALUE!"},{"$error":"#VALUE!"},null,null,{"$error":"#VALUE!"},{"$f":"'Site&Soil'!$H$173*EXP('Site&Soil'!$H$174*DN118)","v":{"$error":"#VALUE!"}},{"$error":"#VALUE!"},0,{"$error":"#VALUE!"},0,0,{"$error":"#VALUE!"},{"$error":"#VALUE!"},{"$error":"#VALUE!"},{"$error":"#VALUE!"},{"$error":"#VALUE!"},{"$error":"#VALUE!"},{"$error":"#VALUE!"},{"$error":"#VALUE!"},{"$error":"#VALUE!"}]
[null,111,"Mar",null,null,null,null,6.1067345850319183,{"$f":"'Site&Soil'!$F$173*EXP('Site&Soil'!$F$174*H119)","v":0},0.69468750000000001,0.20961138715109778,1.5730975298824162E-3,0,0,15871.979043085936,0.64905714764359468,2.4968171027023966E-3,3.5063519521861381E-4,3.0894206495493052E-3,6.1098240056814674,0.14576211394684416,1.2441809167063778E-3,-1.7909936722718888E-3,null,null,5.2947597199548264,{"$f":"'Site&Soil'!$G$173*EXP('Site&Soil'!$G$174*Z119)","v":0},0.79087499999999999,0.36787944117144206,1.854513403605422E-2,0,0,4.1188691925897773E-3,1.6843403600787675E-7,7.6384981253551854E-9,8.1146743378661759E-10,4.4335959822893047E-4,5.2952030795530556,0.23346873554152284,5.3596610928664096E-4,8.9548260776954245E-4,null,null,5.2699368856105195,{"$f":"'Site&Soil'!$H$173*EXP('Site&Soil'!$H$174*AR119)","v":0},0.72675000000000001,0.60037304119840451,3.2056772596092506E-2,0,0,2.1838249227153356E-2,8.9303745389461204E-7,7.0006378937164803E-8,7.412806111217121E-9,8.7244637440294878E-8,5.2699369728551568,0.41420169502248511,1.4640975954263989E-3,-1.2770987081386419E-3,null,null,null,null,null,null,null,null,null,null,null,null,null,null,null,null,null,null,null,null,null,null,{"$error":"#VALUE!"},{"$f":"'Site&Soil'!$F$173*EXP('Site&Soil'!$F$174*CD119)","v":{"$error":"#VALUE!"}},{"$error":"#VALUE!"},0,{"$error":"#VALUE!"},0,0,{"$error":"#VALUE!"},{"$error":"#VALUE!"},{"$error":"#VALUE!"},{"$error":"#VALUE!"},{"$error":"#VALUE!"},{"$error":"#VALUE!"},{"$error":"#VALUE!"},{"$error":"#VALUE!"},{"$error":"#VALUE!"},null,null,{"$error":"#VALUE!"},{"$f":"'Site&Soil'!$G$173*EXP('Site&Soil'!$G$174*CV119)","v":{"$error":"#VALUE!"}},{"$error":"#VALUE!"},0,{"$error":"#VALUE!"},0,0,{"$error":"#VALUE!"},{"$error":"#VALUE!"},{"$error":"#VALUE!"},{"$error":"#VALUE!"},{"$error":"#VALUE!"},{"$error":"#VALUE!"},{"$error":"#VALUE!"},{"$error":"#VALUE!"},{"$error":"#VALUE!"},null,null,{"$error":"#VALUE!"},{"$f":"'Site&Soil'!$H$173*EXP('Site&Soil'!$H$174*DN119)","v":{"$error":"#VALUE!"}},{"$error":"#VALUE!"},0,{"$error":"#VALUE!"},0,0,{"$error":"#VALUE!"},{"$error":"#VALUE!"},{"$error":"#VALUE!"},{"$error":"#VALUE!"},{"$error":"#VALUE!"},{"$error":"#VALUE!"},{"$error":"#VALUE!"},{"$error":"#VALUE!"},{"$error":"#VALUE!"}]
[null,112,"Apr",null,null,null,null,6.1080330120091952,{"$f":"'Site&Soil'!$F$173*EXP('Site&Soil'!$F$174*H120)","v":0},0.69468750000000001,0.36787944117144233,2.7522828985077886E-3,0,0,15810.922125567369,0.64656033054089224,4.3516130575837492E-3,6.116363434204642E-4,5.3836821796322586E-3,6.1134166941888273,0.1482579097443007,2.2394433721080621E-3,-3.223670171275663E-3,null,null,5.2960985621608252,{"$f":"'Site&Soil'!$G$173*EXP('Site&Soil'!$G$174*Z120)","v":0},0.79087499999999999,0.52729242404304844,2.6498954304107217E-2,0,0,3.9320781178647799E-3,1.6079553788252156E-7,1.041959583654787E-8,1.1071148366835572E-9,7.7337841745087922E-4,5.296871940578276,0.23478859600484406,7.7553333681267813E-4,1.8510005187866399E-3,null,null,5.2686598741470183,{"$f":"'Site&Soil'!$H$173*EXP('Site&Soil'!$H$174*AR120)","v":0},0.72675000000000001,0.72142229035475613,3.8634272079442283E-2,0,0,2.0126320187611905E-2,8.2303107495744725E-7,7.7756573008617024E-8,8.2321112676906574E-9,9.7188271864616332E-8,5.26865997133529,0.41327363416792184,1.7501981785082818E-3,-1.3411280931484055E-3,null,null,null,null,null,null,null,null,null,null,null,null,null,null,null,null,null,null,null,null,null,null,{"$error":"#VALUE!"},{"$f":"'Site&Soil'!$F$173*EXP('Site&Soil'!$F$174*CD120)","v":{"$error":"#VALUE!"}},{"$error":"#VALUE!"},0,{"$error":"#VALUE!"},0,0,{"$error":"#VALUE!"},{"$error":"#VALUE!"},{"$error":"#VALUE!"},{"$error":"#VALUE!"},{"$error":"#VALUE!"},{"$error":"#VALUE!"},{"$error":"#VALUE!"},{"$error":"#VALUE!"},{"$error":"#VALUE!"},null,null,{"$error":"#VALUE!"},{"$f":"'Site&Soil'!$G$173*EXP('Site&Soil'!$G$174*CV120)","v":{"$error":"#VALUE!"}},{"$error":"#VALUE!"},0,{"$error":"#VALUE!"},0,0,{"$error":"#VALUE!"},{"$error":"#VALUE!"},{"$error":"#VALUE!"},{"$error":"#VALUE!"},{"$error":"#VALUE!"},{"$error":"#VALUE!"},{"$error":"#VALUE!"},{"$error":"#VALUE!"},{"$error":"#VALUE!"},null,null,{"$error":"#VALUE!"},{"$f":"'Site&Soil'!$H$173*EXP('Site&Soil'!$H$174*DN120)","v":{"$error":"#VALUE!"}},{"$error":"#VALUE!"},0,{"$error":"#VALUE!"},0,0,{"$error":"#VALUE!"},{"$error":"#VALUE!"},{"$error":"#VALUE!"},{"$error":"#VALUE!"},{"$error":"#VALUE!"},{"$error":"#VALUE!"},{"$error":"#VALUE!"},{"$error":"#VALUE!"},{"$error":"#VALUE!"}]
[null,113,"May",null,null,null,null,6.1101930240175513,{"$f":"'Site&Soil'!$F$173*EXP('Site&Soil'!$F$174*H121)","v":0},0.69468750000000001,0.56978282473092301,4.2407762483222767E-3,0,0,15704.508211932272,0.64220871748330843,6.6599305416744532E-3,9.3742610234955634E-4,8.2375232594870309E-3,6.1184305472770379,0.15174097081151705,3.5912261888842432E-3,-5.1695563672647677E-3,null,null,5.2987229410970631,{"$f":"'Site&Soil'!$G$173*EXP('Site&Soil'!$G$174*Z121)","v":0},0.79087499999999999,0.69767632607103081,3.4848994190796331E-2,0,0,3.6772783558476378E-3,1.5037594204597369E-7,1.2814945206087543E-8,1.3621139453029868E-9,1.1853169656150684E-3,5.2999082580626782,0.23718994359532061,1.0438990837471852E-3,3.2208972405715925E-3,null,null,5.2673188432421414,{"$f":"'Site&Soil'!$H$173*EXP('Site&Soil'!$H$174*AR121)","v":0},0.72675000000000001,0.83220750069030147,4.4705786544536316E-2,0,0,1.8224868671769978E-2,7.4527450194883024E-7,8.1475708864235585E-8,8.6243826822900891E-9,1.0211687668008048E-7,5.2673189453590181,0.41229904353966629,2.0079962547820884E-3,-1.3265870946472696E-3,null,null,null,null,null,null,null,null,null,null,null,null,null,null,null,null,null,null,null,null,null,null,{"$error":"#VALUE!"},{"$f":"'Site&Soil'!$F$173*EXP('Site&Soil'!$F$174*CD121)","v":{"$error":"#VALUE!"}},{"$error":"#VALUE!"},0,{"$error":"#VALUE!"},0,0,{"$error":"#VALUE!"},{"$error":"#VALUE!"},{"$error":"#VALUE!"},{"$error":"#VALUE!"},{"$error":"#VALUE!"},{"$error":"#VALUE!"},{"$error":"#VALUE!"},{"$error":"#VALUE!"},{"$error":"#VALUE!"},null,null,{"$error":"#VALUE!"},{"$f":"'Site&Soil'!$G$173*EXP('Site&Soil'!$G$174*CV121)","v":{"$error":"#VALUE!"}},{"$error":"#VALUE!"},0,{"$error":"#VALUE!"},0,0,{"$error":"#VALUE!"},{"$error":"#VALUE!"},{"$error":"#VALUE!"},{"$error":"#VALUE!"},{"$error":"#VALUE!"},{"$error":"#VALUE!"},{"$error":"#VALUE!"},{"$error":"#VALUE!"},{"$error":"#VALUE!"},null,null,{"$error":"#VALUE!"},{"$f":"'Site&Soil'!$H$173*EXP('Site&Soil'!$H$174*DN121)","v":{"$error":"#VALUE!"}},{"$error":"#VALUE!"},0,{"$error":"#VALUE!"},0,0,{"$error":"#VALUE!"},{"$error":"#VALUE!"},{"$error":"#VALUE!"},{"$error":"#VALUE!"},{"$error":"#VALUE!"},{"$error":"#VALUE!"},{"$error":"#VALUE!"},{"$error":"#VALUE!"},{"$error":"#VALUE!"}]
[null,114,"Jun",null,null,null,null,6.1132609909097733,{"$f":"'Site&Soil'!$F$173*EXP('Site&Soil'!$F$174*H122)","v":0},0.69468750000000001,0.77880078307140521,5.7539168982530548E-3,0,0,15541.646931735864,0.63554878694163397,8.9425344907197724E-3,1.2613003949747711E-3,1.1057107110384167E-2,6.124318098020157,0.15583097871837759,5.109733805069819E-3,-7.3554422745044628E-3,null,null,5.3031291553032496,{"$f":"'Site&Soil'!$G$173*EXP('Site&Soil'!$G$174*Z122)","v":0},0.79087499999999999,0.85214378896621112,4.2132273247862603E-2,0,0,3.3639029581838801E-3,1.3756099683988614E-7,1.4172887861349656E-8,1.5073603091392859E-9,1.5948323824906887E-3,5.3047239876857404,0.24099858376095992,1.3099398707917156E-3,4.8045442507072588E-3,null,null,5.2659923582643708,{"$f":"'Site&Soil'!$H$173*EXP('Site&Soil'!$H$174*AR122)","v":0},0.72675000000000001,0.92161044729772479,4.9660808430342776E-2,0,0,1.6232469776990655E-2,6.6379879308459463E-7,8.0611757194646185E-8,8.5314927946329614E-9,1.0125576155370142E-7,5.2659924595201328,0.41133501995625643,2.2117474462726256E-3,-1.2408772968433574E-3,null,null,null,null,null,null,null,null,null,null,null,null,null,null,null,null,null,null,null,null,null,null,{"$error":"#VALUE!"},{"$f":"'Site&Soil'!$F$173*EXP('Site&Soil'!$F$174*CD122)","v":{"$error":"#VALUE!"}},{"$error":"#VALUE!"},0,{"$error":"#VALUE!"},0,0,{"$error":"#VALUE!"},{"$error":"#VALUE!"},{"$error":"#VALUE!"},{"$error":"#VALUE!"},{"$error":"#VALUE!"},{"$error":"#VALUE!"},{"$error":"#VALUE!"},{"$error":"#VALUE!"},{"$error":"#VALUE!"},null,null,{"$error":"#VALUE!"},{"$f":"'Site&Soil'!$G$173*EXP('Site&Soil'!$G$174*CV122)","v":{"$error":"#VALUE!"}},{"$error":"#VALUE!"},0,{"$error":"#VALUE!"},0,0,{"$error":"#VALUE!"},{"$error":"#VALUE!"},{"$error":"#VALUE!"},{"$error":"#VALUE!"},{"$error":"#VALUE!"},{"$error":"#VALUE!"},{"$error":"#VALUE!"},{"$error":"#VALUE!"},{"$error":"#VALUE!"},null,null,{"$error":"#VALUE!"},{"$f":"'Site&Soil'!$H$173*EXP('Site&Soil'!$H$174*DN122)","v":{"$error":"#VALUE!"}},{"$error":"#VALUE!"},0,{"$error":"#VALUE!"},0,0,{"$error":"#VALUE!"},{"$error":"#VALUE!"},{"$error":"#VALUE!"},{"$error":"#VALUE!"},{"$error":"#VALUE!"},{"$error":"#VALUE!"},{"$error":"#VALUE!"},{"$error":"#VALUE!"},{"$error":"#VALUE!"}]
[null,115,"Jul",null,null,null,null,6.1169626557456525,{"$f":"'Site&Soil'!$F$173*EXP('Site&Soil'!$F$174*H123)","v":0},0.69468750000000001,0.93941306281347592,6.8791216771833842E-3,0,0,15322.967081211029,0.62660625245091417,1.0540855500712621E-2,1.4904391021093614E-3,1.3028039800058674E-2,6.1299906955457111,0.15977166131191092,6.4024624708386834E-3,-9.2163202459216321E-3,null,null,5.309528531936448,{"$f":"'Site&Soil'!$G$173*EXP('Site&Soil'!$G$174*Z123)","v":0},0.79087499999999999,0.96078943915232284,4.6804716486394879E-2,0,0,3.0173205656595283E-3,1.2338810897853649E-7,1.4122483362426284E-8,1.5033318138273405E-9,1.8845604188536874E-3,5.311413092355302,0.24628882941649949,1.5328018915255997E-3,6.1573075129610659E-3,null,null,5.2647515822232895,{"$f":"'Site&Soil'!$H$173*EXP('Site&Soil'!$H$174*AR123)","v":0},0.72675000000000001,0.97979867385370423,5.294821094824205E-2,0,0,1.4261197870557038E-2,5.8318703588994847E-7,7.551049132248744E-8,7.9903467805082586E-9,9.4975543661240492E-8,5.2647516771988334,0.41043328140425206,2.3395433368239575E-3,-1.1100673481917547E-3,null,null,null,null,null,null,null,null,null,null,null,null,null,null,null,null,null,null,null,null,null,null,{"$error":"#VALUE!"},{"$f":"'Site&Soil'!$F$173*EXP('Site&Soil'!$F$174*CD123)","v":{"$error":"#VALUE!"}},{"$error":"#VALUE!"},0,{"$error":"#VALUE!"},0,0,{"$error":"#VALUE!"},{"$error":"#VALUE!"},{"$error":"#VALUE!"},{"$error":"#VALUE!"},{"$error":"#VALUE!"},{"$error":"#VALUE!"},{"$error":"#VALUE!"},{"$error":"#VALUE!"},{"$error":"#VALUE!"},null,null,{"$error":"#VALUE!"},{"$f":"'Site&Soil'!$G$173*EXP('Site&Soil'!$G$174*CV123)","v":{"$error":"#VALUE!"}},{"$error":"#VALUE!"},0,{"$error":"#VALUE!"},0,0,{"$error":"#VALUE!"},{"$error":"#VALUE!"},{"$error":"#VALUE!"},{"$error":"#VALUE!"},{"$error":"#VALUE!"},{"$error":"#VALUE!"},{"$error":"#VALUE!"},{"$error":"#VALUE!"},{"$error":"#VALUE!"},null,null,{"$error":"#VALUE!"},{"$f":"'Site&Soil'!$H$173*EXP('Site&Soil'!$H$174*DN123)","v":{"$error":"#VALUE!"}},{"$error":"#VALUE!"},0,{"$error":"#VALUE!"},0,0,{"$error":"#VALUE!"},{"$error":"#VALUE!"},{"$error":"#VALUE!"},{"$error":"#VALUE!"},{"$error":"#VALUE!"},{"$error":"#VALUE!"},{"$error":"#VALUE!"},{"$error":"#VALUE!"},{"$error":"#VALUE!"}]
[null,116,"Aug",null,null,null,null,6.1207743752997894,{"$f":"'Site&Soil'!$F$173*EXP('Site&Soil'!$F$174*H124)","v":0},0.69468750000000001,1,7.2560341045159252E-3,0,0,15065.202047406367,0.61606539695020157,1.0931361984740375E-2,1.5496444702505156E-3,1.3504946489594041E-2,6.1342793217893838,0.16275091635556235,7.0113680342644971E-3,-1.0092837476224198E-2,null,null,5.3175703998682629,{"$f":"'Site&Soil'!$G$173*EXP('Site&Soil'!$G$174*Z124)","v":0},0.79087499999999999,1,4.7815294800572374E-2,0,0,2.6719707597471468E-3,1.092656256161102E-7,1.2776106957581918E-8,1.3615506907167724E-9,1.959419484503597E-3,5.3195298193527663,0.25270814588061902,1.6678195515803372E-3,6.7565019537653356E-3,null,null,5.2636416098506418,{"$f":"'Site&Soil'!$H$173*EXP('Site&Soil'!$H$174*AR124)","v":0},0.72675000000000001,1,5.4178989719154393E-2,0,0,1.2414671813252521E-2,5.07676544567461E-7,6.7261437653688419E-8,7.116452037357929E-9,8.463231689996182E-8,5.2636416944829589,0.40962660146549029,2.3770036400111603E-3,-9.7582949904482022E-4,null,null,null,null,null,null,null,null,null,null,null,null,null,null,null,null,null,null,null,null,null,null,{"$error":"#VALUE!"},{"$f":"'Site&Soil'!$F$173*EXP('Site&Soil'!$F$174*CD124)","v":{"$error":"#VALUE!"}},{"$error":"#VALUE!"},0,{"$error":"#VALUE!"},0,0,{"$error":"#VALUE!"},{"$error":"#VALUE!"},{"$error":"#VALUE!"},{"$error":"#VALUE!"},{"$error":"#VALUE!"},{"$error":"#VALUE!"},{"$error":"#VALUE!"},{"$error":"#VALUE!"},{"$error":"#VALUE!"},null,null,{"$error":"#VALUE!"},{"$f":"'Site&Soil'!$G$173*EXP('Site&Soil'!$G$174*CV124)","v":{"$error":"#VALUE!"}},{"$error":"#VALUE!"},0,{"$error":"#VALUE!"},0,0,{"$error":"#VALUE!"},{"$error":"#VALUE!"},{"$error":"#VALUE!"},{"$error":"#VALUE!"},{"$error":"#VALUE!"},{"$error":"#VALUE!"},{"$error":"#VALUE!"},{"$error":"#VALUE!"},{"$error":"#VALUE!"},null,null,{"$error":"#VALUE!"},{"$f":"'Site&Soil'!$H$173*EXP('Site&Soil'!$H$174*DN124)","v":{"$error":"#VALUE!"}},{"$error":"#VALUE!"},0,{"$error":"#VALUE!"},0,0,{"$error":"#VALUE!"},{"$error":"#VALUE!"},{"$error":"#VALUE!"},{"$error":"#VALUE!"},{"$error":"#VALUE!"},{"$error":"#VALUE!"},{"$error":"#VALUE!"},{"$error":"#VALUE!"},{"$error":"#VALUE!"}]
[null,117,"Sep",null,null,null,null,6.1241864843131593,{"$f":"'Site&Soil'!$F$173*EXP('Site&Soil'!$F$174*H125)","v":0},0.69468750000000001,0.93941306281347592,6.7607439081158443E-3,0,0,14797.887606814984,0.60513403496546114,1.0004472849075735E-2,1.4215428759098746E-3,1.2355094878151484E-2,6.1365415791913112,0.16432247829446373,6.6849036228117022E-3,-9.6228932042273715E-3,null,null,5.3262863213065312,{"$f":"'Site&Soil'!$G$173*EXP('Site&Soil'!$G$174*Z125)","v":0},0.79087499999999999,0.96078943915232284,4.5021598205905178E-2,0,0,2.3595451087560656E-3,9.648951865852829E-8,1.0623049183512442E-8,1.1335140210885662E-9,1.7974425357294606E-3,5.3280837638422609,0.25947324672874811,1.6780487385199504E-3,6.3307790539487933E-3,null,null,5.262665864983914,{"$f":"'Site&Soil'!$H$173*EXP('Site&Soil'!$H$174*AR125)","v":0},0.72675000000000001,0.97979867385370423,5.3204600108872895E-2,0,0,1.0769867295309843E-2,4.4041510691377258E-7,5.7300648267258871E-8,6.0618258793790357E-9,7.2063758388673414E-8,5.2626659370476725,0.40891746974939586,2.3197353956174406E-3,-8.829537765359342E-4,null,null,null,null,null,null,null,null,null,null,null,null,null,null,null,null,null,null,null,null,null,null,{"$error":"#VALUE!"},{"$f":"'Site&Soil'!$F$173*EXP('Site&Soil'!$F$174*CD125)","v":{"$error":"#VALUE!"}},{"$error":"#VALUE!"},0,{"$error":"#VALUE!"},0,0,{"$error":"#VALUE!"},{"$error":"#VALUE!"},{"$error":"#VALUE!"},{"$error":"#VALUE!"},{"$error":"#VALUE!"},{"$error":"#VALUE!"},{"$error":"#VALUE!"},{"$error":"#VALUE!"},{"$error":"#VALUE!"},null,null,{"$error":"#VALUE!"},{"$f":"'Site&Soil'!$G$173*EXP('Site&Soil'!$G$174*CV125)","v":{"$error":"#VALUE!"}},{"$error":"#VALUE!"},0,{"$error":"#VALUE!"},0,0,{"$error":"#VALUE!"},{"$error":"#VALUE!"},{"$error":"#VALUE!"},{"$error":"#VALUE!"},{"$error":"#VALUE!"},{"$error":"#VALUE!"},{"$error":"#VALUE!"},{"$error":"#VALUE!"},{"$error":"#VALUE!"},null,null,{"$error":"#VALUE!"},{"$f":"'Site&Soil'!$H$173*EXP('Site&Soil'!$H$174*DN125)","v":{"$error":"#VALUE!"}},{"$error":"#VALUE!"},0,{"$error":"#VALUE!"},0,0,{"$error":"#VALUE!"},{"$error":"#VALUE!"},{"$error":"#VALUE!"},{"$error":"#VALUE!"},{"$error":"#VALUE!"},{"$error":"#VALUE!"},{"$error":"#VALUE!"},{"$error":"#VALUE!"},{"$error":"#VALUE!"}]
[null,118,"Oct",null,null,null,null,6.1269186859870839,{"$f":"'Site&Soil'!$F$173*EXP('Site&Soil'!$F$174*H126)","v":0},0.69468750000000001,0.77880078307140521,5.5681588932651547E-3,0,0,14553.2392211156,0.59512956211638546,8.1034748394870088E-3,1.1535812250741582E-3,1.0004345283905139E-2,6.1369230312709888,0.1645874682860648,5.5557945279406549E-3,-7.9975449794917209E-3,{"$f":"-'Profit Calculator'!O$29*'Quantity of Lime to Apply'!H$9","v":-4.0091240506329125E-2},null,5.3344145428962095,{"$f":"'Site&Soil'!$G$173*EXP('Site&Soil'!$G$174*Z126)","v":0},0.79087499999999999,0.85214378896621112,3.9185191634051694E-2,0,0,2.0997701187932937E-3,8.5866469475015855E-8,8.2279894492370715E-9,8.7899531566966214E-10,1.4586231377503294E-3,5.3358731660339602,0.26563369018710831,1.5512050304832732E-3,5.0634923312247596E-3,{"$f":"-'Profit Calculator'!$O$29*'Quantity of Lime to Apply'!$H$19","v":-4.0091240506329125E-2},null,5.2617829832711367,{"$f":"'Site&Soil'!$H$173*EXP('Site&Soil'!$H$174*AR126)","v":0},0.72675000000000001,0.92161044729772479,5.0147321737725993E-2,0,0,9.3686429320083645E-3,3.8311445864651369E-7,4.6981235135729606E-8,4.9695844941053893E-9,5.9017056700782772E-8,5.2617830422881937,0.40827582598294465,2.1741229357650702E-3,-8.5712818064230751E-4,0.02,null,{"$f":"BJ114+1","v":10},{"$f":"AVERAGE(H121:H126)","v":6.1187160360455017},{"$f":"AVERAGE(Z121:Z126)","v":5.3149419820679613},{"$f":"AVERAGE(AR121:AR126)","v":5.2643588736392486},null,null,null,null,null,null,null,null,null,null,null,null,null,null,null,null,{"$error":"#VALUE!"},{"$f":"'Site&Soil'!$F$173*EXP('Site&Soil'!$F$174*CD126)","v":{"$error":"#VALUE!"}},{"$error":"#VALUE!"},0,{"$error":"#VALUE!"},0,0,{"$error":"#VALUE!"},{"$error":"#VALUE!"},{"$error":"#VALUE!"},{"$error":"#VALUE!"},{"$error":"#VALUE!"},{"$error":"#VALUE!"},{"$error":"#VALUE!"},{"$error":"#VALUE!"},{"$error":"#VALUE!"},{"$error":"#VALUE!"},null,{"$error":"#VALUE!"},{"$f":"'Site&Soil'!$G$173*EXP('Site&Soil'!$G$174*CV126)","v":{"$error":"#VALUE!"}},{"$error":"#VALUE!"},0,{"$error":"#VALUE!"},0,0,{"$error":"#VALUE!"},{"$error":"#VALUE!"},{"$error":"#VALUE!"},{"$error":"#VALUE!"},{"$error":"#VALUE!"},{"$error":"#VALUE!"},{"$error":"#VALUE!"},{"$error":"#VALUE!"},{"$error":"#VALUE!"},{"$error":"#VALUE!"},null,{"$error":"#VALUE!"},{"$f":"'Site&Soil'!$H$173*EXP('Site&Soil'!$H$174*DN126)","v":{"$error":"#VALUE!"}},{"$error":"#VALUE!"},0,{"$error":"#VALUE!"},0,0,{"$error":"#VALUE!"},{"$error":"#VALUE!"},{"$error":"#VALUE!"},{"$error":"#VALUE!"},{"$error":"#VALUE!"},{"$error":"#VALUE!"},{"$error":"#VALUE!"},{"$error":"#VALUE!"},{"$error":"#VALUE!"},{"$error":"#VALUE!"},null,{"$f":"EF114+1","v":10},{"$f":"AVERAGE(CD121:CD126)","v":{"$error":"#VALUE!"}},{"$f":"AVERAGE(CV121:CV126)","v":{"$error":"#VALUE!"}},{"$f":"AVERAGE(DN121:DN126)","v":{"$error":"#VALUE!"}}]
[null,119,"Nov",null,null,null,null,6.0888342457851685,{"$f":"'Site&Soil'!$F$173*EXP('Site&Soil'!$F$174*H127)","v":0},0.69468750000000001,0.56978282473092301,4.4636359687645934E-3,0,0,14355.077651991123,0.58702608727689842,6.4075840941836366E-3,8.8937411497404034E-4,7.9434421653039634E-3,6.0967776879504729,0.13669900009809391,3.0778849336854782E-3,-4.4306035932494513E-3,null,null,5.3008454178588558,{"$f":"'Site&Soil'!$G$173*EXP('Site&Soil'!$G$174*Z127)","v":0},0.79087499999999999,0.69767632607103081,3.4678020663346985E-2,0,0,1.898563681765142E-3,7.7638480025778777E-8,6.5838430586931728E-9,7.0000649207165443E-10,1.124551918837499E-3,5.3019699697776934,0.23882049984793327,1.0560769390197122E-3,2.5564191492533791E-3,null,null,5.2809259141075513,{"$f":"'Site&Soil'!$H$173*EXP('Site&Soil'!$H$174*AR127)","v":0},0.72675000000000001,0.83220750069030147,4.3318687904423329E-2,0,0,8.2197684728027211E-3,3.3613322351078408E-7,3.5606958511995949E-8,3.7757069074302973E-9,4.4762653039748616E-8,5.2809259588702044,0.42218794060892095,2.1215995205917716E-3,-1.466147343064409E-3,null,null,null,null,null,null,null,null,null,null,null,null,null,null,null,null,null,null,null,null,null,null,{"$error":"#VALUE!"},{"$f":"'Site&Soil'!$F$173*EXP('Site&Soil'!$F$174*CD127)","v":{"$error":"#VALUE!"}},{"$error":"#VALUE!"},0,{"$error":"#VALUE!"},0,0,{"$error":"#VALUE!"},{"$error":"#VALUE!"},{"$error":"#VALUE!"},{"$error":"#VALUE!"},{"$error":"#VALUE!"},{"$error":"#VALUE!"},{"$error":"#VALUE!"},{"$error":"#VALUE!"},{"$error":"#VALUE!"},null,null,{"$error":"#VALUE!"},{"$f":"'Site&Soil'!$G$173*EXP('Site&Soil'!$G$174*CV127)","v":{"$error":"#VALUE!"}},{"$error":"#VALUE!"},0,{"$error":"#VALUE!"},0,0,{"$error":"#VALUE!"},{"$error":"#VALUE!"},{"$error":"#VALUE!"},{"$error":"#VALUE!"},{"$error":"#VALUE!"},{"$error":"#VALUE!"},{"$error":"#VALUE!"},{"$error":"#VALUE!"},{"$error":"#VALUE!"},null,null,{"$error":"#VALUE!"},{"$f":"'Site&Soil'!$H$173*EXP('Site&Soil'!$H$174*DN127)","v":{"$error":"#VALUE!"}},{"$error":"#VALUE!"},0,{"$error":"#VALUE!"},0,0,{"$error":"#VALUE!"},{"$error":"#VALUE!"},{"$error":"#VALUE!"},{"$error":"#VALUE!"},{"$error":"#VALUE!"},{"$error":"#VALUE!"},{"$error":"#VALUE!"},{"$error":"#VALUE!"},{"$error":"#VALUE!"}]
[null,120,"Dec",null,null,null,null,6.0923470843572236,{"$f":"'Site&Soil'!$F$173*EXP('Site&Soil'!$F$174*H128)","v":0},0.69468750000000001,0.36787944117144233,2.8577859381084723E-3,0,0,14198.387226765981,0.5806185031827148,4.057595136047077E-3,5.6447371771171343E-4,5.028334925179111E-3,6.097375419282403,0.1371142365827441,1.9960135599252672E-3,-2.8732538874317835E-3,null,null,5.3045263889269467,{"$f":"'Site&Soil'!$G$173*EXP('Site&Soil'!$G$174*Z128)","v":0},0.79087499999999999,0.52729242404304844,2.5986474023222298E-2,0,0,1.737563037322773E-3,7.10546369670856E-8,4.5153136733099481E-9,4.803195542945496E-10,7.1373826800168476E-4,5.3052401271949483,0.24140678559530473,8.1290750311639325E-4,1.4959457016707747E-3,null,null,5.2794598115271398,{"$f":"'Site&Soil'!$H$173*EXP('Site&Soil'!$H$174*AR128)","v":0},0.72675000000000001,0.72142229035475613,3.767976790837306E-2,0,0,7.3490394447930617E-3,3.0052626499878812E-7,2.7691010062928138E-8,2.9357484318882657E-9,3.4723881919964806E-8,5.2794598462510214,0.42112244326292969,1.8283434930079273E-3,-1.3972287442607968E-3,null,null,null,null,null,null,null,null,null,null,null,null,null,null,null,null,null,null,null,null,null,null,{"$error":"#VALUE!"},{"$f":"'Site&Soil'!$F$173*EXP('Site&Soil'!$F$174*CD128)","v":{"$error":"#VALUE!"}},{"$error":"#VALUE!"},0,{"$error":"#VALUE!"},0,0,{"$error":"#VALUE!"},{"$error":"#VALUE!"},{"$error":"#VALUE!"},{"$error":"#VALUE!"},{"$error":"#VALUE!"},{"$error":"#VALUE!"},{"$error":"#VALUE!"},{"$error":"#VALUE!"},{"$error":"#VALUE!"},null,null,{"$error":"#VALUE!"},{"$f":"'Site&Soil'!$G$173*EXP('Site&Soil'!$G$174*CV128)","v":{"$error":"#VALUE!"}},{"$error":"#VALUE!"},0,{"$error":"#VALUE!"},0,0,{"$error":"#VALUE!"},{"$error":"#VALUE!"},{"$error":"#VALUE!"},{"$error":"#VALUE!"},{"$error":"#VALUE!"},{"$error":"#VALUE!"},{"$error":"#VALUE!"},{"$error":"#VALUE!"},{"$error":"#VALUE!"},null,null,{"$error":"#VALUE!"},{"$f":"'Site&Soil'!$H$173*EXP('Site&Soil'!$H$174*DN128)","v":{"$error":"#VALUE!"}},{"$error":"#VALUE!"},0,{"$error":"#VALUE!"},0,0,{"$error":"#VALUE!"},{"$error":"#VALUE!"},{"$error":"#VALUE!"},{"$error":"#VALUE!"},{"$error":"#VALUE!"},{"$error":"#VALUE!"},{"$error":"#VALUE!"},{"$error":"#VALUE!"},{"$error":"#VALUE!"}]
[{"$f":"A117+1","v":11},121,"Jan",{"$f":"OFFSET(Apply_Lime!$H$16,$A129,0)","v":0},{"$f":"OFFSET(Apply_Lime!$I$16,$A129,0)*E$7","v":0},{"$f":"OFFSET(Apply_Lime!$I$16,$A129,0)*F$7","v":0},null,6.0945021653949709,{"$f":"'Site&Soil'!$F$173*EXP('Site&Soil'!$F$174*H129)","v":0},0.69468750000000001,4.6770622383959001E-2,3.6145504417913892E-4,0,0,14099.163198190872,0.57656090804666771,5.0962136566909714E-4,7.099531193124717E-5,6.3140052719798466E-4,6.0951335659221693,0.13555684907655671,2.495905743946815E-4,-3.5928467749121945E-4,null,null,5.3067360728966193,{"$f":"'Site&Soil'!$G$173*EXP('Site&Soil'!$G$174*Z129)","v":0},0.79087499999999999,0.14085842092104497,6.906447918370342E-3,0,0,1.6271460050846687E-3,6.6539323293775648E-8,1.123779913970163E-9,1.1957939809497206E-10,8.9769326545614727E-5,5.3068258422231649,0.24266088796824553,2.1908287937800019E-4,3.8574610420965789E-5,null,null,5.2780626175067606,{"$f":"'Site&Soil'!$H$173*EXP('Site&Soil'!$H$174*AR129)","v":0},0.72675000000000001,0.36787944117144233,1.9276572672788279E-2,0,0,6.6718862341762089E-3,2.7283525493585996E-7,1.2861109985767342E-8,1.36326191156044E-9,1.5985452318268831E-8,5.2780626334922127,0.42010701889046548,9.2710321925245775E-4,-9.7422819384170283E-4,null,null,null,null,null,null,null,null,null,null,null,null,null,null,null,null,null,null,{"$f":"OFFSET(Apply_Lime!$O$16,$A129,0)","v":0},{"$f":"OFFSET(Apply_Lime!$P$16,$A129,0)*CA$7","v":0},{"$f":"OFFSET(Apply_Lime!$P$16,$A129,0)*CB$7","v":0},null,{"$error":"#VALUE!"},{"$f":"'Site&Soil'!$F$173*EXP('Site&Soil'!$F$174*CD129)","v":{"$error":"#VALUE!"}},{"$error":"#VALUE!"},0,{"$error":"#VALUE!"},0,0,{"$error":"#VALUE!"},{"$error":"#VALUE!"},{"$error":"#VALUE!"},{"$error":"#VALUE!"},{"$error":"#VALUE!"},{"$error":"#VALUE!"},{"$error":"#VALUE!"},{"$error":"#VALUE!"},{"$error":"#VALUE!"},null,null,{"$error":"#VALUE!"},{"$f":"'Site&Soil'!$G$173*EXP('Site&Soil'!$G$174*CV129)","v":{"$error":"#VALUE!"}},{"$error":"#VALUE!"},0,{"$error":"#VALUE!"},0,0,{"$error":"#VALUE!"},{"$error":"#VALUE!"},{"$error":"#VALUE!"},{"$error":"#VALUE!"},{"$error":"#VALUE!"},{"$error":"#VALUE!"},{"$error":"#VALUE!"},{"$error":"#VALUE!"},{"$error":"#VALUE!"},null,null,{"$error":"#VALUE!"},{"$f":"'Site&Soil'!$H$173*EXP('Site&Soil'!$H$174*DN129)","v":{"$error":"#VALUE!"}},{"$error":"#VALUE!"},0,{"$error":"#VALUE!"},0,0,{"$error":"#VALUE!"},{"$error":"#VALUE!"},{"$error":"#VALUE!"},{"$error":"#VALUE!"},{"$error":"#VALUE!"},{"$error":"#VALUE!"},{"$error":"#VALUE!"},{"$error":"#VALUE!"},{"$error":"#VALUE!"}]
[null,122,"Feb",null,null,null,null,6.0947742812446783,{"$f":"'Site&Soil'!$F$173*EXP('Site&Soil'!$F$174*H130)","v":0},0.69468750000000001,0.1053992245618643,8.1402042533443005E-4,0,0,14086.700967915503,0.57605128668099859,1.1466862313461506E-3,1.5977301992096859E-4,1.4206577942242836E-3,6.0961949390389023,0.13629417171358721,5.6690415419007923E-4,-8.1605636230690671E-4,null,null,5.3068644168335855,{"$f":"'Site&Soil'!$G$173*EXP('Site&Soil'!$G$174*Z130)","v":0},0.79087499999999999,0.23692775868212174,1.1613381688472101E-2,0,0,1.5996652026494267E-3,6.5415543379805489E-8,1.8577522572134867E-9,1.976835928291527E-10,2.0202267107903647E-4,5.3070664395046645,0.24285117034325154,3.6899678845975334E-4,2.5023848993877148E-4,null,null,5.2770884052983709,{"$f":"'Site&Soil'!$H$173*EXP('Site&Soil'!$H$174*AR130)","v":0},0.72675000000000001,0.47965226883004436,2.5190157903430242E-2,0,0,6.3573819275738984E-3,2.5997414495009263E-7,1.6014345460800023E-8,1.697285755746149E-9,1.9972127000871037E-8,5.2770884252704979,0.41939901306533423,1.2040439297108169E-3,-1.1490156742360695E-3,null,null,null,null,null,null,null,null,null,null,null,null,null,null,null,null,null,null,null,null,null,null,{"$error":"#VALUE!"},{"$f":"'Site&Soil'!$F$173*EXP('Site&Soil'!$F$174*CD130)","v":{"$error":"#VALUE!"}},{"$error":"#VALUE!"},0,{"$error":"#VALUE!"},0,0,{"$error":"#VALUE!"},{"$error":"#VALUE!"},{"$error":"#VALUE!"},{"$error":"#VALUE!"},{"$error":"#VALUE!"},{"$error":"#VALUE!"},{"$error":"#VALUE!"},{"$error":"#VALUE!"},{"$error":"#VALUE!"},null,null,{"$error":"#VALUE!"},{"$f":"'Site&Soil'!$G$173*EXP('Site&Soil'!$G$174*CV130)","v":{"$error":"#VALUE!"}},{"$error":"#VALUE!"},0,{"$error":"#VALUE!"},0,0,{"$error":"#VALUE!"},{"$error":"#VALUE!"},{"$error":"#VALUE!"},{"$error":"#VALUE!"},{"$error":"#VALUE!"},{"$error":"#VALUE!"},{"$error":"#VALUE!"},{"$error":"#VALUE!"},{"$error":"#VALUE!"},null,null,{"$error":"#VALUE!"},{"$f":"'Site&Soil'!$H$173*EXP('Site&Soil'!$H$174*DN130)","v":{"$error":"#VALUE!"}},{"$error":"#VALUE!"},0,{"$error":"#VALUE!"},0,0,{"$error":"#VALUE!"},{"$error":"#VALUE!"},{"$error":"#VALUE!"},{"$error":"#VALUE!"},{"$error":"#VALUE!"},{"$error":"#VALUE!"},{"$error":"#VALUE!"},{"$error":"#VALUE!"},{"$error":"#VALUE!"}]
[null,123,"Mar",null,null,null,null,6.0953788826765951,{"$f":"'Site&Soil'!$F$173*EXP('Site&Soil'!$F$174*H131)","v":0},0.69468750000000001,0.20961138715109778,1.6165285669002283E-3,0,0,14058.660016669535,0.57490460044965241,2.2726225529284341E-3,3.1677939456776279E-4,2.8154287479775749E-3,6.0981943114245727,0.1376831107177576,1.1441681468676171E-3,-1.6470256725039923E-3,null,null,5.3073166779946037,{"$f":"'Site&Soil'!$G$173*EXP('Site&Soil'!$G$174*Z131)","v":0},0.79087499999999999,0.36787944117144206,1.8013292100335313E-2,0,0,1.5542359134091989E-3,6.3557791122592007E-8,2.7996905501071365E-9,2.9793403382577122E-10,4.0054609935107196E-4,5.3077172240939552,0.24336585960530679,5.750192656449087E-4,7.1964454714424958E-4,null,null,5.275939409596262,{"$f":"'Site&Soil'!$H$173*EXP('Site&Soil'!$H$174*AR131)","v":0},0.72675000000000001,0.60037304119840451,3.1614147448352586E-2,0,0,5.9657687137523487E-3,2.4395979948929259E-7,1.8860269175933552E-8,1.9986136711311802E-9,2.3611406313901813E-8,5.2759394332076681,0.41856398308367265,1.5001078061591059E-3,-1.2729116484543478E-3,null,null,null,null,null,null,null,null,null,null,null,null,null,null,null,null,null,null,null,null,null,null,{"$error":"#VALUE!"},{"$f":"'Site&Soil'!$F$173*EXP('Site&Soil'!$F$174*CD131)","v":{"$error":"#VALUE!"}},{"$error":"#VALUE!"},0,{"$error":"#VALUE!"},0,0,{"$error":"#VALUE!"},{"$error":"#VALUE!"},{"$error":"#VALUE!"},{"$error":"#VALUE!"},{"$error":"#VALUE!"},{"$error":"#VALUE!"},{"$error":"#VALUE!"},{"$error":"#VALUE!"},{"$error":"#VALUE!"},null,null,{"$error":"#VALUE!"},{"$f":"'Site&Soil'!$G$173*EXP('Site&Soil'!$G$174*CV131)","v":{"$error":"#VALUE!"}},{"$error":"#VALUE!"},0,{"$error":"#VALUE!"},0,0,{"$error":"#VALUE!"},{"$error":"#VALUE!"},{"$error":"#VALUE!"},{"$error":"#VALUE!"},{"$error":"#VALUE!"},{"$error":"#VALUE!"},{"$error":"#VALUE!"},{"$error":"#VALUE!"},{"$error":"#VALUE!"},null,null,{"$error":"#VALUE!"},{"$f":"'Site&Soil'!$H$173*EXP('Site&Soil'!$H$174*DN131)","v":{"$error":"#VALUE!"}},{"$error":"#VALUE!"},0,{"$error":"#VALUE!"},0,0,{"$error":"#VALUE!"},{"$error":"#VALUE!"},{"$error":"#VALUE!"},{"$error":"#VALUE!"},{"$error":"#VALUE!"},{"$error":"#VALUE!"},{"$error":"#VALUE!"},{"$error":"#VALUE!"},{"$error":"#VALUE!"}]
[null,124,"Apr",null,null,null,null,6.0965472857520684,{"$f":"'Site&Soil'!$F$173*EXP('Site&Soil'!$F$174*H132)","v":0},0.69468750000000001,0.36787944117144233,2.8291609161088726E-3,0,0,14003.08553041069,0.57263197789672393,3.9616982287567614E-3,5.5263895620684303E-4,4.9073277877461708E-3,6.1014546135398149,0.13994800184343992,2.0564910969914159E-3,-2.9603110707928613E-3,null,null,5.3084368686410999,{"$f":"'Site&Soil'!$G$173*EXP('Site&Soil'!$G$174*Z132)","v":0},0.79087499999999999,0.52729242404304844,2.575204191349963E-2,0,0,1.4857725586803381E-3,6.0758100572484872E-8,3.8261677205063661E-9,4.0723183054196686E-10,6.9877335248014292E-4,5.3091356419935805,0.24448765086167293,8.3069979110863862E-4,1.5499178832088223E-3,null,null,5.2746665215592135,{"$f":"'Site&Soil'!$H$173*EXP('Site&Soil'!$H$174*AR132)","v":0},0.72675000000000001,0.72142229035475613,3.8100473210677922E-2,0,0,5.50456156397491E-3,2.2509953031335903E-7,2.0972640040475343E-8,2.2220941920385415E-9,2.6360891199145194E-8,5.2746665479201047,0.41763891370093598,1.7933169870421085E-3,-1.324550665199133E-3,null,null,null,null,null,null,null,null,null,null,null,null,null,null,null,null,null,null,null,null,null,null,{"$error":"#VALUE!"},{"$f":"'Site&Soil'!$F$173*EXP('Site&Soil'!$F$174*CD132)","v":{"$error":"#VALUE!"}},{"$error":"#VALUE!"},0,{"$error":"#VALUE!"},0,0,{"$error":"#VALUE!"},{"$error":"#VALUE!"},{"$error":"#VALUE!"},{"$error":"#VALUE!"},{"$error":"#VALUE!"},{"$error":"#VALUE!"},{"$error":"#VALUE!"},{"$error":"#VALUE!"},{"$error":"#VALUE!"},null,null,{"$error":"#VALUE!"},{"$f":"'Site&Soil'!$G$173*EXP('Site&Soil'!$G$174*CV132)","v":{"$error":"#VALUE!"}},{"$error":"#VALUE!"},0,{"$error":"#VALUE!"},0,0,{"$error":"#VALUE!"},{"$error":"#VALUE!"},{"$error":"#VALUE!"},{"$error":"#VALUE!"},{"$error":"#VALUE!"},{"$error":"#VALUE!"},{"$error":"#VALUE!"},{"$error":"#VALUE!"},{"$error":"#VALUE!"},null,null,{"$error":"#VALUE!"},{"$f":"'Site&Soil'!$H$173*EXP('Site&Soil'!$H$174*DN132)","v":{"$error":"#VALUE!"}},{"$error":"#VALUE!"},0,{"$error":"#VALUE!"},0,0,{"$error":"#VALUE!"},{"$error":"#VALUE!"},{"$error":"#VALUE!"},{"$error":"#VALUE!"},{"$error":"#VALUE!"},{"$error":"#VALUE!"},{"$error":"#VALUE!"},{"$error":"#VALUE!"},{"$error":"#VALUE!"}]
[null,125,"May",null,null,null,null,6.0984943024690219,{"$f":"'Site&Soil'!$F$173*EXP('Site&Soil'!$F$174*H133)","v":0},0.69468750000000001,0.56978282473092301,4.3614833755047646E-3,0,0,13906.20655528478,0.56867027966796713,6.0651688707209954E-3,8.4713992178743675E-4,7.5113327200123205E-3,6.1060056351890344,0.14310953969538209,3.2914220477399175E-3,-4.7379894524371283E-3,null,null,5.3106855598767897,{"$f":"'Site&Soil'!$G$173*EXP('Site&Soil'!$G$174*Z133)","v":0},0.79087499999999999,0.69767632607103081,3.3896186141862912E-2,0,0,1.3922078331462535E-3,5.6931932851978509E-8,4.7190535860485034E-9,5.024222624140182E-10,1.0711479543780754E-3,5.3117567078311678,0.24656058630597485,1.1151527210913113E-3,2.7517235045343529E-3,null,null,5.2733419972549056,{"$f":"'Site&Soil'!$H$173*EXP('Site&Soil'!$H$174*AR133)","v":0},0.72675000000000001,0.83220750069030147,4.4086424848718789E-2,0,0,4.9916987068149175E-3,2.0412689027288369E-7,2.2006614990544263E-8,2.3312470851849546E-9,2.7764417155518856E-8,5.273342025019323,0.41667631668279287,2.0576545612034447E-3,-1.2968721570170395E-3,null,null,null,null,null,null,null,null,null,null,null,null,null,null,null,null,null,null,null,null,null,null,{"$error":"#VALUE!"},{"$f":"'Site&Soil'!$F$173*EXP('Site&Soil'!$F$174*CD133)","v":{"$error":"#VALUE!"}},{"$error":"#VALUE!"},0,{"$error":"#VALUE!"},0,0,{"$error":"#VALUE!"},{"$error":"#VALUE!"},{"$error":"#VALUE!"},{"$error":"#VALUE!"},{"$error":"#VALUE!"},{"$error":"#VALUE!"},{"$error":"#VALUE!"},{"$error":"#VALUE!"},{"$error":"#VALUE!"},null,null,{"$error":"#VALUE!"},{"$f":"'Site&Soil'!$G$173*EXP('Site&Soil'!$G$174*CV133)","v":{"$error":"#VALUE!"}},{"$error":"#VALUE!"},0,{"$error":"#VALUE!"},0,0,{"$error":"#VALUE!"},{"$error":"#VALUE!"},{"$error":"#VALUE!"},{"$error":"#VALUE!"},{"$error":"#VALUE!"},{"$error":"#VALUE!"},{"$error":"#VALUE!"},{"$error":"#VALUE!"},{"$error":"#VALUE!"},null,null,{"$error":"#VALUE!"},{"$f":"'Site&Soil'!$H$173*EXP('Site&Soil'!$H$174*DN133)","v":{"$error":"#VALUE!"}},{"$error":"#VALUE!"},0,{"$error":"#VALUE!"},0,0,{"$error":"#VALUE!"},{"$error":"#VALUE!"},{"$error":"#VALUE!"},{"$error":"#VALUE!"},{"$error":"#VALUE!"},{"$error":"#VALUE!"},{"$error":"#VALUE!"},{"$error":"#VALUE!"},{"$error":"#VALUE!"}]
[null,126,"Jun",null,null,null,null,6.1012676457365975,{"$f":"'Site&Soil'!$F$173*EXP('Site&Soil'!$F$174*H134)","v":0},0.69468750000000001,0.77880078307140521,5.921925641440241E-3,0,0,13757.889517935517,0.56260511079724618,8.1473198708364256E-3,1.1400307510933581E-3,1.0086965894366988E-2,6.1113546116309649,0.1468254067673857,4.6728539121359269E-3,-6.7265553391070475E-3,null,null,5.3145084313357023,{"$f":"'Site&Soil'!$G$173*EXP('Site&Soil'!$G$174*Z134)","v":0},0.79087499999999999,0.85214378896621112,4.1035702052097084E-2,0,0,1.2768085653115356E-3,5.2212879265930007E-8,5.2394735863689711E-9,5.5812924976928297E-10,1.44148624300641E-3,5.3159499175787088,0.24987689106506134,1.3937628817579728E-3,4.1461558784611401E-3,null,null,5.2720451528623062,{"$f":"'Site&Soil'!$H$173*EXP('Site&Soil'!$H$174*AR134)","v":0},0.72675000000000001,0.92161044729772479,4.8969449187031146E-2,0,0,4.4535511288901182E-3,1.8212027528233944E-7,2.1808794570802987E-8,2.3099053325419049E-9,2.7598236653636554E-8,5.2720451804605428,0.41573383489969939,2.2667725306899219E-3,-1.2012516669170266E-3,null,null,null,null,null,null,null,null,null,null,null,null,null,null,null,null,null,null,null,null,null,null,{"$error":"#VALUE!"},{"$f":"'Site&Soil'!$F$173*EXP('Site&Soil'!$F$174*CD134)","v":{"$error":"#VALUE!"}},{"$error":"#VALUE!"},0,{"$error":"#VALUE!"},0,0,{"$error":"#VALUE!"},{"$error":"#VALUE!"},{"$error":"#VALUE!"},{"$error":"#VALUE!"},{"$error":"#VALUE!"},{"$error":"#VALUE!"},{"$error":"#VALUE!"},{"$error":"#VALUE!"},{"$error":"#VALUE!"},null,null,{"$error":"#VALUE!"},{"$f":"'Site&Soil'!$G$173*EXP('Site&Soil'!$G$174*CV134)","v":{"$error":"#VALUE!"}},{"$error":"#VALUE!"},0,{"$error":"#VALUE!"},0,0,{"$error":"#VALUE!"},{"$error":"#VALUE!"},{"$error":"#VALUE!"},{"$error":"#VALUE!"},{"$error":"#VALUE!"},{"$error":"#VALUE!"},{"$error":"#VALUE!"},{"$error":"#VALUE!"},{"$error":"#VALUE!"},null,null,{"$error":"#VALUE!"},{"$f":"'Site&Soil'!$H$173*EXP('Site&Soil'!$H$174*DN134)","v":{"$error":"#VALUE!"}},{"$error":"#VALUE!"},0,{"$error":"#VALUE!"},0,0,{"$error":"#VALUE!"},{"$error":"#VALUE!"},{"$error":"#VALUE!"},{"$error":"#VALUE!"},{"$error":"#VALUE!"},{"$error":"#VALUE!"},{"$error":"#VALUE!"},{"$error":"#VALUE!"},{"$error":"#VALUE!"}]
[null,127,"Jul",null,null,null,null,6.1046280562918582,{"$f":"'Site&Soil'!$F$173*EXP('Site&Soil'!$F$174*H135)","v":0},0.69468750000000001,0.93941306281347592,7.0858578990424179E-3,0,0,13558.65576676783,0.55445779092640979,9.6074708065348857E-3,1.3473250761173894E-3,1.1890448194932967E-2,6.1165185044867911,0.15041269858566747,5.8433190859615257E-3,-8.4114354813661189E-3,null,null,5.3200960734571696,{"$f":"'Site&Soil'!$G$173*EXP('Site&Soil'!$G$174*Z135)","v":0},0.79087499999999999,0.96078943915232284,4.5672273663787413E-2,0,0,1.1486829984618887E-3,4.6973405679561034E-8,5.2462964258691278E-9,5.5929924800429431E-10,1.7035938209129982E-3,5.321799667278083,0.25450331185855385,1.6222632358348459E-3,5.3371972184310789E-3,null,null,5.2708439287936262,{"$f":"'Site&Soil'!$H$173*EXP('Site&Soil'!$H$174*AR135)","v":0},0.72675000000000001,0.97979867385370423,5.2206315097409313E-2,0,0,3.9202410318679281E-3,1.6031148071153645E-7,2.0466133856749006E-8,2.1673613281149354E-9,2.5948499176660975E-8,5.2708439547421255,0.41486084410883961,2.3981881279865483E-3,-1.0676641102878603E-3,null,null,null,null,null,null,null,null,null,null,null,null,null,null,null,null,null,null,null,null,null,null,{"$error":"#VALUE!"},{"$f":"'Site&Soil'!$F$173*EXP('Site&Soil'!$F$174*CD135)","v":{"$error":"#VALUE!"}},{"$error":"#VALUE!"},0,{"$error":"#VALUE!"},0,0,{"$error":"#VALUE!"},{"$error":"#VALUE!"},{"$error":"#VALUE!"},{"$error":"#VALUE!"},{"$error":"#VALUE!"},{"$error":"#VALUE!"},{"$error":"#VALUE!"},{"$error":"#VALUE!"},{"$error":"#VALUE!"},null,null,{"$error":"#VALUE!"},{"$f":"'Site&Soil'!$G$173*EXP('Site&Soil'!$G$174*CV135)","v":{"$error":"#VALUE!"}},{"$error":"#VALUE!"},0,{"$error":"#VALUE!"},0,0,{"$error":"#VALUE!"},{"$error":"#VALUE!"},{"$error":"#VALUE!"},{"$error":"#VALUE!"},{"$error":"#VALUE!"},{"$error":"#VALUE!"},{"$error":"#VALUE!"},{"$error":"#VALUE!"},{"$error":"#VALUE!"},null,null,{"$error":"#VALUE!"},{"$f":"'Site&Soil'!$H$173*EXP('Site&Soil'!$H$174*DN135)","v":{"$error":"#VALUE!"}},{"$error":"#VALUE!"},0,{"$error":"#VALUE!"},0,0,{"$error":"#VALUE!"},{"$error":"#VALUE!"},{"$error":"#VALUE!"},{"$error":"#VALUE!"},{"$error":"#VALUE!"},{"$error":"#VALUE!"},{"$error":"#VALUE!"},{"$error":"#VALUE!"},{"$error":"#VALUE!"}]
[null,128,"Aug",null,null,null,null,6.1081070690054249,{"$f":"'Site&Soil'!$F$173*EXP('Site&Soil'!$F$174*H136)","v":0},0.69468750000000001,1,7.4801510181561875E-3,0,0,13323.715629598097,0.54485032011987489,9.9663405032361721E-3,1.4008773124775092E-3,1.2329951511663393E-2,6.1204370205170884,0.1531348426904646,6.3901497720757015E-3,-9.1985961631319141E-3,null,null,5.3271368644965138,{"$f":"'Site&Soil'!$G$173*EXP('Site&Soil'!$G$174*Z136)","v":0},0.79087499999999999,1,4.6766664731480882E-2,0,0,1.02039058657255E-3,4.1727109253691905E-8,4.7720264457397566E-9,5.0925350598589411E-10,1.7713059272962844E-3,5.3289081704238104,0.26012524928393105,1.7542467468926813E-3,5.8617392447390801E-3,null,null,5.2697762906318379,{"$f":"'Site&Soil'!$H$173*EXP('Site&Soil'!$H$174*AR136)","v":0},0.72675000000000001,1,5.3414622034128723E-2,0,0,3.4197642266333849E-3,1.3984534685478746E-7,1.8266541361145676E-8,1.934160114318426E-9,2.3173904028638656E-8,5.2697763138057416,0.41408493605832258,2.4370573282429643E-3,-9.3953984361924052E-4,null,null,null,null,null,null,null,null,null,null,null,null,null,null,null,null,null,null,null,null,null,null,{"$error":"#VALUE!"},{"$f":"'Site&Soil'!$F$173*EXP('Site&Soil'!$F$174*CD136)","v":{"$error":"#VALUE!"}},{"$error":"#VALUE!"},0,{"$error":"#VALUE!"},0,0,{"$error":"#VALUE!"},{"$error":"#VALUE!"},{"$error":"#VALUE!"},{"$error":"#VALUE!"},{"$error":"#VALUE!"},{"$error":"#VALUE!"},{"$error":"#VALUE!"},{"$error":"#VALUE!"},{"$error":"#VALUE!"},null,null,{"$error":"#VALUE!"},{"$f":"'Site&Soil'!$G$173*EXP('Site&Soil'!$G$174*CV136)","v":{"$error":"#VALUE!"}},{"$error":"#VALUE!"},0,{"$error":"#VALUE!"},0,0,{"$error":"#VALUE!"},{"$error":"#VALUE!"},{"$error":"#VALUE!"},{"$error":"#VALUE!"},{"$error":"#VALUE!"},{"$error":"#VALUE!"},{"$error":"#VALUE!"},{"$error":"#VALUE!"},{"$error":"#VALUE!"},null,null,{"$error":"#VALUE!"},{"$f":"'Site&Soil'!$H$173*EXP('Site&Soil'!$H$174*DN136)","v":{"$error":"#VALUE!"}},{"$error":"#VALUE!"},0,{"$error":"#VALUE!"},0,0,{"$error":"#VALUE!"},{"$error":"#VALUE!"},{"$error":"#VALUE!"},{"$error":"#VALUE!"},{"$error":"#VALUE!"},{"$error":"#VALUE!"},{"$error":"#VALUE!"},{"$error":"#VALUE!"},{"$error":"#VALUE!"}]
[null,129,"Sep",null,null,null,null,6.1112384243539566,{"$f":"'Site&Soil'!$F$173*EXP('Site&Soil'!$F$174*H137)","v":0},{"$f":"((0.66+45*Soil_OC_A+0.63*I137)*0.5)*Soil_BD_A*(1-Gravel_Pct_A)","v":0.69468750000000001},0.93941306281347592,{"$f":"k*(10^-H137-10^-pH_Equil)*K137*10000","v":6.9743337605545509E-3},{"$f":"D137*Lime_NV_A","v":0},{"$f":"D137*CaCO3_SA_A","v":0},13079.999728497683,0.53488397961663869,{"$f":"MAX(0,MIN(L137*O137*0.0001,(pH_Equil-H137)*J137,P137))","v":9.1224283694505762E-3},{"$f":"(Lime_Leak*Q137)+MIN(Lime_Leach_Max,10^(H137-pH_Leach_A)/10^(pH_Equil-pH_Leach_A))*Q137","v":1.2849338206638839E-3},{"$f":"(Q137-R137)/J137","v":1.1282043435050569E-2},{"$f":"H137+S137","v":6.1225204677890073},{"$f":"MAX(0,(T137-MAX(pH_Leach_A,pH_Initial_A))*J137)","v":0.15458218746717575},{"$f":"K137*(MIN(Alkali_Leach_Max,(10^(T137-pH_Leach_A)/10^(pH_Equil-pH_Leach_A)))*U137)","v":6.0888673295330081E-3},{"$f":"-V137/J137","v":-8.7649012390938492E-3},null,null,5.334769909668549,{"$f":"'Site&Soil'!$G$173*EXP('Site&Soil'!$G$174*Z137)","v":0},{"$f":"((0.66+45*Soil_OC_B+0.63*AA137)*0.5)*Soil_BD_B*(1-Gravel_Pct_B)","v":0.79087499999999999},0.96078943915232284,{"$f":"k*(10^-Z137-10^-pH_Equil)*AC137*10000","v":4.4144794682039398E-2},{"$f":"E137*Lime_NV_A","v":0},{"$f":"E137*CaCO3_SA_A","v":0},9.0369592568665877E-4,3.6955082807952146E-8,{"$f":"MAX(0,MIN(AD137*AG137*0.0001,(pH_Equil-Z137)*AB137,AH137))","v":3.9893471094433089E-9},{"$f":"(Lime_Leak*AI137)+MIN(Lime_Leach_Max,10^(Z137-pH_Leach_B)/10^(pH_Equil-pH_Leach_B))*AI137","v":4.262038693783775E-10},{"$f":"(R137+AI137-AJ137)/AB137","v":1.6247035041025749E-3},{"$f":"Z137+AK137","v":5.3363946131726516},{"$f":"MAX(0,(AL137-MAX(pH_Leach_B,pH_Initial_B))*AB137)","v":0.26604608969292087},{"$f":"AC137*(MIN(Alkali_Leach_Max,(10^(AL137-pH_Leach_B)/10^(pH_Equil-pH_Leach_B)))*AM137)","v":1.7537985795999553E-3},{"$f":"(V137-AN137)/AB137","v":5.4813576733782864E-3},null,null,5.2688367739621222,{"$f":"'Site&Soil'!$H$173*EXP('Site&Soil'!$H$174*AR137)","v":0},{"$f":"((0.66+45*Soil_OC_C+0.63*AS137)*0.5)*Soil_BD_C*(1-Gravel_Pct_C)","v":0.72675000000000001},0.97979867385370423,{"$f":"k*(10^-AR137-10^-pH_Equil)*AU137*10000","v":5.2449587837213887E-2},{"$f":"F137*Lime_NV_A","v":0},{"$f":"F137*CaCO3_SA_A","v":0},2.9730760378870705E-3,1.2157880549364179E-7,{"$f":"MAX(0,MIN(AV137*AY137*0.0001,(pH_Equil-AR137)*AT137,AZ137))","v":1.5593661279587376E-8},{"$f":"(Lime_Leak*BA137)+MIN(Lime_Leach_Max,10^(AR137-pH_Leach_C)/10^(pH_Equil-pH_Leach_C))*BA137","v":1.6509428028310022E-9},{"$f":"(AJ137+BA137-BB137)/AT137","v":1.9771478976449605E-8},{"$f":"AR137+BC137","v":5.2688367937336009},{"$f":"MAX(0,(BD137-MAX(pH_Leach_C,pH_Initial_C))*AT137)","v":0.41340213984589436},{"$f":"AU137*(MIN(Alkali_Leach_Max,(10^(BD137-pH_Leach_C)/10^(pH_Equil-pH_Leach_C)))*BE137)","v":2.3787366356647893E-3},{"$f":"(AN137-BF137)/AT137","v":-8.5990788588212453E-4},null,null,null,null,null,null,null,null,null,null,null,null,null,null,null,null,null,null,null,null,null,null,{"$error":"#VALUE!"},{"$f":"'Site&Soil'!$F$173*EXP('Site&Soil'!$F$174*CD137)","v":{"$error":"#VALUE!"}},{"$f":"((0.66+45*Soil_OC_A+0.63*CE137)*0.5)*Soil_BD_A*(1-Gravel_Pct_A)","v":{"$error":"#VALUE!"}},0,{"$f":"k*(10^-CD137-10^-pH_Equil)*CG137*10000","v":{"$error":"#VALUE!"}},{"$f":"BZ137*Lime_NV_B","v":0},{"$f":"BZ137*CaCO3_SA_B","v":0},{"$error":"#VALUE!"},{"$error":"#VALUE!"},{"$f":"MAX(0,MIN(CH137*CK137*0.0001,(pH_Equil-CD137)*CF137,CL137))","v":{"$error":"#VALUE!"}},{"$f":"(Lime_Leak*CM137)+MIN(Lime_Leach_Max,10^(CD137-pH_Leach_A)/10^(pH_Equil-pH_Leach_A))*CM137","v":{"$error":"#VALUE!"}},{"$f":"(CM137-CN137)/CF137","v":{"$error":"#VALUE!"}},{"$f":"CD137+CO137","v":{"$error":"#VALUE!"}},{"$f":"MAX(0,(CP137-MAX(pH_Leach_A,pH_Initial_A))*CF137)","v":{"$error":"#VALUE!"}},{"$f":"CG137*(MIN(Alkali_Leach_Max,(10^(CP137-pH_Leach_A)/10^(pH_Equil-pH_Leach_A)))*CQ137)","v":{"$error":"#VALUE!"}},{"$f":"-CR137/CF137","v":{"$error":"#VALUE!"}},null,null,{"$error":"#VALUE!"},{"$f":"'Site&Soil'!$G$173*EXP('Site&Soil'!$G$174*CV137)","v":{"$error":"#VALUE!"}},{"$f":"((0.66+45*Soil_OC_B+0.63*CW137)*0.5)*Soil_BD_B*(1-Gravel_Pct_B)","v":{"$error":"#VALUE!"}},0,{"$f":"k*(10^-CV137-10^-pH_Equil)*CY137*10000","v":{"$error":"#VALUE!"}},{"$f":"CA137*Lime_NV_B","v":0},{"$f":"CA137*CaCO3_SA_B","v":0},{"$error":"#VALUE!"},{"$error":"#VALUE!"},{"$f":"MAX(0,MIN(CZ137*DC137*0.0001,(pH_Equil-CV137)*CX137,DD137))","v":{"$error":"#VALUE!"}},{"$f":"(Lime_Leak*DE137)+MIN(Lime_Leach_Max,10^(CV137-pH_Leach_B)/10^(pH_Equil-pH_Leach_B))*DE137","v":{"$error":"#VALUE!"}},{"$f":"(CN137+DE137-DF137)/CX137","v":{"$error":"#VALUE!"}},{"$f":"CV137+DG137","v":{"$error":"#VALUE!"}},{"$f":"MAX(0,(DH137-MAX(pH_Leach_B,pH_Initial_B))*CX137)","v":{"$error":"#VALUE!"}},{"$f":"CY137*(MIN(Alkali_Leach_Max,(10^(DH137-pH_Leach_B)/10^(pH_Equil-pH_Leach_B)))*DI137)","v":{"$error":"#VALUE!"}},{"$f":"(CR137-DJ137)/CX137","v":{"$error":"#VALUE!"}},null,null,{"$error":"#VALUE!"},{"$f":"'Site&Soil'!$H$173*EXP('Site&Soil'!$H$174*DN137)","v":{"$error":"#VALUE!"}},{"$f":"((0.66+45*Soil_OC_C+0.63*DO137)*0.5)*Soil_BD_C*(1-Gravel_Pct_C)","v":{"$error":"#VALUE!"}},0,{"$f":"k*(10^-DN137-10^-pH_Equil)*DQ137*10000","v":{"$error":"#VALUE!"}},{"$f":"CB137*Lime_NV_B","v":0},{"$f":"CB137*CaCO3_SA_B","v":0},{"$error":"#VALUE!"},{"$error":"#VALUE!"},{"$f":"MAX(0,MIN(DR137*DU137*0.0001,(pH_Equil-DN137)*DP137,DV137))","v":{"$error":"#VALUE!"}},{"$f":"(Lime_Leak*DW137)+MIN(Lime_Leach_Max,10^(DN137-pH_Leach_C)/10^(pH_Equil-pH_Leach_C))*DW137","v":{"$error":"#VALUE!"}},{"$f":"(DF137+DW137-DX137)/DP137","v":{"$error":"#VALUE!"}},{"$f":"DN137+DY137","v":{"$error":"#VALUE!"}},{"$f":"MAX(0,(DZ137-MAX(pH_Leach_C,pH_Initial_C))*DP137)","v":{"$error":"#VALUE!"}},{"$f":"DQ137*(MIN(Alkali_Leach_Max,(10^(DZ137-pH_Leach_C)/10^(pH_Equil-pH_Leach_C)))*EA137)","v":{"$error":"#VALUE!"}},{"$f":"(DJ137-EB137)/DP137","v":{"$error":"#VALUE!"}}]
[null,130,"Oct",null,null,null,null,6.113755566549913,{"$f":"'Site&Soil'!$F$173*EXP('Site&Soil'!$F$174*H138)","v":0},0.69468750000000001,0.77880078307140521,5.7470877500961628E-3,0,0,{"$f":"N138+IF(P137-Q137=0,0,(O137*(1-Q137/P137)))","v":12856.920770924169},{"$f":"P137-Q137+M138","v":0.52576155124718815},7.3889851866535215E-3,1.0425255004238424E-3,9.135704451612674E-3,6.1228912710015253,0.15483977982387187,5.0605788446149462E-3,-7.2846838968816134E-3,{"$f":"-'Profit Calculator'!P$29*'Quantity of Lime to Apply'!H$9","v":0},null,5.3418759708460302,{"$f":"'Site&Soil'!$G$173*EXP('Site&Soil'!$G$174*Z138)","v":0},0.79087499999999999,0.85214378896621112,3.8513127675515221E-2,0,0,{"$f":"AF138+IF(AH137-AI137=0,0,(AG137*(1-AI137/AH137)))","v":8.0614082757771892E-4},{"$f":"AH137-AI137+AE138","v":3.296573569850884E-8},3.1047004616946195E-9,3.3204230771457796E-10,1.3181960146445349E-3,5.3431941668606751,0.27142368671593636,1.6119619825146763E-3,4.3605081234079591E-3,{"$f":"-'Profit Calculator'!$P$29*'Quantity of Lime to Apply'!$H$19","v":0},null,5.2679768858477187,{"$f":"'Site&Soil'!$H$173*EXP('Site&Soil'!$H$174*AR138)","v":0},0.72675000000000001,0.92161044729772479,4.9433070183351809E-2,0,0,{"$f":"AX138+IF(AZ137-BA137=0,0,(AY137*(1-BA137/AZ137)))","v":2.5917501932628344E-3},{"$f":"AZ137-BA137+AW138","v":1.0598514421405441E-7},1.2811816920127733E-8,1.3562726439295977E-9,1.6219589382748831E-8,5.267976902067308,0.41277721357741592,2.2296670009585855E-3,-8.4995530573637318E-4,0.02,null,{"$f":"BJ126+1","v":11},{"$f":"AVERAGE(H133:H138)","v":6.1062485107344626},{"$f":"AVERAGE(Z133:Z138)","v":5.3248454682801247},{"$f":"AVERAGE(AR133:AR138)","v":5.2704701715587525},null,null,null,null,null,null,null,null,null,null,null,null,null,null,null,null,{"$f":"CP137+CS137+CT137","v":{"$error":"#VALUE!"}},{"$f":"'Site&Soil'!$F$173*EXP('Site&Soil'!$F$174*CD138)","v":{"$error":"#VALUE!"}},{"$error":"#VALUE!"},0,{"$error":"#VALUE!"},0,0,{"$f":"CJ138+IF(CL137-CM137=0,0,(CK137*(1-CM137/CL137)))","v":{"$error":"#VALUE!"}},{"$f":"CL137-CM137+CI138","v":{"$error":"#VALUE!"}},{"$error":"#VALUE!"},{"$error":"#VALUE!"},{"$error":"#VALUE!"},{"$error":"#VALUE!"},{"$error":"#VALUE!"},{"$error":"#VALUE!"},{"$error":"#VALUE!"},{"$error":"#VALUE!"},null,{"$f":"DH137+DK137+DL137","v":{"$error":"#VALUE!"}},{"$f":"'Site&Soil'!$G$173*EXP('Site&Soil'!$G$174*CV138)","v":{"$error":"#VALUE!"}},{"$error":"#VALUE!"},0,{"$error":"#VALUE!"},0,0,{"$f":"DB138+IF(DD137-DE137=0,0,(DC137*(1-DE137/DD137)))","v":{"$error":"#VALUE!"}},{"$f":"DD137-DE137+DA138","v":{"$error":"#VALUE!"}},{"$error":"#VALUE!"},{"$error":"#VALUE!"},{"$error":"#VALUE!"},{"$error":"#VALUE!"},{"$error":"#VALUE!"},{"$error":"#VALUE!"},{"$error":"#VALUE!"},{"$error":"#VALUE!"},null,{"$f":"DZ137+EC137+ED137","v":{"$error":"#VALUE!"}},{"$f":"'Site&Soil'!$H$173*EXP('Site&Soil'!$H$174*DN138)","v":{"$error":"#VALUE!"}},{"$error":"#VALUE!"},0,{"$error":"#VALUE!"},0,0,{"$f":"DT138+IF(DV137-DW137=0,0,(DU137*(1-DW137/DV137)))","v":{"$error":"#VALUE!"}},{"$f":"DV137-DW137+DS138","v":{"$error":"#VALUE!"}},{"$error":"#VALUE!"},{"$error":"#VALUE!"},{"$error":"#VALUE!"},{"$error":"#VALUE!"},{"$error":"#VALUE!"},{"$error":"#VALUE!"},{"$error":"#VALUE!"},{"$error":"#VALUE!"},null,{"$f":"EF126+1","v":11},{"$f":"AVERAGE(CD133:CD138)","v":{"$error":"#VALUE!"}},{"$f":"AVERAGE(CV133:CV138)","v":{"$error":"#VALUE!"}},{"$f":"AVERAGE(DN133:DN138)","v":{"$error":"#VALUE!"}}]
[null,131,"Nov",null,null,null,null,{"$f":"T138+W138+X138","v":6.1156065871046437},{"$f":"'Site&Soil'!$F$173*EXP('Site&Soil'!$F$174*H139)","v":0},0.69468750000000001,0.56978282473092301,4.1860102194568472E-3,0,0,12676.231260827846,0.51837256606053461,5.3062833602023724E-3,7.4960459153510309E-4,6.5593216642983636E-3,6.1221659087689417,0.15433587974792395,3.6841912312643925E-3,-5.3033791903041184E-3,null,null,{"$f":"AL138+AO138+AP138","v":5.3475546749840834},{"$f":"'Site&Soil'!$G$173*EXP('Site&Soil'!$G$174*Z139)","v":0},0.79087499999999999,0.69767632607103081,3.1119398422747992E-2,0,0,7.3021879075556967E-4,2.9861035236814219E-8,2.2723969485299822E-9,2.432367069197968E-10,9.4781934021854878E-4,5.3485024943243022,0.27562191019873256,1.3566574969955494E-3,2.942985597305318E-3,null,null,{"$f":"BD138+BG138+BH138","v":5.2871269467615711},{"$f":"'Site&Soil'!$H$173*EXP('Site&Soil'!$H$174*AR139)","v":0},0.72675000000000001,0.83220750069030147,4.2700830022131174E-2,0,0,2.2784512943933278E-3,9.3173327293926671E-8,9.7291761435594259E-9,1.0325116797231654E-9,1.2301205601315523E-8,5.2871269590627765,0.42669451749887272,2.1750820660911266E-3,-1.1261431979299307E-3,null,null,null,null,null,null,null,null,null,null,null,null,null,null,null,null,null,null,null,null,null,null,{"$error":"#VALUE!"},{"$f":"'Site&Soil'!$F$173*EXP('Site&Soil'!$F$174*CD139)","v":{"$error":"#VALUE!"}},{"$error":"#VALUE!"},0,{"$error":"#VALUE!"},0,0,{"$error":"#VALUE!"},{"$error":"#VALUE!"},{"$error":"#VALUE!"},{"$error":"#VALUE!"},{"$error":"#VALUE!"},{"$error":"#VALUE!"},{"$error":"#VALUE!"},{"$error":"#VALUE!"},{"$error":"#VALUE!"},null,null,{"$error":"#VALUE!"},{"$f":"'Site&Soil'!$G$173*EXP('Site&Soil'!$G$174*CV139)","v":{"$error":"#VALUE!"}},{"$error":"#VALUE!"},0,{"$error":"#VALUE!"},0,0,{"$error":"#VALUE!"},{"$error":"#VALUE!"},{"$error":"#VALUE!"},{"$error":"#VALUE!"},{"$error":"#VALUE!"},{"$error":"#VALUE!"},{"$error":"#VALUE!"},{"$error":"#VALUE!"},{"$error":"#VALUE!"},null,null,{"$error":"#VALUE!"},{"$f":"'Site&Soil'!$H$173*EXP('Site&Soil'!$H$174*DN139)","v":{"$error":"#VALUE!"}},{"$error":"#VALUE!"},0,{"$error":"#VALUE!"},0,0,{"$error":"#VALUE!"},{"$error":"#VALUE!"},{"$error":"#VALUE!"},{"$error":"#VALUE!"},{"$error":"#VALUE!"},{"$error":"#VALUE!"},{"$error":"#VALUE!"},{"$error":"#VALUE!"},{"$error":"#VALUE!"}]
[null,132,"Dec",null,null,null,null,6.1168625295786372,{"$f":"'Site&Soil'!$F$173*EXP('Site&Soil'!$F$174*H140)","v":0},0.69468750000000001,0.36787944117144233,2.6945507273293083E-3,0,0,12546.471934402472,0.51306628270033228,3.3807105076260942E-3,4.7798805987570074E-4,4.1784578645079886E-3,6.1210409874431448,0.15355441096440944,2.3605260739298787E-3,-3.3979682575688763E-3,null,null,5.3514454799216074,{"$f":"'Site&Soil'!$G$173*EXP('Site&Soil'!$G$174*Z140)","v":0},0.79087499999999999,0.52729242404304844,2.3308279857688373E-2,0,0,6.7464982140428339E-4,2.7588638288284236E-8,1.5724926843230516E-9,1.6841877823427909E-10,6.0438054553451151E-4,5.352049860467142,0.27842743339695097,1.0442714772355504E-3,1.664301686985084E-3,null,null,5.2860008158648464,{"$f":"'Site&Soil'!$H$173*EXP('Site&Soil'!$H$174*AR140)","v":0},0.72675000000000001,0.72142229035475613,3.711310671241682E-2,0,0,2.0405349869962149E-3,8.3444151150367242E-8,7.5730592722810603E-9,8.0357301581066837E-10,9.5464809559059788E-9,5.2860008254113273,0.42587609986768199,1.8770405312988651E-3,-1.1458810513427103E-3,null,null,null,null,null,null,null,null,null,null,null,null,null,null,null,null,null,null,null,null,null,null,{"$error":"#VALUE!"},{"$f":"'Site&Soil'!$F$173*EXP('Site&Soil'!$F$174*CD140)","v":{"$error":"#VALUE!"}},{"$error":"#VALUE!"},0,{"$error":"#VALUE!"},0,0,{"$error":"#VALUE!"},{"$error":"#VALUE!"},{"$error":"#VALUE!"},{"$error":"#VALUE!"},{"$error":"#VALUE!"},{"$error":"#VALUE!"},{"$error":"#VALUE!"},{"$error":"#VALUE!"},{"$error":"#VALUE!"},null,null,{"$error":"#VALUE!"},{"$f":"'Site&Soil'!$G$173*EXP('Site&Soil'!$G$174*CV140)","v":{"$error":"#VALUE!"}},{"$error":"#VALUE!"},0,{"$error":"#VALUE!"},0,0,{"$error":"#VALUE!"},{"$error":"#VALUE!"},{"$error":"#VALUE!"},{"$error":"#VALUE!"},{"$error":"#VALUE!"},{"$error":"#VALUE!"},{"$error":"#VALUE!"},{"$error":"#VALUE!"},{"$error":"#VALUE!"},null,null,{"$error":"#VALUE!"},{"$f":"'Site&Soil'!$H$173*EXP('Site&Soil'!$H$174*DN140)","v":{"$error":"#VALUE!"}},{"$error":"#VALUE!"},0,{"$error":"#VALUE!"},0,0,{"$error":"#VALUE!"},{"$error":"#VALUE!"},{"$error":"#VALUE!"},{"$error":"#VALUE!"},{"$error":"#VALUE!"},{"$error":"#VALUE!"},{"$error":"#VALUE!"},{"$error":"#VALUE!"},{"$error":"#VALUE!"}]
[{"$f":"A129+1","v":12},133,"Jan",{"$f":"OFFSET(Apply_Lime!$H$16,$A141,0)","v":0},{"$f":"OFFSET(Apply_Lime!$I$16,$A141,0)*E$7","v":0},{"$f":"OFFSET(Apply_Lime!$I$16,$A141,0)*F$7","v":0},null,6.117643019185576,{"$f":"'Site&Soil'!$F$173*EXP('Site&Soil'!$F$174*H141)","v":0},0.69468750000000001,4.6770622383959001E-2,3.4193202418382295E-4,0,0,12463.800375322367,0.50968557219270616,4.2617724913570693E-4,6.0287591929036339E-5,5.2669676251072687E-4,6.1181697159480866,0.15155977454768613,2.9425700863013586E-4,-4.2358183878382129E-4,null,null,5.3537141621541275,{"$f":"'Site&Soil'!$G$173*EXP('Site&Soil'!$G$174*Z141)","v":0},0.79087499999999999,0.14085842092104497,6.1937910896462918E-3,0,0,6.3619624143587293E-4,2.6016145603961186E-8,3.940466611471971E-10,4.2218262608659957E-11,7.6229421536190765E-5,5.3537903915756635,0.27980397593740286,2.814667434886191E-4,1.617229668597029E-5,null,null,5.284854944359985,{"$f":"'Site&Soil'!$H$173*EXP('Site&Soil'!$H$174*AR141)","v":0},0.72675000000000001,0.36787944117144233,1.8975628853329082E-2,0,0,1.8553441474868171E-3,7.5871091878086185E-8,3.5206321937906099E-9,3.7351560525934318E-10,4.3884896472513606E-9,5.2848549487484746,0.4250433340029538,9.5278229065796894E-4,-9.237228031226003E-4,null,null,null,null,null,null,null,null,null,null,null,null,null,null,null,null,null,null,{"$f":"OFFSET(Apply_Lime!$O$16,$A141,0)","v":0},{"$f":"OFFSET(Apply_Lime!$P$16,$A141,0)*CA$7","v":0},{"$f":"OFFSET(Apply_Lime!$P$16,$A141,0)*CB$7","v":0},null,{"$error":"#VALUE!"},{"$f":"'Site&Soil'!$F$173*EXP('Site&Soil'!$F$174*CD141)","v":{"$error":"#VALUE!"}},{"$error":"#VALUE!"},0,{"$error":"#VALUE!"},0,0,{"$error":"#VALUE!"},{"$error":"#VALUE!"},{"$error":"#VALUE!"},{"$error":"#VALUE!"},{"$error":"#VALUE!"},{"$error":"#VALUE!"},{"$error":"#VALUE!"},{"$error":"#VALUE!"},{"$error":"#VALUE!"},null,null,{"$error":"#VALUE!"},{"$f":"'Site&Soil'!$G$173*EXP('Site&Soil'!$G$174*CV141)","v":{"$error":"#VALUE!"}},{"$error":"#VALUE!"},0,{"$error":"#VALUE!"},0,0,{"$error":"#VALUE!"},{"$error":"#VALUE!"},{"$error":"#VALUE!"},{"$error":"#VALUE!"},{"$error":"#VALUE!"},{"$error":"#VALUE!"},{"$error":"#VALUE!"},{"$error":"#VALUE!"},{"$error":"#VALUE!"},null,null,{"$error":"#VALUE!"},{"$f":"'Site&Soil'!$H$173*EXP('Site&Soil'!$H$174*DN141)","v":{"$error":"#VALUE!"}},{"$error":"#VALUE!"},0,{"$error":"#VALUE!"},0,0,{"$error":"#VALUE!"},{"$error":"#VALUE!"},{"$error":"#VALUE!"},{"$error":"#VALUE!"},{"$error":"#VALUE!"},{"$error":"#VALUE!"},{"$error":"#VALUE!"},{"$error":"#VALUE!"},{"$error":"#VALUE!"}]
[null,134,"Feb",null,null,null,null,6.1177461341093027,{"$f":"'Site&Soil'!$F$173*EXP('Site&Soil'!$F$174*H142)","v":0},0.69468750000000001,0.1053992245618643,7.7036486668239355E-4,0,0,12453.378679187475,0.50925939494357042,9.5936454059376223E-4,1.3572240991505702E-4,1.1856296977831113E-3,6.1189317638070859,0.15208915966973477,6.6660327014434102E-4,-9.5957285850737349E-4,null,null,5.3538065638723493,{"$f":"'Site&Soil'!$G$173*EXP('Site&Soil'!$G$174*Z142)","v":0},0.79087499999999999,0.23692775868212174,1.0415895575615465E-2,0,0,6.2656026350937975E-4,2.5622098942813988E-8,6.5261862765438086E-10,6.9922722459363221E-11,1.7161118079464166E-4,5.3539781750531441,0.27995248919515536,4.7389099312889328E-4,2.4366970382860471E-4,null,null,5.2839312259453521,{"$f":"'Site&Soil'!$H$173*EXP('Site&Soil'!$H$174*AR142)","v":0},0.72675000000000001,0.47965226883004436,2.4793996623956132E-2,0,0,1.7692509573861788E-3,7.2350459684295571E-8,4.3866802264364075E-9,4.653407363197089E-10,5.491932869041709E-9,5.2839312314372853,0.42437202244704697,1.2376689023195005E-3,-1.050949995446312E-3,null,null,null,null,null,null,null,null,null,null,null,null,null,null,null,null,null,null,null,null,null,null,{"$error":"#VALUE!"},{"$f":"'Site&Soil'!$F$173*EXP('Site&Soil'!$F$174*CD142)","v":{"$error":"#VALUE!"}},{"$error":"#VALUE!"},0,{"$error":"#VALUE!"},0,0,{"$error":"#VALUE!"},{"$error":"#VALUE!"},{"$error":"#VALUE!"},{"$error":"#VALUE!"},{"$error":"#VALUE!"},{"$error":"#VALUE!"},{"$error":"#VALUE!"},{"$error":"#VALUE!"},{"$error":"#VALUE!"},null,null,{"$error":"#VALUE!"},{"$f":"'Site&Soil'!$G$173*EXP('Site&Soil'!$G$174*CV142)","v":{"$error":"#VALUE!"}},{"$error":"#VALUE!"},0,{"$error":"#VALUE!"},0,0,{"$error":"#VALUE!"},{"$error":"#VALUE!"},{"$error":"#VALUE!"},{"$error":"#VALUE!"},{"$error":"#VALUE!"},{"$error":"#VALUE!"},{"$error":"#VALUE!"},{"$error":"#VALUE!"},{"$error":"#VALUE!"},null,null,{"$error":"#VALUE!"},{"$f":"'Site&Soil'!$H$173*EXP('Site&Soil'!$H$174*DN142)","v":{"$error":"#VALUE!"}},{"$error":"#VALUE!"},0,{"$error":"#VALUE!"},0,0,{"$error":"#VALUE!"},{"$error":"#VALUE!"},{"$error":"#VALUE!"},{"$error":"#VALUE!"},{"$error":"#VALUE!"},{"$error":"#VALUE!"},{"$error":"#VALUE!"},{"$error":"#VALUE!"},{"$error":"#VALUE!"}]
[null,135,"Mar",null,null,null,null,6.1179721909485787,{"$f":"'Site&Soil'!$F$173*EXP('Site&Soil'!$F$174*H143)","v":0},0.69468750000000001,0.20961138715109778,1.531221732813326E-3,0,0,12429.918473967849,0.50830003040297667,1.9032961304437427E-3,2.6930259839421403E-4,2.3521274415467799E-3,6.120324318390125,0.15305654993163972,1.3384159701102822E-3,-1.926644671323843E-3,null,null,5.3542218447569727,{"$f":"'Site&Soil'!$G$173*EXP('Site&Soil'!$G$174*Z143)","v":0},0.79087499999999999,0.36787944117144206,1.6157267669046738E-2,0,0,6.1060119238773216E-4,2.4969480315159606E-8,9.8656469044476918E-10,1.0570903916078577E-10,3.4051332922379051E-4,5.3545623580861967,0.28041450495142084,7.3802037312824861E-4,7.5915359188497998E-4,null,null,5.2828802814418392,{"$f":"'Site&Soil'!$H$173*EXP('Site&Soil'!$H$174*AR143)","v":0},0.72675000000000001,0.60037304119840451,3.1109897719123768E-2,0,0,1.6619795146858047E-3,6.7963779457859164E-8,5.1704012713154342E-9,5.4840218350598153E-10,6.5052743405163238E-9,5.2828802879471137,0.42360824926556478,1.5426445867482406E-3,-1.1071540607086234E-3,null,null,null,null,null,null,null,null,null,null,null,null,null,null,null,null,null,null,null,null,null,null,{"$error":"#VALUE!"},{"$f":"'Site&Soil'!$F$173*EXP('Site&Soil'!$F$174*CD143)","v":{"$error":"#VALUE!"}},{"$error":"#VALUE!"},0,{"$error":"#VALUE!"},0,0,{"$error":"#VALUE!"},{"$error":"#VALUE!"},{"$error":"#VALUE!"},{"$error":"#VALUE!"},{"$error":"#VALUE!"},{"$error":"#VALUE!"},{"$error":"#VALUE!"},{"$error":"#VALUE!"},{"$error":"#VALUE!"},null,null,{"$error":"#VALUE!"},{"$f":"'Site&Soil'!$G$173*EXP('Site&Soil'!$G$174*CV143)","v":{"$error":"#VALUE!"}},{"$error":"#VALUE!"},0,{"$error":"#VALUE!"},0,0,{"$error":"#VALUE!"},{"$error":"#VALUE!"},{"$error":"#VALUE!"},{"$error":"#VALUE!"},{"$error":"#VALUE!"},{"$error":"#VALUE!"},{"$error":"#VALUE!"},{"$error":"#VALUE!"},{"$error":"#VALUE!"},null,null,{"$error":"#VALUE!"},{"$f":"'Site&Soil'!$H$173*EXP('Site&Soil'!$H$174*DN143)","v":{"$error":"#VALUE!"}},{"$error":"#VALUE!"},0,{"$error":"#VALUE!"},0,0,{"$error":"#VALUE!"},{"$error":"#VALUE!"},{"$error":"#VALUE!"},{"$error":"#VALUE!"},{"$error":"#VALUE!"},{"$error":"#VALUE!"},{"$error":"#VALUE!"},{"$error":"#VALUE!"},{"$error":"#VALUE!"}]
[null,136,"Apr",null,null,null,null,6.1183976737188015,{"$f":"'Site&Soil'!$F$173*EXP('Site&Soil'!$F$174*H144)","v":0},0.69468750000000001,0.36787944117144233,2.6846323531035513E-3,0,0,12383.375459373736,0.50639673427253296,3.3244810398863288E-3,4.705251649046383E-4,4.1082585694743184E-3,6.1225059322882762,0.15457208983651163,2.3841991514503007E-3,-3.4320455621416834E-3,null,null,5.3553215116780821,{"$f":"'Site&Soil'!$G$173*EXP('Site&Soil'!$G$174*Z144)","v":0},0.79087499999999999,0.52729242404304844,2.3099699939658897E-2,0,0,5.8647583740437353E-4,2.3982915624714837E-8,1.3547415865901209E-9,1.451832363047149E-10,5.9494404863346111E-4,5.3559164557267156,0.28148542692286621,1.0651822057018126E-3,1.6677944627766564E-3,null,null,5.2817731338864053,{"$f":"'Site&Soil'!$H$173*EXP('Site&Soil'!$H$174*AR144)","v":0},0.72675000000000001,0.72142229035475613,3.7478383686233963E-2,0,0,1.5355430353702329E-3,6.2793378186543727E-8,5.7549671046329926E-9,6.103156852398639E-10,7.2787542562061835E-9,5.2817731411651598,0.42280363034177981,1.8454462720436393E-3,-1.0736347662082238E-3,null,null,null,null,null,null,null,null,null,null,null,null,null,null,null,null,null,null,null,null,null,null,{"$error":"#VALUE!"},{"$f":"'Site&Soil'!$F$173*EXP('Site&Soil'!$F$174*CD144)","v":{"$error":"#VALUE!"}},{"$error":"#VALUE!"},0,{"$error":"#VALUE!"},0,0,{"$error":"#VALUE!"},{"$error":"#VALUE!"},{"$error":"#VALUE!"},{"$error":"#VALUE!"},{"$error":"#VALUE!"},{"$error":"#VALUE!"},{"$error":"#VALUE!"},{"$error":"#VALUE!"},{"$error":"#VALUE!"},null,null,{"$error":"#VALUE!"},{"$f":"'Site&Soil'!$G$173*EXP('Site&Soil'!$G$174*CV144)","v":{"$error":"#VALUE!"}},{"$error":"#VALUE!"},0,{"$error":"#VALUE!"},0,0,{"$error":"#VALUE!"},{"$error":"#VALUE!"},{"$error":"#VALUE!"},{"$error":"#VALUE!"},{"$error":"#VALUE!"},{"$error":"#VALUE!"},{"$error":"#VALUE!"},{"$error":"#VALUE!"},{"$error":"#VALUE!"},null,null,{"$error":"#VALUE!"},{"$f":"'Site&Soil'!$H$173*EXP('Site&Soil'!$H$174*DN144)","v":{"$error":"#VALUE!"}},{"$error":"#VALUE!"},0,{"$error":"#VALUE!"},0,0,{"$error":"#VALUE!"},{"$error":"#VALUE!"},{"$error":"#VALUE!"},{"$error":"#VALUE!"},{"$error":"#VALUE!"},{"$error":"#VALUE!"},{"$error":"#VALUE!"},{"$error":"#VALUE!"},{"$error":"#VALUE!"}]
[null,137,"May",null,null,null,null,6.1190738867261345,{"$f":"'Site&Soil'!$F$173*EXP('Site&Soil'!$F$174*H145)","v":0},0.69468750000000001,0.56978282473092301,4.1512904101420386E-3,0,0,12302.078930114672,0.50307225323264659,5.1069502287395471E-3,7.2313464099239009E-4,6.3104857763341899E-3,6.1253843725024684,0.15657170627280825,3.7653643881837046E-3,-5.4202276393107759E-3,null,null,5.3575842501894924,{"$f":"'Site&Soil'!$G$173*EXP('Site&Soil'!$G$174*Z145)","v":0},0.79087499999999999,0.69767632607103081,3.040392681742846E-2,0,0,5.5334712115924782E-4,2.2628174038124716E-8,1.6823925376360491E-9,1.8035950391912431E-10,9.1434947750962392E-4,5.3584985996670023,0.28352758001164041,1.4280647433857589E-3,2.9553338325246665E-3,null,null,5.2806995063989515,{"$f":"'Site&Soil'!$H$173*EXP('Site&Soil'!$H$174*AR145)","v":0},0.72675000000000001,0.83220750069030147,4.3341414051790025E-2,0,0,1.3948116412087111E-3,5.7038411081910733E-8,6.0453108865883537E-9,6.4101640753127787E-10,7.6844224051960096E-9,5.2806995140833735,0.42202337186009153,2.1196670212999336E-3,-9.5163712131293384E-4,null,null,null,null,null,null,null,null,null,null,null,null,null,null,null,null,null,null,null,null,null,null,{"$error":"#VALUE!"},{"$f":"'Site&Soil'!$F$173*EXP('Site&Soil'!$F$174*CD145)","v":{"$error":"#VALUE!"}},{"$error":"#VALUE!"},0,{"$error":"#VALUE!"},0,0,{"$error":"#VALUE!"},{"$error":"#VALUE!"},{"$error":"#VALUE!"},{"$error":"#VALUE!"},{"$error":"#VALUE!"},{"$error":"#VALUE!"},{"$error":"#VALUE!"},{"$error":"#VALUE!"},{"$error":"#VALUE!"},null,null,{"$error":"#VALUE!"},{"$f":"'Site&Soil'!$G$173*EXP('Site&Soil'!$G$174*CV145)","v":{"$error":"#VALUE!"}},{"$error":"#VALUE!"},0,{"$error":"#VALUE!"},0,0,{"$error":"#VALUE!"},{"$error":"#VALUE!"},{"$error":"#VALUE!"},{"$error":"#VALUE!"},{"$error":"#VALUE!"},{"$error":"#VALUE!"},{"$error":"#VALUE!"},{"$error":"#VALUE!"},{"$error":"#VALUE!"},null,null,{"$error":"#VALUE!"},{"$f":"'Site&Soil'!$H$173*EXP('Site&Soil'!$H$174*DN145)","v":{"$error":"#VALUE!"}},{"$error":"#VALUE!"},0,{"$error":"#VALUE!"},0,0,{"$error":"#VALUE!"},{"$error":"#VALUE!"},{"$error":"#VALUE!"},{"$error":"#VALUE!"},{"$error":"#VALUE!"},{"$error":"#VALUE!"},{"$error":"#VALUE!"},{"$error":"#VALUE!"},{"$error":"#VALUE!"}]
[null,138,"Jun",null,null,null,null,6.1199641448631574,{"$f":"'Site&Soil'!$F$173*EXP('Site&Soil'!$F$174*H146)","v":0},0.69468750000000001,0.77880078307140521,5.6620174285667473E-3,0,0,12177.194076294147,0.49796530300390707,6.8947485091017217E-3,9.768720785754575E-4,8.5187604937849958E-3,6.1284829053569423,0.1587242183151506,5.2547551176046698E-3,-7.5641998993859396E-3,null,null,5.3614539334995266,{"$f":"'Site&Soil'!$G$173*EXP('Site&Soil'!$G$174*Z146)","v":0},0.79087499999999999,0.85214378896621112,3.6803632464897644E-2,0,0,5.1220606108996346E-4,2.0945781500488668E-8,1.8851043618647927E-9,2.022126055682016E-10,1.2351809849435293E-3,5.3626891144844704,0.28684175341790552,1.7817401476478557E-3,4.3913576354756619E-3,null,null,5.2797478769620607,{"$f":"'Site&Soil'!$H$173*EXP('Site&Soil'!$H$174*AR146)","v":0},0.72675000000000001,0.92161044729772479,4.8103451767895766E-2,0,0,1.2469802090317136E-3,5.0993100195322381E-8,5.9984052340677622E-9,6.3596351241761398E-10,7.6569030990276583E-9,5.2797478846189634,0.42133177514683151,2.3384036861710819E-3,-7.6596290130474885E-4,null,null,null,null,null,null,null,null,null,null,null,null,null,null,null,null,null,null,null,null,null,null,{"$error":"#VALUE!"},{"$f":"'Site&Soil'!$F$173*EXP('Site&Soil'!$F$174*CD146)","v":{"$error":"#VALUE!"}},{"$error":"#VALUE!"},0,{"$error":"#VALUE!"},0,0,{"$error":"#VALUE!"},{"$error":"#VALUE!"},{"$error":"#VALUE!"},{"$error":"#VALUE!"},{"$error":"#VALUE!"},{"$error":"#VALUE!"},{"$error":"#VALUE!"},{"$error":"#VALUE!"},{"$error":"#VALUE!"},null,null,{"$error":"#VALUE!"},{"$f":"'Site&Soil'!$G$173*EXP('Site&Soil'!$G$174*CV146)","v":{"$error":"#VALUE!"}},{"$error":"#VALUE!"},0,{"$error":"#VALUE!"},0,0,{"$error":"#VALUE!"},{"$error":"#VALUE!"},{"$error":"#VALUE!"},{"$error":"#VALUE!"},{"$error":"#VALUE!"},{"$error":"#VALUE!"},{"$error":"#VALUE!"},{"$error":"#VALUE!"},{"$error":"#VALUE!"},null,null,{"$error":"#VALUE!"},{"$f":"'Site&Soil'!$H$173*EXP('Site&Soil'!$H$174*DN146)","v":{"$error":"#VALUE!"}},{"$error":"#VALUE!"},0,{"$error":"#VALUE!"},0,0,{"$error":"#VALUE!"},{"$error":"#VALUE!"},{"$error":"#VALUE!"},{"$error":"#VALUE!"},{"$error":"#VALUE!"},{"$error":"#VALUE!"},{"$error":"#VALUE!"},{"$error":"#VALUE!"},{"$error":"#VALUE!"}]
[null,139,"Jul",null,null,null,null,6.120918705457556,{"$f":"'Site&Soil'!$F$173*EXP('Site&Soil'!$F$174*H147)","v":0},0.69468750000000001,0.93941306281347592,6.8140495738353785E-3,0,0,12008.590580837532,0.49107055449480536,8.1827131529719523E-3,1.1601059257941829E-3,1.0109016251447981E-2,6.1310277217090041,0.16049207042472355,6.4467064673759625E-3,-9.2800093097629693E-3,null,null,5.3670804721199463,{"$f":"'Site&Soil'!$G$173*EXP('Site&Soil'!$G$174*Z147)","v":0},0.79087499999999999,0.96078943915232284,4.0957931697769338E-2,0,0,4.6610790619840462E-4,1.9060677138623874E-8,1.9090815785864536E-9,2.0496555644611751E-10,1.466865977442965E-3,5.3685473380973896,0.291474876017773,2.0690771523276998E-3,5.5351722017363842E-3,null,null,5.2789819217176586,{"$f":"'Site&Soil'!$H$173*EXP('Site&Soil'!$H$174*AR147)","v":0},0.72675000000000001,0.97979867385370423,5.1231407909288242E-2,0,0,1.1002958030241559E-3,4.4994694961254621E-8,5.6369703105608398E-9,5.9758360553444899E-10,7.2161709824183115E-9,5.2789819289338293,0.42077511685266034,2.4783853057766176E-3,-5.6320351351760276E-4,null,null,null,null,null,null,null,null,null,null,null,null,null,null,null,null,null,null,null,null,null,null,{"$error":"#VALUE!"},{"$f":"'Site&Soil'!$F$173*EXP('Site&Soil'!$F$174*CD147)","v":{"$error":"#VALUE!"}},{"$error":"#VALUE!"},0,{"$error":"#VALUE!"},0,0,{"$error":"#VALUE!"},{"$error":"#VALUE!"},{"$error":"#VALUE!"},{"$error":"#VALUE!"},{"$error":"#VALUE!"},{"$error":"#VALUE!"},{"$error":"#VALUE!"},{"$error":"#VALUE!"},{"$error":"#VALUE!"},null,null,{"$error":"#VALUE!"},{"$f":"'Site&Soil'!$G$173*EXP('Site&Soil'!$G$174*CV147)","v":{"$error":"#VALUE!"}},{"$error":"#VALUE!"},0,{"$error":"#VALUE!"},0,0,{"$error":"#VALUE!"},{"$error":"#VALUE!"},{"$error":"#VALUE!"},{"$error":"#VALUE!"},{"$error":"#VALUE!"},{"$error":"#VALUE!"},{"$error":"#VALUE!"},{"$error":"#VALUE!"},{"$error":"#VALUE!"},null,null,{"$error":"#VALUE!"},{"$f":"'Site&Soil'!$H$173*EXP('Site&Soil'!$H$174*DN147)","v":{"$error":"#VALUE!"}},{"$error":"#VALUE!"},0,{"$error":"#VALUE!"},0,0,{"$error":"#VALUE!"},{"$error":"#VALUE!"},{"$error":"#VALUE!"},{"$error":"#VALUE!"},{"$error":"#VALUE!"},{"$error":"#VALUE!"},{"$error":"#VALUE!"},{"$error":"#VALUE!"},{"$error":"#VALUE!"}]
[null,140,"Aug",null,null,null,null,6.121747712399241,{"$f":"'Site&Soil'!$F$173*EXP('Site&Soil'!$F$174*H148)","v":0},0.69468750000000001,1,7.2390822189154153E-3,0,0,11808.491325862728,0.48288784134183338,8.5482639589269799E-3,1.2126142855285675E-3,1.0559639655814178E-2,6.1323073520550553,0.16138101363074597,6.9208556474656471E-3,-9.9625452415160014E-3,null,null,5.3740825102991261,{"$f":"'Site&Soil'!$G$173*EXP('Site&Soil'!$G$174*Z148)","v":0},0.79087499999999999,1,4.1942604269748628E-2,0,0,4.1942341482985079E-4,1.7151595560037419E-8,1.7591710309675051E-9,1.890811849789372E-10,1.5332585498573272E-3,5.3756157688489834,0.29706512118843975,2.2308349124171194E-3,5.9301668848408757E-3,null,null,5.2784187254203117,{"$f":"'Site&Soil'!$H$173*EXP('Site&Soil'!$H$174*AR148)","v":0},0.72675000000000001,1,5.2355949958579624E-2,0,0,9.6244989074888089E-4,3.9357724650693779E-8,5.0389978317688837E-9,5.3415239653256992E-10,6.4587913590853124E-9,5.2784187318791034,0.42036581339313828,2.5237487758937166E-3,-4.0304625177378357E-4,null,null,null,null,null,null,null,null,null,null,null,null,null,null,null,null,null,null,null,null,null,null,{"$error":"#VALUE!"},{"$f":"'Site&Soil'!$F$173*EXP('Site&Soil'!$F$174*CD148)","v":{"$error":"#VALUE!"}},{"$error":"#VALUE!"},0,{"$error":"#VALUE!"},0,0,{"$error":"#VALUE!"},{"$error":"#VALUE!"},{"$error":"#VALUE!"},{"$error":"#VALUE!"},{"$error":"#VALUE!"},{"$error":"#VALUE!"},{"$error":"#VALUE!"},{"$error":"#VALUE!"},{"$error":"#VALUE!"},null,null,{"$error":"#VALUE!"},{"$f":"'Site&Soil'!$G$173*EXP('Site&Soil'!$G$174*CV148)","v":{"$error":"#VALUE!"}},{"$error":"#VALUE!"},0,{"$error":"#VALUE!"},0,0,{"$error":"#VALUE!"},{"$error":"#VALUE!"},{"$error":"#VALUE!"},{"$error":"#VALUE!"},{"$error":"#VALUE!"},{"$error":"#VALUE!"},{"$error":"#VALUE!"},{"$error":"#VALUE!"},{"$error":"#VALUE!"},null,null,{"$error":"#VALUE!"},{"$f":"'Site&Soil'!$H$173*EXP('Site&Soil'!$H$174*DN148)","v":{"$error":"#VALUE!"}},{"$error":"#VALUE!"},0,{"$error":"#VALUE!"},0,0,{"$error":"#VALUE!"},{"$error":"#VALUE!"},{"$error":"#VALUE!"},{"$error":"#VALUE!"},{"$error":"#VALUE!"},{"$error":"#VALUE!"},{"$error":"#VALUE!"},{"$error":"#VALUE!"},{"$error":"#VALUE!"}]
[null,141,"Sep",null,null,null,null,6.1223448068135395,{"$f":"'Site&Soil'!$F$173*EXP('Site&Soil'!$F$174*H149)","v":0},0.69468750000000001,{"$f":"K137","v":0.93941306281347592},6.7907369521857152E-3,0,0,11599.452927774924,0.47433957738290639,7.8768833621779971E-3,1.1178291530399499E-3,9.7296326897173876E-3,6.1320744395032571,0.16121921219241869,6.4915413676211791E-3,-9.3445489772324662E-3,null,null,5.3815459357338247,{"$f":"'Site&Soil'!$G$173*EXP('Site&Soil'!$G$174*Z149)","v":0},0.79087499999999999,{"$f":"AC137","v":0.96078943915232284},3.9606222907176997E-2,0,0,3.7640482110803556E-4,1.5392424529069914E-8,1.4907973248140939E-9,1.6042891395619884E-10,1.4134098099046763E-3,5.3829593455437292,0.30287297240689687,2.2225323242902294E-3,5.3978303060925551E-3,null,null,5.2780156856273299,{"$f":"'Site&Soil'!$H$173*EXP('Site&Soil'!$H$174*AR149)","v":0},0.72675000000000001,{"$f":"AU137","v":0.97979867385370423},5.1346206637526516E-2,0,0,8.3922673809683039E-4,3.4318726818924897E-8,4.3091109510057206E-9,4.5675769154802709E-10,5.5215440982647298E-9,5.278015691148874,0.42007290354244409,2.4687505350207721E-3,-3.387935476168458E-4,null,null,null,null,null,null,null,null,null,null,null,null,null,null,null,null,null,null,null,null,null,null,{"$error":"#VALUE!"},{"$f":"'Site&Soil'!$F$173*EXP('Site&Soil'!$F$174*CD149)","v":{"$error":"#VALUE!"}},{"$error":"#VALUE!"},{"$f":"CG137","v":0},{"$error":"#VALUE!"},0,0,{"$error":"#VALUE!"},{"$error":"#VALUE!"},{"$error":"#VALUE!"},{"$error":"#VALUE!"},{"$error":"#VALUE!"},{"$error":"#VALUE!"},{"$error":"#VALUE!"},{"$error":"#VALUE!"},{"$error":"#VALUE!"},null,null,{"$error":"#VALUE!"},{"$f":"'Site&Soil'!$G$173*EXP('Site&Soil'!$G$174*CV149)","v":{"$error":"#VALUE!"}},{"$error":"#VALUE!"},{"$f":"CY137","v":0},{"$error":"#VALUE!"},0,0,{"$error":"#VALUE!"},{"$error":"#VALUE!"},{"$error":"#VALUE!"},{"$error":"#VALUE!"},{"$error":"#VALUE!"},{"$error":"#VALUE!"},{"$error":"#VALUE!"},{"$error":"#VALUE!"},{"$error":"#VALUE!"},null,null,{"$error":"#VALUE!"},{"$f":"'Site&Soil'!$H$173*EXP('Site&Soil'!$H$174*DN149)","v":{"$error":"#VALUE!"}},{"$error":"#VALUE!"},{"$f":"DQ137","v":0},{"$error":"#VALUE!"},0,0,{"$error":"#VALUE!"},{"$error":"#VALUE!"},{"$error":"#VALUE!"},{"$error":"#VALUE!"},{"$error":"#VALUE!"},{"$error":"#VALUE!"},{"$error":"#VALUE!"},{"$error":"#VALUE!"},{"$error":"#VALUE!"}]
[null,142,"Oct",null,null,null,null,6.122729890526025,{"$f":"'Site&Soil'!$F$173*EXP('Site&Soil'!$F$174*H150)","v":0},0.69468750000000001,0.77880078307140521,5.6245108002740659E-3,0,0,11406.832404138117,0.46646269402072837,6.4157852053991025E-3,9.1071942420858714E-4,7.9245211425144606E-3,6.1306544116685391,0.160232736605988,5.3312867377859384E-3,-7.6743668740058488E-3,0.02,null,5.3883571758498219,{"$f":"'Site&Soil'!$G$173*EXP('Site&Soil'!$G$174*Z150)","v":0},0.79087499999999999,0.85214378896621112,3.4576751109217915E-2,0,0,3.3994901134946117E-4,1.3901627204255819E-8,1.1754332355255014E-9,1.2663314059906256E-10,1.1515352906700579E-3,5.3895087111404916,0.30805270192323625,2.0353852191394451E-3,4.1674114349884534E-3,0.02,null,5.2776768976012569,{"$f":"'Site&Soil'!$H$173*EXP('Site&Soil'!$H$174*AR150)","v":0},0.72675000000000001,0.92161044729772479,4.8334779059386615E-2,0,0,7.3385216675592451E-4,3.0009615867919173E-8,3.5470582342399757E-9,3.7596494013635188E-10,4.5376352730687126E-9,5.2776769021388921,0.41982668862943967,2.3189657525866094E-3,-3.9020369239375896E-4,0.02,null,{"$f":"BJ138+1","v":12},{"$f":"AVERAGE(H145:H150)","v":6.1211298577976088},{"$f":"AVERAGE(Z145:Z150)","v":5.3716840462819562},{"$f":"AVERAGE(AR145:AR150)","v":5.2789234356212615},null,null,null,null,null,null,null,null,null,null,null,null,null,null,null,null,{"$error":"#VALUE!"},{"$f":"'Site&Soil'!$F$173*EXP('Site&Soil'!$F$174*CD150)","v":{"$error":"#VALUE!"}},{"$error":"#VALUE!"},0,{"$error":"#VALUE!"},0,0,{"$error":"#VALUE!"},{"$error":"#VALUE!"},{"$error":"#VALUE!"},{"$error":"#VALUE!"},{"$error":"#VALUE!"},{"$error":"#VALUE!"},{"$error":"#VALUE!"},{"$error":"#VALUE!"},{"$error":"#VALUE!"},{"$error":"#VALUE!"},null,{"$error":"#VALUE!"},{"$f":"'Site&Soil'!$G$173*EXP('Site&Soil'!$G$174*CV150)","v":{"$error":"#VALUE!"}},{"$error":"#VALUE!"},0,{"$error":"#VALUE!"},0,0,{"$error":"#VALUE!"},{"$error":"#VALUE!"},{"$error":"#VALUE!"},{"$error":"#VALUE!"},{"$error":"#VALUE!"},{"$error":"#VALUE!"},{"$error":"#VALUE!"},{"$error":"#VALUE!"},{"$error":"#VALUE!"},{"$error":"#VALUE!"},null,{"$error":"#VALUE!"},{"$f":"'Site&Soil'!$H$173*EXP('Site&Soil'!$H$174*DN150)","v":{"$error":"#VALUE!"}},{"$error":"#VALUE!"},0,{"$error":"#VALUE!"},0,0,{"$error":"#VALUE!"},{"$error":"#VALUE!"},{"$error":"#VALUE!"},{"$error":"#VALUE!"},{"$error":"#VALUE!"},{"$error":"#VALUE!"},{"$error":"#VALUE!"},{"$error":"#VALUE!"},{"$error":"#VALUE!"},{"$error":"#VALUE!"},null,{"$f":"EF138+1","v":12},{"$f":"AVERAGE(CD145:CD150)","v":{"$error":"#VALUE!"}},{"$f":"AVERAGE(CV145:CV150)","v":{"$error":"#VALUE!"}},{"$f":"AVERAGE(DN145:DN150)","v":{"$error":"#VALUE!"}}]
[null,143,"Nov",null,null,null,null,6.1429800447945331,{"$f":"'Site&Soil'!$F$173*EXP('Site&Soil'!$F$174*H151)","v":0},0.69468750000000001,0.56978282473092301,3.9193039206904491E-3,0,0,11249.941429753604,0.46004690881532928,4.4091939553171219E-3,6.3471291418415649E-4,5.4333510263722398E-3,6.1484133958209055,0.17256968090933505,4.3761000820772304E-3,-6.2993793354238136E-3,null,null,5.4136761225754793,{"$f":"'Site&Soil'!$G$173*EXP('Site&Soil'!$G$174*Z151)","v":0},0.79087499999999999,0.69767632607103081,2.6693351568550679E-2,0,0,3.1120508371760354E-4,1.2726193968730318E-8,8.3071067095942395E-10,8.9880734674108437E-11,8.0254611033866638E-4,5.4144786686858177,0.32780081709689607,1.8782036793637963E-3,3.1583959572795122E-3,null,null,5.2972866984464977,{"$f":"'Site&Soil'!$H$173*EXP('Site&Soil'!$H$174*AR151)","v":0},0.72675000000000001,0.83220750069030147,4.1707408674365502E-2,0,0,6.4711275688599944E-4,2.6462557633679196E-8,2.6989396209839712E-9,2.8681706001788285E-10,3.4427289929689667E-9,5.2972867018892265,0.43407811059799523,2.2650939168884139E-3,-5.3235670798020994E-4,null,null,null,null,null,null,null,null,null,null,null,null,null,null,null,null,null,null,null,null,null,null,{"$error":"#VALUE!"},{"$f":"'Site&Soil'!$F$173*EXP('Site&Soil'!$F$174*CD151)","v":{"$error":"#VALUE!"}},{"$error":"#VALUE!"},0,{"$error":"#VALUE!"},0,0,{"$error":"#VALUE!"},{"$error":"#VALUE!"},{"$error":"#VALUE!"},{"$error":"#VALUE!"},{"$error":"#VALUE!"},{"$error":"#VALUE!"},{"$error":"#VALUE!"},{"$error":"#VALUE!"},{"$error":"#VALUE!"},null,null,{"$error":"#VALUE!"},{"$f":"'Site&Soil'!$G$173*EXP('Site&Soil'!$G$174*CV151)","v":{"$error":"#VALUE!"}},{"$error":"#VALUE!"},0,{"$error":"#VALUE!"},0,0,{"$error":"#VALUE!"},{"$error":"#VALUE!"},{"$error":"#VALUE!"},{"$error":"#VALUE!"},{"$error":"#VALUE!"},{"$error":"#VALUE!"},{"$error":"#VALUE!"},{"$error":"#VALUE!"},{"$error":"#VALUE!"},null,null,{"$error":"#VALUE!"},{"$f":"'Site&Soil'!$H$173*EXP('Site&Soil'!$H$174*DN151)","v":{"$error":"#VALUE!"}},{"$error":"#VALUE!"},0,{"$error":"#VALUE!"},0,0,{"$error":"#VALUE!"},{"$error":"#VALUE!"},{"$error":"#VALUE!"},{"$error":"#VALUE!"},{"$error":"#VALUE!"},{"$error":"#VALUE!"},{"$error":"#VALUE!"},{"$error":"#VALUE!"},{"$error":"#VALUE!"}]
[null,144,"Dec",null,null,null,null,6.1421140164854817,{"$f":"'Site&Soil'!$F$173*EXP('Site&Soil'!$F$174*H152)","v":0},0.69468750000000001,0.36787944117144233,2.5357761139721529E-3,0,0,11142.119438562586,0.45563771486001214,2.8253920331331823E-3,4.0647384991288776E-4,3.4820234756207571E-3,6.1455960399611023,0.17061249901047798,2.7753157627540331E-3,-3.9950564286157925E-3,null,null,5.4176370646430971,{"$f":"'Site&Soil'!$G$173*EXP('Site&Soil'!$G$174*Z152)","v":0},0.79087499999999999,0.52729242404304844,1.9989725051142816E-2,0,0,2.9089096745187239E-4,1.1895483297770894E-8,5.8148304592238627E-10,6.2958626288553972E-11,5.1395526276251928E-4,5.41815101990586,0.33070518786804703,1.4442539345633704E-3,1.6830242809428326E-3,null,null,5.2967543451812462,{"$f":"'Site&Soil'!$H$173*EXP('Site&Soil'!$H$174*AR152)","v":0},0.72675000000000001,0.72142229035475613,3.6199856497810302E-2,0,0,5.8111315537427786E-4,2.3763618012695225E-8,2.1036212833538602E-9,2.2353625702019871E-10,2.6736066771547517E-9,5.2967543478548533,0.43369122230351453,1.9594064670741991E-3,-7.0884421398118838E-4,null,null,null,null,null,null,null,null,null,null,null,null,null,null,null,null,null,null,null,null,null,null,{"$error":"#VALUE!"},{"$f":"'Site&Soil'!$F$173*EXP('Site&Soil'!$F$174*CD152)","v":{"$error":"#VALUE!"}},{"$error":"#VALUE!"},0,{"$error":"#VALUE!"},0,0,{"$error":"#VALUE!"},{"$error":"#VALUE!"},{"$error":"#VALUE!"},{"$error":"#VALUE!"},{"$error":"#VALUE!"},{"$error":"#VALUE!"},{"$error":"#VALUE!"},{"$error":"#VALUE!"},{"$error":"#VALUE!"},null,null,{"$error":"#VALUE!"},{"$f":"'Site&Soil'!$G$173*EXP('Site&Soil'!$G$174*CV152)","v":{"$error":"#VALUE!"}},{"$error":"#VALUE!"},0,{"$error":"#VALUE!"},0,0,{"$error":"#VALUE!"},{"$error":"#VALUE!"},{"$error":"#VALUE!"},{"$error":"#VALUE!"},{"$error":"#VALUE!"},{"$error":"#VALUE!"},{"$error":"#VALUE!"},{"$error":"#VALUE!"},{"$error":"#VALUE!"},null,null,{"$error":"#VALUE!"},{"$f":"'Site&Soil'!$H$173*EXP('Site&Soil'!$H$174*DN152)","v":{"$error":"#VALUE!"}},{"$error":"#VALUE!"},0,{"$error":"#VALUE!"},0,0,{"$error":"#VALUE!"},{"$error":"#VALUE!"},{"$error":"#VALUE!"},{"$error":"#VALUE!"},{"$error":"#VALUE!"},{"$error":"#VALUE!"},{"$error":"#VALUE!"},{"$error":"#VALUE!"},{"$error":"#VALUE!"}]
[{"$f":"A141+1","v":13},145,"Jan",{"$f":"OFFSET(Apply_Lime!$H$16,$A153,0)","v":0},{"$f":"OFFSET(Apply_Lime!$I$16,$A153,0)*E$7","v":0},{"$f":"OFFSET(Apply_Lime!$I$16,$A153,0)*F$7","v":0},null,6.1416009835324861,{"$f":"'Site&Soil'!$F$173*EXP('Site&Soil'!$F$174*H153)","v":0},0.69468750000000001,4.6770622383959001E-2,3.227862991219537E-4,0,0,11073.027582319726,0.45281232282687894,3.5742215933722991E-4,5.140188059545071E-5,4.4051502113076629E-4,6.1420414985536169,0.1681432035264655,3.4490061218516235E-4,-4.9648311245727378E-4,null,null,5.4198340441868025,{"$f":"'Site&Soil'!$G$173*EXP('Site&Soil'!$G$174*Z153)","v":0},0.79087499999999999,0.14085842092104497,5.3127912510395536E-3,0,0,2.766714387827916E-4,1.1314000251848508E-8,1.4698975993777406E-10,1.592111646159307E-11,6.4993850689545356E-5,5.4198990380374923,0.33208765170790172,3.8898654614885039E-4,-5.5743238771851484E-5,null,null,5.2960455036408725,{"$f":"'Site&Soil'!$H$173*EXP('Site&Soil'!$H$174*AR153)","v":0},0.72675000000000001,0.36787944117144233,1.8489966109101103E-2,0,0,5.296714093813409E-4,2.1659996729341364E-8,9.79360640842081E-10,1.0405940091970769E-10,1.2263121518871225E-9,5.2960455048671848,0.43317607066222646,9.9635815658237047E-4,-8.3573665006332317E-4,null,null,null,null,null,null,null,null,null,null,null,null,null,null,null,null,null,null,{"$f":"OFFSET(Apply_Lime!$O$16,$A153,0)","v":0},{"$f":"OFFSET(Apply_Lime!$P$16,$A153,0)*CA$7","v":0},{"$f":"OFFSET(Apply_Lime!$P$16,$A153,0)*CB$7","v":0},null,{"$error":"#VALUE!"},{"$f":"'Site&Soil'!$F$173*EXP('Site&Soil'!$F$174*CD153)","v":{"$error":"#VALUE!"}},{"$error":"#VALUE!"},0,{"$error":"#VALUE!"},0,0,{"$error":"#VALUE!"},{"$error":"#VALUE!"},{"$error":"#VALUE!"},{"$error":"#VALUE!"},{"$error":"#VALUE!"},{"$error":"#VALUE!"},{"$error":"#VALUE!"},{"$error":"#VALUE!"},{"$error":"#VALUE!"},null,null,{"$error":"#VALUE!"},{"$f":"'Site&Soil'!$G$173*EXP('Site&Soil'!$G$174*CV153)","v":{"$error":"#VALUE!"}},{"$error":"#VALUE!"},0,{"$error":"#VALUE!"},0,0,{"$error":"#VALUE!"},{"$error":"#VALUE!"},{"$error":"#VALUE!"},{"$error":"#VALUE!"},{"$error":"#VALUE!"},{"$error":"#VALUE!"},{"$error":"#VALUE!"},{"$error":"#VALUE!"},{"$error":"#VALUE!"},null,null,{"$error":"#VALUE!"},{"$f":"'Site&Soil'!$H$173*EXP('Site&Soil'!$H$174*DN153)","v":{"$error":"#VALUE!"}},{"$error":"#VALUE!"},0,{"$error":"#VALUE!"},0,0,{"$error":"#VALUE!"},{"$error":"#VALUE!"},{"$error":"#VALUE!"},{"$error":"#VALUE!"},{"$error":"#VALUE!"},{"$error":"#VALUE!"},{"$error":"#VALUE!"},{"$error":"#VALUE!"},{"$error":"#VALUE!"}]
[null,146,"Feb",null,null,null,null,6.1415450154411593,{"$f":"'Site&Soil'!$F$173*EXP('Site&Soil'!$F$174*H154)","v":0},0.69468750000000001,0.1053992245618643,7.2750819781240554E-4,0,0,11064.287216324019,0.45245490066754174,8.0493596528267259E-4,1.1575554836797808E-4,9.9207257495592563E-4,6.1425370880161152,0.16848748333119479,7.7972623529777606E-4,-1.1224129343017919E-3,null,null,5.4198432947987207,{"$f":"'Site&Soil'!$G$173*EXP('Site&Soil'!$G$174*Z154)","v":0},0.79087499999999999,0.23692775868212174,8.9360698422387818E-3,0,0,2.7307696578800119E-4,1.1167010491910733E-8,2.4402348385882294E-10,2.6431315079417025E-11,1.4636417380767741E-4,5.4199896589725283,0.3321593215398983,6.5456390003913116E-4,1.5825804995561233E-4,null,null,5.2952097682171217,{"$f":"'Site&Soil'!$H$173*EXP('Site&Soil'!$H$174*AR154)","v":0},0.72675000000000001,0.47965226883004436,2.4154502040287622E-2,0,0,5.0572222151167078E-4,2.0680636088499284E-8,1.2215468431322441E-9,1.2977757854433016E-10,1.5386316885687389E-9,5.2952097697557532,0.43256870016999349,1.2947662322128841E-3,-8.8091136178018975E-4,null,null,null,null,null,null,null,null,null,null,null,null,null,null,null,null,null,null,null,null,null,null,{"$error":"#VALUE!"},{"$f":"'Site&Soil'!$F$173*EXP('Site&Soil'!$F$174*CD154)","v":{"$error":"#VALUE!"}},{"$error":"#VALUE!"},0,{"$error":"#VALUE!"},0,0,{"$error":"#VALUE!"},{"$error":"#VALUE!"},{"$error":"#VALUE!"},{"$error":"#VALUE!"},{"$error":"#VALUE!"},{"$error":"#VALUE!"},{"$error":"#VALUE!"},{"$error":"#VALUE!"},{"$error":"#VALUE!"},null,null,{"$error":"#VALUE!"},{"$f":"'Site&Soil'!$G$173*EXP('Site&Soil'!$G$174*CV154)","v":{"$error":"#VALUE!"}},{"$error":"#VALUE!"},0,{"$error":"#VALUE!"},0,0,{"$error":"#VALUE!"},{"$error":"#VALUE!"},{"$error":"#VALUE!"},{"$error":"#VALUE!"},{"$error":"#VALUE!"},{"$error":"#VALUE!"},{"$error":"#VALUE!"},{"$error":"#VALUE!"},{"$error":"#VALUE!"},null,null,{"$error":"#VALUE!"},{"$f":"'Site&Soil'!$H$173*EXP('Site&Soil'!$H$174*DN154)","v":{"$error":"#VALUE!"}},{"$error":"#VALUE!"},0,{"$error":"#VALUE!"},0,0,{"$error":"#VALUE!"},{"$error":"#VALUE!"},{"$error":"#VALUE!"},{"$error":"#VALUE!"},{"$error":"#VALUE!"},{"$error":"#VALUE!"},{"$error":"#VALUE!"},{"$error":"#VALUE!"},{"$error":"#VALUE!"}]
[null,147,"Mar",null,null,null,null,6.1414146750818137,{"$f":"'Site&Soil'!$F$173*EXP('Site&Soil'!$F$174*H155)","v":0},0.69468750000000001,0.20961138715109778,1.4472769941173539E-3,0,0,11044.603392151716,0.45164996470225904,1.5984600398611666E-3,2.2984897281193813E-4,1.9701103979116196E-3,6.143384785479725,0.16907636816294622,1.5591308609627238E-3,-2.244362912766854E-3,null,null,5.4201479170224838,{"$f":"'Site&Soil'!$G$173*EXP('Site&Soil'!$G$174*Z155)","v":0},0.79087499999999999,0.36787944117144206,1.3865289738351822E-2,0,0,2.6710963974299964E-4,1.0922987008051911E-8,3.7035525469434648E-10,4.011705566673242E-11,2.9062658833587751E-4,5.4204385436108193,0.33251433317820672,1.0184845192621624E-3,6.8360530007973623E-4,null,null,5.2943288583939729,{"$f":"'Site&Soil'!$H$173*EXP('Site&Soil'!$H$174*AR155)","v":0},0.72675000000000001,0.60037304119840451,3.0295575314090661E-2,0,0,4.758506362980539E-4,1.9459089245367039E-8,1.4416168790225657E-9,1.5313966962531668E-10,1.8281310836793691E-9,5.2943288602221044,0.43192849916641424,1.6149604952409768E-3,-8.207443769918327E-4,null,null,null,null,null,null,null,null,null,null,null,null,null,null,null,null,null,null,null,null,null,null,{"$error":"#VALUE!"},{"$f":"'Site&Soil'!$F$173*EXP('Site&Soil'!$F$174*CD155)","v":{"$error":"#VALUE!"}},{"$error":"#VALUE!"},0,{"$error":"#VALUE!"},0,0,{"$error":"#VALUE!"},{"$error":"#VALUE!"},{"$error":"#VALUE!"},{"$error":"#VALUE!"},{"$error":"#VALUE!"},{"$error":"#VALUE!"},{"$error":"#VALUE!"},{"$error":"#VALUE!"},{"$error":"#VALUE!"},null,null,{"$error":"#VALUE!"},{"$f":"'Site&Soil'!$G$173*EXP('Site&Soil'!$G$174*CV155)","v":{"$error":"#VALUE!"}},{"$error":"#VALUE!"},0,{"$error":"#VALUE!"},0,0,{"$error":"#VALUE!"},{"$error":"#VALUE!"},{"$error":"#VALUE!"},{"$error":"#VALUE!"},{"$error":"#VALUE!"},{"$error":"#VALUE!"},{"$error":"#VALUE!"},{"$error":"#VALUE!"},{"$error":"#VALUE!"},null,null,{"$error":"#VALUE!"},{"$f":"'Site&Soil'!$H$173*EXP('Site&Soil'!$H$174*DN155)","v":{"$error":"#VALUE!"}},{"$error":"#VALUE!"},0,{"$error":"#VALUE!"},0,0,{"$error":"#VALUE!"},{"$error":"#VALUE!"},{"$error":"#VALUE!"},{"$error":"#VALUE!"},{"$error":"#VALUE!"},{"$error":"#VALUE!"},{"$error":"#VALUE!"},{"$error":"#VALUE!"},{"$error":"#VALUE!"}]
[null,148,"Apr",null,null,null,null,6.1411404225669584,{"$f":"'Site&Soil'!$F$173*EXP('Site&Soil'!$F$174*H156)","v":0},0.69468750000000001,0.36787944117144233,2.5417282374295639E-3,0,0,11005.514809049295,0.45005150466239785,2.797302775760983E-3,4.0215803626701533E-4,3.4478016942783162E-3,6.1445882242612369,0.16991238204147774,2.7575206333465699E-3,-3.9694404078763042E-3,null,null,5.4211221489108992,{"$f":"'Site&Soil'!$G$173*EXP('Site&Soil'!$G$174*Z156)","v":0},0.79087499999999999,0.52729242404304844,1.9828622631820499E-2,0,0,2.5805300911756624E-4,1.0552631753357564E-8,5.1168357367979559E-10,5.5435367009492685E-11,5.0849817292899883E-4,5.4216306470838278,0.33345713801242233,1.4679869575259003E-3,1.6305151583001988E-3,null,null,5.2935081158451123,{"$f":"'Site&Soil'!$H$173*EXP('Site&Soil'!$H$174*AR156)","v":0},0.72675000000000001,0.72142229035475613,3.6473165681033898E-2,0,0,4.4059748027770062E-4,1.8017472366344473E-8,1.6069984896814639E-9,1.7068888510923657E-10,2.0526246598991679E-9,5.293508117897737,0.43133202468218024,1.9342356289388219E-3,-6.4155303943986468E-4,null,null,null,null,null,null,null,null,null,null,null,null,null,null,null,null,null,null,null,null,null,null,{"$error":"#VALUE!"},{"$f":"'Site&Soil'!$F$173*EXP('Site&Soil'!$F$174*CD156)","v":{"$error":"#VALUE!"}},{"$error":"#VALUE!"},0,{"$error":"#VALUE!"},0,0,{"$error":"#VALUE!"},{"$error":"#VALUE!"},{"$error":"#VALUE!"},{"$error":"#VALUE!"},{"$error":"#VALUE!"},{"$error":"#VALUE!"},{"$error":"#VALUE!"},{"$error":"#VALUE!"},{"$error":"#VALUE!"},null,null,{"$error":"#VALUE!"},{"$f":"'Site&Soil'!$G$173*EXP('Site&Soil'!$G$174*CV156)","v":{"$error":"#VALUE!"}},{"$error":"#VALUE!"},0,{"$error":"#VALUE!"},0,0,{"$error":"#VALUE!"},{"$error":"#VALUE!"},{"$error":"#VALUE!"},{"$error":"#VALUE!"},{"$error":"#VALUE!"},{"$error":"#VALUE!"},{"$error":"#VALUE!"},{"$error":"#VALUE!"},{"$error":"#VALUE!"},null,null,{"$error":"#VALUE!"},{"$f":"'Site&Soil'!$H$173*EXP('Site&Soil'!$H$174*DN156)","v":{"$error":"#VALUE!"}},{"$error":"#VALUE!"},0,{"$error":"#VALUE!"},0,0,{"$error":"#VALUE!"},{"$error":"#VALUE!"},{"$error":"#VALUE!"},{"$error":"#VALUE!"},{"$error":"#VALUE!"},{"$error":"#VALUE!"},{"$error":"#VALUE!"},{"$error":"#VALUE!"},{"$error":"#VALUE!"}]
[null,149,"May",null,null,null,null,6.1406187838533608,{"$f":"'Site&Soil'!$F$173*EXP('Site&Soil'!$F$174*H157)","v":0},0.69468750000000001,0.56978282473092301,3.9416535408494406E-3,0,0,10937.109844717212,0.44725420188663689,4.3110297746088875E-3,6.1955456754730388E-4,5.3138644456127157E-3,6.1459326482989738,0.17084633661519311,4.3077220481425506E-3,-6.2009494170293129E-3,null,null,5.4232611622421283,{"$f":"'Site&Soil'!$G$173*EXP('Site&Soil'!$G$174*Z157)","v":0},0.79087499999999999,0.69767632607103081,2.6105857127437088E-2,0,0,2.4554034981226177E-4,1.0040948179677768E-8,6.4100412912198299E-10,6.9472239560898262E-11,7.8337934449716252E-4,5.4240445415866256,0.33536622682732253,1.9643453937117764E-3,2.9630177391253665E-3,null,null,5.2928665648582971,{"$f":"'Site&Soil'!$H$173*EXP('Site&Soil'!$H$174*AR157)","v":0},0.72675000000000001,0.83220750069030147,4.2136755199518774E-2,0,0,4.0130009877116382E-4,1.6410473876663008E-8,1.6909484023463234E-9,1.7959019010234532E-10,2.1752053000411094E-9,5.292866567033502,0.43086577759159744,2.2255645423098999E-3,-3.5943467299363386E-4,null,null,null,null,null,null,null,null,null,null,null,null,null,null,null,null,null,null,null,null,null,null,{"$error":"#VALUE!"},{"$f":"'Site&Soil'!$F$173*EXP('Site&Soil'!$F$174*CD157)","v":{"$error":"#VALUE!"}},{"$error":"#VALUE!"},0,{"$error":"#VALUE!"},0,0,{"$error":"#VALUE!"},{"$error":"#VALUE!"},{"$error":"#VALUE!"},{"$error":"#VALUE!"},{"$error":"#VALUE!"},{"$error":"#VALUE!"},{"$error":"#VALUE!"},{"$error":"#VALUE!"},{"$error":"#VALUE!"},null,null,{"$error":"#VALUE!"},{"$f":"'Site&Soil'!$G$173*EXP('Site&Soil'!$G$174*CV157)","v":{"$error":"#VALUE!"}},{"$error":"#VALUE!"},0,{"$error":"#VALUE!"},0,0,{"$error":"#VALUE!"},{"$error":"#VALUE!"},{"$error":"#VALUE!"},{"$error":"#VALUE!"},{"$error":"#VALUE!"},{"$error":"#VALUE!"},{"$error":"#VALUE!"},{"$error":"#VALUE!"},{"$error":"#VALUE!"},null,null,{"$error":"#VALUE!"},{"$f":"'Site&Soil'!$H$173*EXP('Site&Soil'!$H$174*DN157)","v":{"$error":"#VALUE!"}},{"$error":"#VALUE!"},0,{"$error":"#VALUE!"},0,0,{"$error":"#VALUE!"},{"$error":"#VALUE!"},{"$error":"#VALUE!"},{"$error":"#VALUE!"},{"$error":"#VALUE!"},{"$error":"#VALUE!"},{"$error":"#VALUE!"},{"$error":"#VALUE!"},{"$error":"#VALUE!"}]
[null,150,"Jun",null,null,null,null,6.1397316988819446,{"$f":"'Site&Soil'!$F$173*EXP('Site&Soil'!$F$174*H158)","v":0},0.69468750000000001,0.77880078307140521,5.399121070674349E-3,0,0,10831.688350654435,0.44294317211202799,5.8481596804996249E-3,8.3993973642348908E-4,7.2093134597587209E-3,6.1469410123417036,0.17154683451112701,5.9258424462159407E-3,-8.5302275429109363E-3,null,null,5.4270075593257507,{"$f":"'Site&Soil'!$G$173*EXP('Site&Soil'!$G$174*Z158)","v":0},0.79087499999999999,0.85214378896621112,3.160957500032327E-2,0,0,2.2986529848451287E-4,9.3999440505557853E-9,7.2659443924179043E-10,7.8801299913359309E-11,1.062039366798329E-3,5.4280695986925487,0.33854954386596942,2.4445825907976814E-3,4.4017826526546663E-3,null,null,5.292507132360508,{"$f":"'Site&Soil'!$H$173*EXP('Site&Soil'!$H$174*AR158)","v":0},0.72675000000000001,0.92161044729772479,4.6702327926991284E-2,0,0,3.5994981443577287E-4,1.4719525474316685E-8,1.6810494271039127E-9,1.7853022000622795E-10,2.1758796106103115E-9,5.2925071345363879,0.43060456002431979,2.4611220327635415E-3,-2.275809008030279E-5,null,null,null,null,null,null,null,null,null,null,null,null,null,null,null,null,null,null,null,null,null,null,{"$error":"#VALUE!"},{"$f":"'Site&Soil'!$F$173*EXP('Site&Soil'!$F$174*CD158)","v":{"$error":"#VALUE!"}},{"$error":"#VALUE!"},0,{"$error":"#VALUE!"},0,0,{"$error":"#VALUE!"},{"$error":"#VALUE!"},{"$error":"#VALUE!"},{"$error":"#VALUE!"},{"$error":"#VALUE!"},{"$error":"#VALUE!"},{"$error":"#VALUE!"},{"$error":"#VALUE!"},{"$error":"#VALUE!"},null,null,{"$error":"#VALUE!"},{"$f":"'Site&Soil'!$G$173*EXP('Site&Soil'!$G$174*CV158)","v":{"$error":"#VALUE!"}},{"$error":"#VALUE!"},0,{"$error":"#VALUE!"},0,0,{"$error":"#VALUE!"},{"$error":"#VALUE!"},{"$error":"#VALUE!"},{"$error":"#VALUE!"},{"$error":"#VALUE!"},{"$error":"#VALUE!"},{"$error":"#VALUE!"},{"$error":"#VALUE!"},{"$error":"#VALUE!"},null,null,{"$error":"#VALUE!"},{"$f":"'Site&Soil'!$H$173*EXP('Site&Soil'!$H$174*DN158)","v":{"$error":"#VALUE!"}},{"$error":"#VALUE!"},0,{"$error":"#VALUE!"},0,0,{"$error":"#VALUE!"},{"$error":"#VALUE!"},{"$error":"#VALUE!"},{"$error":"#VALUE!"},{"$error":"#VALUE!"},{"$error":"#VALUE!"},{"$error":"#VALUE!"},{"$error":"#VALUE!"},{"$error":"#VALUE!"}]
[null,151,"Jul",null,null,null,null,6.1384107847987925,{"$f":"'Site&Soil'!$F$173*EXP('Site&Soil'!$F$174*H159)","v":0},0.69468750000000001,0.93941306281347592,6.5333263569246338E-3,0,0,10688.678034495833,0.43709501243152837,6.9832621923453025E-3,1.0020432413740978E-3,8.6099418097651172E-3,6.1470207266085577,0.17160221101588219,7.1515503519215514E-3,-1.0294629386481765E-2,null,null,5.432471381345203,{"$f":"'Site&Soil'!$G$173*EXP('Site&Soil'!$G$174*Z159)","v":0},0.79087499999999999,0.96078943915232284,3.5190326528761397E-2,0,0,2.1209723021142288E-4,8.6733496113139944E-9,7.4637707869858473E-10,8.1026660601970055E-11,1.2670066783303502E-3,5.4337383880235333,0.34303284762811187,2.8294519121988648E-3,5.4649577236891888E-3,null,null,5.2924843764463079,{"$f":"'Site&Soil'!$H$173*EXP('Site&Soil'!$H$174*AR159)","v":0},0.72675000000000001,0.97979867385370423,4.9653616423179239E-2,0,0,3.1884159865808284E-4,1.3038476047212773E-8,1.5831638439521708E-9,1.6813409529593341E-10,2.0585571506820881E-9,5.2924843785048648,0.43058802207841035,2.6162736695206036E-3,2.9333091527796525E-4,null,null,null,null,null,null,null,null,null,null,null,null,null,null,null,null,null,null,null,null,null,null,{"$error":"#VALUE!"},{"$f":"'Site&Soil'!$F$173*EXP('Site&Soil'!$F$174*CD159)","v":{"$error":"#VALUE!"}},{"$error":"#VALUE!"},0,{"$error":"#VALUE!"},0,0,{"$error":"#VALUE!"},{"$error":"#VALUE!"},{"$error":"#VALUE!"},{"$error":"#VALUE!"},{"$error":"#VALUE!"},{"$error":"#VALUE!"},{"$error":"#VALUE!"},{"$error":"#VALUE!"},{"$error":"#VALUE!"},null,null,{"$error":"#VALUE!"},{"$f":"'Site&Soil'!$G$173*EXP('Site&Soil'!$G$174*CV159)","v":{"$error":"#VALUE!"}},{"$error":"#VALUE!"},0,{"$error":"#VALUE!"},0,0,{"$error":"#VALUE!"},{"$error":"#VALUE!"},{"$error":"#VALUE!"},{"$error":"#VALUE!"},{"$error":"#VALUE!"},{"$error":"#VALUE!"},{"$error":"#VALUE!"},{"$error":"#VALUE!"},{"$error":"#VALUE!"},null,null,{"$error":"#VALUE!"},{"$f":"'Site&Soil'!$H$173*EXP('Site&Soil'!$H$174*DN159)","v":{"$error":"#VALUE!"}},{"$error":"#VALUE!"},0,{"$error":"#VALUE!"},0,0,{"$error":"#VALUE!"},{"$error":"#VALUE!"},{"$error":"#VALUE!"},{"$error":"#VALUE!"},{"$error":"#VALUE!"},{"$error":"#VALUE!"},{"$error":"#VALUE!"},{"$error":"#VALUE!"},{"$error":"#VALUE!"}]
[null,152,"Aug",null,null,null,null,6.1367260972220761,{"$f":"'Site&Soil'!$F$173*EXP('Site&Soil'!$F$174*H160)","v":0},0.69468750000000001,1,6.9829493627006425E-3,0,0,10517.910034217772,0.43011175023918308,7.3446033170383685E-3,1.0526561308013974E-3,9.0572339163105288E-3,6.1457833311383867,0.17074260785019776,7.5531001197472816E-3,-1.0872658741876429E-2,null,null,5.4392033457472229,{"$f":"'Site&Soil'!$G$173*EXP('Site&Soil'!$G$174*Z160)","v":0},0.79087499999999999,1,3.6058240573075932E-2,0,0,1.9384539923729014E-4,7.9269725326154089E-9,6.9897240396821583E-10,7.5973878541845268E-11,1.3310026917021311E-3,5.4405343484389252,0.34840760282163502,3.0382392636315969E-3,5.7086908248657302E-3,null,null,5.2927777094201431,{"$f":"'Site&Soil'!$H$173*EXP('Site&Soil'!$H$174*AR160)","v":0},0.72675000000000001,1,5.0642935755503632E-2,0,0,2.8012706721164957E-4,1.1455312203260603E-8,1.4186457068177218E-9,1.5066799545633488E-10,1.8492625936060987E-9,5.2927777112694061,0.43080120166504077,2.6733425897475273E-3,5.0209380651402766E-4,null,null,null,null,null,null,null,null,null,null,null,null,null,null,null,null,null,null,null,null,null,null,{"$error":"#VALUE!"},{"$f":"'Site&Soil'!$F$173*EXP('Site&Soil'!$F$174*CD160)","v":{"$error":"#VALUE!"}},{"$error":"#VALUE!"},0,{"$error":"#VALUE!"},0,0,{"$error":"#VALUE!"},{"$error":"#VALUE!"},{"$error":"#VALUE!"},{"$error":"#VALUE!"},{"$error":"#VALUE!"},{"$error":"#VALUE!"},{"$error":"#VALUE!"},{"$error":"#VALUE!"},{"$error":"#VALUE!"},null,null,{"$error":"#VALUE!"},{"$f":"'Site&Soil'!$G$173*EXP('Site&Soil'!$G$174*CV160)","v":{"$error":"#VALUE!"}},{"$error":"#VALUE!"},0,{"$error":"#VALUE!"},0,0,{"$error":"#VALUE!"},{"$error":"#VALUE!"},{"$error":"#VALUE!"},{"$error":"#VALUE!"},{"$error":"#VALUE!"},{"$error":"#VALUE!"},{"$error":"#VALUE!"},{"$error":"#VALUE!"},{"$error":"#VALUE!"},null,null,{"$error":"#VALUE!"},{"$f":"'Site&Soil'!$H$173*EXP('Site&Soil'!$H$174*DN160)","v":{"$error":"#VALUE!"}},{"$error":"#VALUE!"},0,{"$error":"#VALUE!"},0,0,{"$error":"#VALUE!"},{"$error":"#VALUE!"},{"$error":"#VALUE!"},{"$error":"#VALUE!"},{"$error":"#VALUE!"},{"$error":"#VALUE!"},{"$error":"#VALUE!"},{"$error":"#VALUE!"},{"$error":"#VALUE!"}]
[null,153,"Sep",null,null,null,null,6.1349106723965106,{"$f":"'Site&Soil'!$F$173*EXP('Site&Soil'!$F$174*H161)","v":0},0.69468750000000001,0.93941306281347592,6.5885970259829292E-3,0,0,10338.305833954309,0.42276714692214473,6.8114931071293332E-3,9.7501778207439267E-4,8.4015839137093155E-3,6.14331225631022,0.16902598305550573,6.9842909314994763E-3,-1.005386009032763E-2,null,null,5.4462430392637913,{"$f":"'Site&Soil'!$G$173*EXP('Site&Soil'!$G$174*Z161)","v":0},0.79087499999999999,0.96078943915232284,3.4082450612466543E-2,0,0,1.7675279747216669E-4,7.2280001286471931E-9,6.0241684904604228E-10,6.5564484919758661E-11,1.2328349219873644E-3,5.4474758741857787,0.35389748199667775,3.0128781478673062E-3,5.0215429538576512E-3,null,null,5.2932798050759198,{"$f":"'Site&Soil'!$H$173*EXP('Site&Soil'!$H$174*AR161)","v":0},0.72675000000000001,0.97979867385370423,4.9562190001085152E-2,0,0,2.4543564595556791E-4,1.0036666496442881E-8,1.2164328117888924E-9,1.2920060325500797E-10,1.5862355603077306E-9,5.2932798066621549,0.43116609949172097,2.6245887383396123E-3,5.3428195325448073E-4,null,null,null,null,null,null,null,null,null,null,null,null,null,null,null,null,null,null,null,null,null,null,{"$error":"#VALUE!"},{"$f":"'Site&Soil'!$F$173*EXP('Site&Soil'!$F$174*CD161)","v":{"$error":"#VALUE!"}},{"$error":"#VALUE!"},0,{"$error":"#VALUE!"},0,0,{"$error":"#VALUE!"},{"$error":"#VALUE!"},{"$error":"#VALUE!"},{"$error":"#VALUE!"},{"$error":"#VALUE!"},{"$error":"#VALUE!"},{"$error":"#VALUE!"},{"$error":"#VALUE!"},{"$error":"#VALUE!"},null,null,{"$error":"#VALUE!"},{"$f":"'Site&Soil'!$G$173*EXP('Site&Soil'!$G$174*CV161)","v":{"$error":"#VALUE!"}},{"$error":"#VALUE!"},0,{"$error":"#VALUE!"},0,0,{"$error":"#VALUE!"},{"$error":"#VALUE!"},{"$error":"#VALUE!"},{"$error":"#VALUE!"},{"$error":"#VALUE!"},{"$error":"#VALUE!"},{"$error":"#VALUE!"},{"$error":"#VALUE!"},{"$error":"#VALUE!"},null,null,{"$error":"#VALUE!"},{"$f":"'Site&Soil'!$H$173*EXP('Site&Soil'!$H$174*DN161)","v":{"$error":"#VALUE!"}},{"$error":"#VALUE!"},0,{"$error":"#VALUE!"},0,0,{"$error":"#VALUE!"},{"$error":"#VALUE!"},{"$error":"#VALUE!"},{"$error":"#VALUE!"},{"$error":"#VALUE!"},{"$error":"#VALUE!"},{"$error":"#VALUE!"},{"$error":"#VALUE!"},{"$error":"#VALUE!"}]
[null,154,"Oct",null,null,null,null,6.1332583962198921,{"$f":"'Site&Soil'!$F$173*EXP('Site&Soil'!$F$174*H162)","v":0},0.69468750000000001,0.77880078307140521,5.4838978578839615E-3,0,0,10171.738257831032,0.41595565381501542,5.5780773643075935E-3,7.9754907706439083E-4,6.8815521903635843E-3,6.1401399484102557,0.16682222041124925,5.6730972091281516E-3,-8.1664017405353503E-3,0.02,null,5.4524974171396368,{"$f":"'Site&Soil'!$G$173*EXP('Site&Soil'!$G$174*Z162)","v":0},0.79087499999999999,0.85214378896621112,2.9792362019044619E-2,0,0,1.6202135566003369E-4,6.6255832796011508E-9,4.8269988826401076E-10,5.2596866481259721E-11,1.0084393958178126E-3,5.4535058565354548,0.35866644428747785,2.7460566150035795E-3,3.7010154501338037E-3,0.02,null,5.2938140886154095,{"$f":"'Site&Soil'!$H$173*EXP('Site&Soil'!$H$174*AR162)","v":0},0.72675000000000001,0.92161044729772479,4.6561118502546905E-2,0,0,2.156891187566452E-4,8.8202336846539887E-9,1.0042726618138071E-9,1.0667418308717802E-10,1.307458335339372E-9,5.2938140899228676,0.4315543898514439,2.4739847477246754E-3,3.7436789443261658E-4,0.02,null,{"$f":"BJ150+1","v":13},{"$f":"AVERAGE(H157:H162)","v":6.1372760722287625},{"$f":"AVERAGE(Z157:Z162)","v":5.4367806508439562},{"$f":"AVERAGE(AR157:AR162)","v":5.2929549461294307},null,null,null,null,null,null,null,null,null,null,null,null,null,null,null,null,{"$error":"#VALUE!"},{"$f":"'Site&Soil'!$F$173*EXP('Site&Soil'!$F$174*CD162)","v":{"$error":"#VALUE!"}},{"$error":"#VALUE!"},0,{"$error":"#VALUE!"},0,0,{"$error":"#VALUE!"},{"$error":"#VALUE!"},{"$error":"#VALUE!"},{"$error":"#VALUE!"},{"$error":"#VALUE!"},{"$error":"#VALUE!"},{"$error":"#VALUE!"},{"$error":"#VALUE!"},{"$error":"#VALUE!"},{"$error":"#VALUE!"},null,{"$error":"#VALUE!"},{"$f":"'Site&Soil'!$G$173*EXP('Site&Soil'!$G$174*CV162)","v":{"$error":"#VALUE!"}},{"$error":"#VALUE!"},0,{"$error":"#VALUE!"},0,0,{"$error":"#VALUE!"},{"$error":"#VALUE!"},{"$error":"#VALUE!"},{"$error":"#VALUE!"},{"$error":"#VALUE!"},{"$error":"#VALUE!"},{"$error":"#VALUE!"},{"$error":"#VALUE!"},{"$error":"#VALUE!"},{"$error":"#VALUE!"},null,{"$error":"#VALUE!"},{"$f":"'Site&Soil'!$H$173*EXP('Site&Soil'!$H$174*DN162)","v":{"$error":"#VALUE!"}},{"$error":"#VALUE!"},0,{"$error":"#VALUE!"},0,0,{"$error":"#VALUE!"},{"$error":"#VALUE!"},{"$error":"#VALUE!"},{"$error":"#VALUE!"},{"$error":"#VALUE!"},{"$error":"#VALUE!"},{"$error":"#VALUE!"},{"$error":"#VALUE!"},{"$error":"#VALUE!"},{"$error":"#VALUE!"},null,{"$f":"EF150+1","v":13},{"$f":"AVERAGE(CD157:CD162)","v":{"$error":"#VALUE!"}},{"$f":"AVERAGE(CV157:CV162)","v":{"$error":"#VALUE!"}},{"$f":"AVERAGE(DN157:DN162)","v":{"$error":"#VALUE!"}}]
[null,155,"Nov",null,null,null,null,6.1519735466697201,{"$f":"'Site&Soil'!$F$173*EXP('Site&Soil'!$F$174*H163)","v":0},0.69468750000000001,0.56978282473092301,3.835283502959762E-3,0,0,10035.332507815907,0.41037757645070783,3.8488345213942171E-3,5.5758760703777878E-4,4.7377373486012604E-3,6.1567112840183214,0.17833412011647737,4.6095133944116101E-3,-6.635376906035606E-3,null,null,5.4772068719855884,{"$f":"'Site&Soil'!$G$173*EXP('Site&Soil'!$G$174*Z163)","v":0},0.79087499999999999,0.69767632607103081,2.3030668673701401E-2,0,0,1.5021746052007405E-4,6.1428833913371401E-9,3.4596085622426463E-10,3.787880557825888E-11,7.0502660359706587E-4,5.4779118985891859,0.37796857279672241,2.5062337603342544E-3,2.6594337083323608E-3,null,null,5.3141884578173002,{"$f":"'Site&Soil'!$H$173*EXP('Site&Soil'!$H$174*AR163)","v":0},0.72675000000000001,0.83220750069030147,4.0105384527438018E-2,0,0,1.9113073479966642E-4,7.8159610228401817E-9,7.6653716141524015E-10,8.1650857926420257E-11,9.9451683394162888E-10,5.3141884588118167,0.44636146244148767,2.421624358359872E-3,1.1642160574390424E-4,null,null,null,null,null,null,null,null,null,null,null,null,null,null,null,null,null,null,null,null,null,null,{"$error":"#VALUE!"},{"$f":"'Site&Soil'!$F$173*EXP('Site&Soil'!$F$174*CD163)","v":{"$error":"#VALUE!"}},{"$error":"#VALUE!"},0,{"$error":"#VALUE!"},0,0,{"$error":"#VALUE!"},{"$error":"#VALUE!"},{"$error":"#VALUE!"},{"$error":"#VALUE!"},{"$error":"#VALUE!"},{"$error":"#VALUE!"},{"$error":"#VALUE!"},{"$error":"#VALUE!"},{"$error":"#VALUE!"},null,null,{"$error":"#VALUE!"},{"$f":"'Site&Soil'!$G$173*EXP('Site&Soil'!$G$174*CV163)","v":{"$error":"#VALUE!"}},{"$error":"#VALUE!"},0,{"$error":"#VALUE!"},0,0,{"$error":"#VALUE!"},{"$error":"#VALUE!"},{"$error":"#VALUE!"},{"$error":"#VALUE!"},{"$error":"#VALUE!"},{"$error":"#VALUE!"},{"$error":"#VALUE!"},{"$error":"#VALUE!"},{"$error":"#VALUE!"},null,null,{"$error":"#VALUE!"},{"$f":"'Site&Soil'!$H$173*EXP('Site&Soil'!$H$174*DN163)","v":{"$error":"#VALUE!"}},{"$error":"#VALUE!"},0,{"$error":"#VALUE!"},0,0,{"$error":"#VALUE!"},{"$error":"#VALUE!"},{"$error":"#VALUE!"},{"$error":"#VALUE!"},{"$error":"#VALUE!"},{"$error":"#VALUE!"},{"$error":"#VALUE!"},{"$error":"#VALUE!"},{"$error":"#VALUE!"}]
[null,156,"Dec",null,null,null,null,6.1500759071122859,{"$f":"'Site&Soil'!$F$173*EXP('Site&Soil'!$F$174*H164)","v":0},0.69468750000000001,0.36787944117144233,2.4875981398303887E-3,0,0,9941.2134905835137,0.4065287419293136,2.4729744186832315E-3,3.5778046035192925E-4,3.0448136152317444E-3,6.153120720727518,0.17583980068039745,2.9103379446161035E-3,-4.1894203431270946E-3,null,null,5.4805713322975187,{"$f":"'Site&Soil'!$G$173*EXP('Site&Soil'!$G$174*Z164)","v":0},0.79087499999999999,0.52729242404304844,1.7270594033585294E-2,0,0,1.417573680926892E-4,5.7969225351128755E-9,2.4482339555983529E-10,2.6823462651442982E-11,4.523858743187762E-4,5.4810237181718371,0.38042963310915168,1.9202138073938055E-3,1.2519350557576078E-3,null,null,5.314304880417561,{"$f":"'Site&Soil'!$H$173*EXP('Site&Soil'!$H$174*AR164)","v":0},0.72675000000000001,0.72142229035475613,3.4757091658264246E-2,0,0,1.7238591116449089E-4,7.0494238614249419E-9,5.991632914937607E-10,6.382338912832662E-11,7.7353060201840672E-10,5.3143048811910916,0.44644607240562567,2.1002134950916405E-3,-2.4767758885151016E-4,null,null,null,null,null,null,null,null,null,null,null,null,null,null,null,null,null,null,null,null,null,null,{"$error":"#VALUE!"},{"$f":"'Site&Soil'!$F$173*EXP('Site&Soil'!$F$174*CD164)","v":{"$error":"#VALUE!"}},{"$error":"#VALUE!"},0,{"$error":"#VALUE!"},0,0,{"$error":"#VALUE!"},{"$error":"#VALUE!"},{"$error":"#VALUE!"},{"$error":"#VALUE!"},{"$error":"#VALUE!"},{"$error":"#VALUE!"},{"$error":"#VALUE!"},{"$error":"#VALUE!"},{"$error":"#VALUE!"},null,null,{"$error":"#VALUE!"},{"$f":"'Site&Soil'!$G$173*EXP('Site&Soil'!$G$174*CV164)","v":{"$error":"#VALUE!"}},{"$error":"#VALUE!"},0,{"$error":"#VALUE!"},0,0,{"$error":"#VALUE!"},{"$error":"#VALUE!"},{"$error":"#VALUE!"},{"$error":"#VALUE!"},{"$error":"#VALUE!"},{"$error":"#VALUE!"},{"$error":"#VALUE!"},{"$error":"#VALUE!"},{"$error":"#VALUE!"},null,null,{"$error":"#VALUE!"},{"$f":"'Site&Soil'!$H$173*EXP('Site&Soil'!$H$174*DN164)","v":{"$error":"#VALUE!"}},{"$error":"#VALUE!"},0,{"$error":"#VALUE!"},0,0,{"$error":"#VALUE!"},{"$error":"#VALUE!"},{"$error":"#VALUE!"},{"$error":"#VALUE!"},{"$error":"#VALUE!"},{"$error":"#VALUE!"},{"$error":"#VALUE!"},{"$error":"#VALUE!"},{"$error":"#VALUE!"}]
[{"$f":"A153+1","v":14},157,"Jan",{"$f":"OFFSET(Apply_Lime!$H$16,$A165,0)","v":0},{"$f":"OFFSET(Apply_Lime!$I$16,$A165,0)*E$7","v":0},{"$f":"OFFSET(Apply_Lime!$I$16,$A165,0)*F$7","v":0},null,6.1489313003843913,{"$f":"'Site&Soil'!$F$173*EXP('Site&Soil'!$F$174*H165)","v":0},0.69468750000000001,4.6770622383959001E-2,3.1713627114216041E-4,0,0,9880.7396196925929,0.40405576751063038,3.1335409191159174E-4,4.5298021218918345E-5,3.8586568880636746E-4,6.1493171660731978,0.17319751880647435,3.6127006843588106E-4,-5.200468821389201E-4,null,null,5.4822756532275951,{"$f":"'Site&Soil'!$G$173*EXP('Site&Soil'!$G$174*Z165)","v":0},0.79087499999999999,0.14085842092104497,4.5953410748684744E-3,0,0,1.3577048108637493E-4,5.5520991395530406E-9,6.2391166849087203E-11,6.8380779827726054E-12,5.7275899190146627E-5,5.4823329291267857,0.38146505532314667,5.1590591180347169E-4,-1.9552501137043229E-4,null,null,5.31405720360224,{"$f":"'Site&Soil'!$H$173*EXP('Site&Soil'!$H$174*AR165)","v":0},0.72675000000000001,0.36787944117144233,1.7734081187825684E-2,0,0,1.5773403152569309E-4,6.4502605699311809E-9,2.7972681211596976E-10,2.9795700650455978E-11,3.5331157818821659E-10,5.3140572039555511,0.44626607297469667,1.0699330260155787E-3,-7.6233521047417547E-4,null,null,null,null,null,null,null,null,null,null,null,null,null,null,null,null,null,null,{"$f":"OFFSET(Apply_Lime!$O$16,$A165,0)","v":0},{"$f":"OFFSET(Apply_Lime!$P$16,$A165,0)*CA$7","v":0},{"$f":"OFFSET(Apply_Lime!$P$16,$A165,0)*CB$7","v":0},null,{"$error":"#VALUE!"},{"$f":"'Site&Soil'!$F$173*EXP('Site&Soil'!$F$174*CD165)","v":{"$error":"#VALUE!"}},{"$error":"#VALUE!"},0,{"$error":"#VALUE!"},0,0,{"$error":"#VALUE!"},{"$error":"#VALUE!"},{"$error":"#VALUE!"},{"$error":"#VALUE!"},{"$error":"#VALUE!"},{"$error":"#VALUE!"},{"$error":"#VALUE!"},{"$error":"#VALUE!"},{"$error":"#VALUE!"},null,null,{"$error":"#VALUE!"},{"$f":"'Site&Soil'!$G$173*EXP('Site&Soil'!$G$174*CV165)","v":{"$error":"#VALUE!"}},{"$error":"#VALUE!"},0,{"$error":"#VALUE!"},0,0,{"$error":"#VALUE!"},{"$error":"#VALUE!"},{"$error":"#VALUE!"},{"$error":"#VALUE!"},{"$error":"#VALUE!"},{"$error":"#VALUE!"},{"$error":"#VALUE!"},{"$error":"#VALUE!"},{"$error":"#VALUE!"},null,null,{"$error":"#VALUE!"},{"$f":"'Site&Soil'!$H$173*EXP('Site&Soil'!$H$174*DN165)","v":{"$error":"#VALUE!"}},{"$error":"#VALUE!"},0,{"$error":"#VALUE!"},0,0,{"$error":"#VALUE!"},{"$error":"#VALUE!"},{"$error":"#VALUE!"},{"$error":"#VALUE!"},{"$error":"#VALUE!"},{"$error":"#VALUE!"},{"$error":"#VALUE!"},{"$error":"#VALUE!"},{"$error":"#VALUE!"}]
[null,158,"Feb",null,null,null,null,6.1487971191910589,{"$f":"'Site&Soil'!$F$173*EXP('Site&Soil'!$F$174*H166)","v":0},0.69468750000000001,0.1053992245618643,7.1490876219981747E-4,0,0,9873.0768898421593,0.4037424134187188,7.0583491784206821E-4,1.0202477469473989E-4,8.6918239229484952E-4,6.1496663015833537,0.17344005888118577,8.1593042853569302E-4,-1.1745287320351857E-3,null,null,5.4821374041154156,{"$f":"'Site&Soil'!$G$173*EXP('Site&Soil'!$G$174*Z166)","v":0},0.79087499999999999,0.23692775868212174,7.7319755249575023E-3,0,0,1.3424477368711497E-4,5.4897079727039532E-9,1.0379773045022318E-10,1.1375924243575328E-11,1.2900251887661905E-4,5.4822664066342925,0.38141244434689614,8.6751543656297318E-4,-6.522523537509741E-5,null,null,5.3132948687450767,{"$f":"'Site&Soil'!$H$173*EXP('Site&Soil'!$H$174*AR166)","v":0},0.72675000000000001,0.47965226883004436,2.3163117414747355E-2,0,0,1.5089361983650255E-4,6.1705337578152113E-9,3.4951666334091597E-10,3.72255212685801E-11,4.4536232035213099E-10,5.3132948691904387,0.44571204618415122,1.3908354261723062E-3,-7.2008254504208192E-4,null,null,null,null,null,null,null,null,null,null,null,null,null,null,null,null,null,null,null,null,null,null,{"$error":"#VALUE!"},{"$f":"'Site&Soil'!$F$173*EXP('Site&Soil'!$F$174*CD166)","v":{"$error":"#VALUE!"}},{"$error":"#VALUE!"},0,{"$error":"#VALUE!"},0,0,{"$error":"#VALUE!"},{"$error":"#VALUE!"},{"$error":"#VALUE!"},{"$error":"#VALUE!"},{"$error":"#VALUE!"},{"$error":"#VALUE!"},{"$error":"#VALUE!"},{"$error":"#VALUE!"},{"$error":"#VALUE!"},null,null,{"$error":"#VALUE!"},{"$f":"'Site&Soil'!$G$173*EXP('Site&Soil'!$G$174*CV166)","v":{"$error":"#VALUE!"}},{"$error":"#VALUE!"},0,{"$error":"#VALUE!"},0,0,{"$error":"#VALUE!"},{"$error":"#VALUE!"},{"$error":"#VALUE!"},{"$error":"#VALUE!"},{"$error":"#VALUE!"},{"$error":"#VALUE!"},{"$error":"#VALUE!"},{"$error":"#VALUE!"},{"$error":"#VALUE!"},null,null,{"$error":"#VALUE!"},{"$f":"'Site&Soil'!$H$173*EXP('Site&Soil'!$H$174*DN166)","v":{"$error":"#VALUE!"}},{"$error":"#VALUE!"},0,{"$error":"#VALUE!"},0,0,{"$error":"#VALUE!"},{"$error":"#VALUE!"},{"$error":"#VALUE!"},{"$error":"#VALUE!"},{"$error":"#VALUE!"},{"$error":"#VALUE!"},{"$error":"#VALUE!"},{"$error":"#VALUE!"},{"$error":"#VALUE!"}]
[null,159,"Mar",null,null,null,null,6.1484917728513189,{"$f":"'Site&Soil'!$F$173*EXP('Site&Soil'!$F$174*H167)","v":0},0.69468750000000001,0.20961138715109778,1.4228124381686958E-3,0,0,9855.8164728441498,0.40303657850087676,1.4022978265870582E-3,2.0265097121584811E-4,1.7268870612631004E-3,6.1502186599125821,0.17382377530802162,1.6283310717445717E-3,-2.343976351589127E-3,null,null,5.4822011813989171,{"$f":"'Site&Soil'!$G$173*EXP('Site&Soil'!$G$174*Z167)","v":0},0.79087499999999999,0.36787944117144206,1.2003714219441469E-2,0,0,1.3170651429284284E-4,5.3859102422537304E-9,1.5809673584100687E-10,1.7327157458490804E-11,2.5623658857016154E-4,5.4824574179874874,0.38156351045085413,1.3481237873752528E-3,3.5430034375763411E-4,null,null,5.3125747866453965,{"$f":"'Site&Soil'!$H$173*EXP('Site&Soil'!$H$174*AR167)","v":0},0.72675000000000001,0.60037304119840451,2.9041328659645486E-2,0,0,1.4234657405494598E-4,5.8210170944742955E-9,4.1339336407042508E-10,4.4024299297293973E-11,5.3208974507275113E-10,5.3125747871774864,0.44518872658123815,1.7359616556224071E-3,-5.3366063742298498E-4,null,null,null,null,null,null,null,null,null,null,null,null,null,null,null,null,null,null,null,null,null,null,{"$error":"#VALUE!"},{"$f":"'Site&Soil'!$F$173*EXP('Site&Soil'!$F$174*CD167)","v":{"$error":"#VALUE!"}},{"$error":"#VALUE!"},0,{"$error":"#VALUE!"},0,0,{"$error":"#VALUE!"},{"$error":"#VALUE!"},{"$error":"#VALUE!"},{"$error":"#VALUE!"},{"$error":"#VALUE!"},{"$error":"#VALUE!"},{"$error":"#VALUE!"},{"$error":"#VALUE!"},{"$error":"#VALUE!"},null,null,{"$error":"#VALUE!"},{"$f":"'Site&Soil'!$G$173*EXP('Site&Soil'!$G$174*CV167)","v":{"$error":"#VALUE!"}},{"$error":"#VALUE!"},0,{"$error":"#VALUE!"},0,0,{"$error":"#VALUE!"},{"$error":"#VALUE!"},{"$error":"#VALUE!"},{"$error":"#VALUE!"},{"$error":"#VALUE!"},{"$error":"#VALUE!"},{"$error":"#VALUE!"},{"$error":"#VALUE!"},{"$error":"#VALUE!"},null,null,{"$error":"#VALUE!"},{"$f":"'Site&Soil'!$H$173*EXP('Site&Soil'!$H$174*DN167)","v":{"$error":"#VALUE!"}},{"$error":"#VALUE!"},0,{"$error":"#VALUE!"},0,0,{"$error":"#VALUE!"},{"$error":"#VALUE!"},{"$error":"#VALUE!"},{"$error":"#VALUE!"},{"$error":"#VALUE!"},{"$error":"#VALUE!"},{"$error":"#VALUE!"},{"$error":"#VALUE!"},{"$error":"#VALUE!"}]
[null,160,"Apr",null,null,null,null,6.1478746835609925,{"$f":"'Site&Soil'!$F$173*EXP('Site&Soil'!$F$174*H168)","v":0},0.69468750000000001,0.36787944117144233,2.5008296838839469E-3,0,0,9821.5248210280351,0.40163428067428969,2.4561960813429878E-3,3.5479825757672994E-4,3.0249541322771144E-3,6.1508996376932696,0.17429684206004301,2.8700844410832782E-3,-4.1314755787073727E-3,null,null,5.482811718331245,{"$f":"'Site&Soil'!$G$173*EXP('Site&Soil'!$G$174*Z168)","v":0},0.79087499999999999,0.52729242404304844,1.7180872015552632E-2,0,0,1.2784043241213509E-4,5.2278135064127233E-9,2.1964101076857996E-10,2.4075280537079239E-11,4.4861508220952762E-4,5.4832603334134546,0.38219851618836592,1.9391029258504782E-3,1.177153804625004E-3,null,null,5.3120411265400636,{"$f":"'Site&Soil'!$H$173*EXP('Site&Soil'!$H$174*AR168)","v":0},0.72675000000000001,0.72142229035475613,3.4939927754918998E-2,0,0,1.3223749377611741E-4,5.4076237304038708E-9,4.6203684790290929E-10,4.9200898696270114E-11,6.0118504264701529E-10,5.3120411271412484,0.44480088914990218,2.0815954541503574E-3,-1.9606815039543068E-4,null,null,null,null,null,null,null,null,null,null,null,null,null,null,null,null,null,null,null,null,null,null,{"$error":"#VALUE!"},{"$f":"'Site&Soil'!$F$173*EXP('Site&Soil'!$F$174*CD168)","v":{"$error":"#VALUE!"}},{"$error":"#VALUE!"},0,{"$error":"#VALUE!"},0,0,{"$error":"#VALUE!"},{"$error":"#VALUE!"},{"$error":"#VALUE!"},{"$error":"#VALUE!"},{"$error":"#VALUE!"},{"$error":"#VALUE!"},{"$error":"#VALUE!"},{"$error":"#VALUE!"},{"$error":"#VALUE!"},null,null,{"$error":"#VALUE!"},{"$f":"'Site&Soil'!$G$173*EXP('Site&Soil'!$G$174*CV168)","v":{"$error":"#VALUE!"}},{"$error":"#VALUE!"},0,{"$error":"#VALUE!"},0,0,{"$error":"#VALUE!"},{"$error":"#VALUE!"},{"$error":"#VALUE!"},{"$error":"#VALUE!"},{"$error":"#VALUE!"},{"$error":"#VALUE!"},{"$error":"#VALUE!"},{"$error":"#VALUE!"},{"$error":"#VALUE!"},null,null,{"$error":"#VALUE!"},{"$f":"'Site&Soil'!$H$173*EXP('Site&Soil'!$H$174*DN168)","v":{"$error":"#VALUE!"}},{"$error":"#VALUE!"},0,{"$error":"#VALUE!"},0,0,{"$error":"#VALUE!"},{"$error":"#VALUE!"},{"$error":"#VALUE!"},{"$error":"#VALUE!"},{"$error":"#VALUE!"},{"$error":"#VALUE!"},{"$error":"#VALUE!"},{"$error":"#VALUE!"},{"$error":"#VALUE!"}]
[null,161,"May",null,null,null,null,6.1467681621145625,{"$f":"'Site&Soil'!$F$173*EXP('Site&Soil'!$F$174*H169)","v":0},0.69468750000000001,0.56978282473092301,3.8837018107653102E-3,0,0,9761.4612459324999,0.39917808459294668,3.7910604716543455E-3,5.4719101449786974E-4,4.6695376801172842E-3,6.1514376997946796,0.17467062707611622,4.4603294011699036E-3,-6.4206271181932936E-3,null,null,5.4844374872180799,{"$f":"'Site&Soil'!$G$173*EXP('Site&Soil'!$G$174*Z169)","v":0},0.79087499999999999,0.69767632607103081,2.2646760142305791E-2,0,0,1.2246935294312755E-4,5.0081724956441435E-9,2.7735340608864015E-10,3.0411247456415751E-11,6.9188084266164486E-4,5.4851293680607416,0.38367668896503898,2.5867161117428031E-3,2.3690384566803862E-3,null,null,5.311845058990853,{"$f":"'Site&Soil'!$H$173*EXP('Site&Soil'!$H$174*AR169)","v":0},0.72675000000000001,0.83220750069030147,4.0323796927411691E-2,0,0,1.2093889057349874E-4,4.9455868825009618E-9,4.8767152641122276E-10,5.1929229764779525E-11,6.4142214530837147E-10,5.311845059632275,0.44465839708775579,2.3994029225721382E-3,2.5774088637174402E-4,null,null,null,null,null,null,null,null,null,null,null,null,null,null,null,null,null,null,null,null,null,null,{"$error":"#VALUE!"},{"$f":"'Site&Soil'!$F$173*EXP('Site&Soil'!$F$174*CD169)","v":{"$error":"#VALUE!"}},{"$error":"#VALUE!"},0,{"$error":"#VALUE!"},0,0,{"$error":"#VALUE!"},{"$error":"#VALUE!"},{"$error":"#VALUE!"},{"$error":"#VALUE!"},{"$error":"#VALUE!"},{"$error":"#VALUE!"},{"$error":"#VALUE!"},{"$error":"#VALUE!"},{"$error":"#VALUE!"},null,null,{"$error":"#VALUE!"},{"$f":"'Site&Soil'!$G$173*EXP('Site&Soil'!$G$174*CV169)","v":{"$error":"#VALUE!"}},{"$error":"#VALUE!"},0,{"$error":"#VALUE!"},0,0,{"$error":"#VALUE!"},{"$error":"#VALUE!"},{"$error":"#VALUE!"},{"$error":"#VALUE!"},{"$error":"#VALUE!"},{"$error":"#VALUE!"},{"$error":"#VALUE!"},{"$error":"#VALUE!"},{"$error":"#VALUE!"},null,null,{"$error":"#VALUE!"},{"$f":"'Site&Soil'!$H$173*EXP('Site&Soil'!$H$174*DN169)","v":{"$error":"#VALUE!"}},{"$error":"#VALUE!"},0,{"$error":"#VALUE!"},0,0,{"$error":"#VALUE!"},{"$error":"#VALUE!"},{"$error":"#VALUE!"},{"$error":"#VALUE!"},{"$error":"#VALUE!"},{"$error":"#VALUE!"},{"$error":"#VALUE!"},{"$error":"#VALUE!"},{"$error":"#VALUE!"}]
[null,162,"Jun",null,null,null,null,6.1450170726764863,{"$f":"'Site&Soil'!$F$173*EXP('Site&Soil'!$F$174*H170)","v":0},0.69468750000000001,0.77880078307140521,5.330832807100715E-3,0,0,9668.7550295760157,0.39538702412129234,5.1542516515483867E-3,7.4303063319819493E-4,6.3499357888981622E-3,6.1513670084653844,0.17462151869329651,6.0938414281778343E-3,-8.7720614350738062E-3,null,null,5.4874984065174219,{"$f":"'Site&Soil'!$G$173*EXP('Site&Soil'!$G$174*Z170)","v":0},0.79087499999999999,0.85214378896621112,2.7464653968566448E-2,0,0,1.1568698028927201E-4,4.7308190895555036E-9,3.1773028823132231E-10,3.4860173787059651E-11,9.3950487253777074E-4,5.4884379113899593,0.38629333317053405,3.2052950085690265E-3,3.6523425567995043E-3,null,null,5.3121028005186464,{"$f":"'Site&Soil'!$H$173*EXP('Site&Soil'!$H$174*AR170)","v":0},0.72675000000000001,0.92161044729772479,4.4629061917667273E-2,0,0,1.09013419487925E-4,4.4579153560897388E-9,4.8651666481832407E-10,5.1808128162764308E-11,6.4612137659803153E-10,5.3121028011647677,0.44484571074649482,2.6598650183360436E-3,7.5050566251528433E-4,null,null,null,null,null,null,null,null,null,null,null,null,null,null,null,null,null,null,null,null,null,null,{"$error":"#VALUE!"},{"$f":"'Site&Soil'!$F$173*EXP('Site&Soil'!$F$174*CD170)","v":{"$error":"#VALUE!"}},{"$error":"#VALUE!"},0,{"$error":"#VALUE!"},0,0,{"$error":"#VALUE!"},{"$error":"#VALUE!"},{"$error":"#VALUE!"},{"$error":"#VALUE!"},{"$error":"#VALUE!"},{"$error":"#VALUE!"},{"$error":"#VALUE!"},{"$error":"#VALUE!"},{"$error":"#VALUE!"},null,null,{"$error":"#VALUE!"},{"$f":"'Site&Soil'!$G$173*EXP('Site&Soil'!$G$174*CV170)","v":{"$error":"#VALUE!"}},{"$error":"#VALUE!"},0,{"$error":"#VALUE!"},0,0,{"$error":"#VALUE!"},{"$error":"#VALUE!"},{"$error":"#VALUE!"},{"$error":"#VALUE!"},{"$error":"#VALUE!"},{"$error":"#VALUE!"},{"$error":"#VALUE!"},{"$error":"#VALUE!"},{"$error":"#VALUE!"},null,null,{"$error":"#VALUE!"},{"$f":"'Site&Soil'!$H$173*EXP('Site&Soil'!$H$174*DN170)","v":{"$error":"#VALUE!"}},{"$error":"#VALUE!"},0,{"$error":"#VALUE!"},0,0,{"$error":"#VALUE!"},{"$error":"#VALUE!"},{"$error":"#VALUE!"},{"$error":"#VALUE!"},{"$error":"#VALUE!"},{"$error":"#VALUE!"},{"$error":"#VALUE!"},{"$error":"#VALUE!"},{"$error":"#VALUE!"}]
[null,163,"Jul",null,null,null,null,6.1425949470303109,{"$f":"'Site&Soil'!$F$173*EXP('Site&Soil'!$F$174*H171)","v":0},0.69468750000000001,0.93941306281347592,6.4678356599588852E-3,0,0,9542.7134714587191,0.39023277246974397,6.1720702483470755E-3,8.8824229349658361E-4,7.6060501374366051E-3,6.1502009971677474,0.17381150521996927,7.2968616607033705E-3,-1.0503804459851905E-2,null,null,5.4920902539467589,{"$f":"'Site&Soil'!$G$173*EXP('Site&Soil'!$G$174*Z171)","v":0},0.79087499999999999,0.96078943915232284,3.0637429676784397E-2,0,0,1.0791723536855146E-4,4.4130888013241811E-9,3.3063067095169855E-10,3.6309701543233293E-11,1.1231137509942191E-3,5.493213367697753,0.39007012217796044,3.6896423862441295E-3,4.5610485531332274E-3,null,null,5.3128533068272832,{"$f":"'Site&Soil'!$H$173*EXP('Site&Soil'!$H$174*AR171)","v":0},0.72675000000000001,0.97979867385370423,4.7364374330555244E-2,0,0,9.7116189273076904E-5,3.971398691271415E-9,4.5998475422870685E-10,4.8987962940907003E-11,6.1548881022501979E-10,5.3128533074427722,0.44539114118403456,2.836166542306636E-3,1.1743733662710608E-3,null,null,null,null,null,null,null,null,null,null,null,null,null,null,null,null,null,null,null,null,null,null,{"$error":"#VALUE!"},{"$f":"'Site&Soil'!$F$173*EXP('Site&Soil'!$F$174*CD171)","v":{"$error":"#VALUE!"}},{"$error":"#VALUE!"},0,{"$error":"#VALUE!"},0,0,{"$error":"#VALUE!"},{"$error":"#VALUE!"},{"$error":"#VALUE!"},{"$error":"#VALUE!"},{"$error":"#VALUE!"},{"$error":"#VALUE!"},{"$error":"#VALUE!"},{"$error":"#VALUE!"},{"$error":"#VALUE!"},null,null,{"$error":"#VALUE!"},{"$f":"'Site&Soil'!$G$173*EXP('Site&Soil'!$G$174*CV171)","v":{"$error":"#VALUE!"}},{"$error":"#VALUE!"},0,{"$error":"#VALUE!"},0,0,{"$error":"#VALUE!"},{"$error":"#VALUE!"},{"$error":"#VALUE!"},{"$error":"#VALUE!"},{"$error":"#VALUE!"},{"$error":"#VALUE!"},{"$error":"#VALUE!"},{"$error":"#VALUE!"},{"$error":"#VALUE!"},null,null,{"$error":"#VALUE!"},{"$f":"'Site&Soil'!$H$173*EXP('Site&Soil'!$H$174*DN171)","v":{"$error":"#VALUE!"}},{"$error":"#VALUE!"},0,{"$error":"#VALUE!"},0,0,{"$error":"#VALUE!"},{"$error":"#VALUE!"},{"$error":"#VALUE!"},{"$error":"#VALUE!"},{"$error":"#VALUE!"},{"$error":"#VALUE!"},{"$error":"#VALUE!"},{"$error":"#VALUE!"},{"$error":"#VALUE!"}]
[null,164,"Aug",null,null,null,null,6.1396971927078958,{"$f":"'Site&Soil'!$F$173*EXP('Site&Soil'!$F$174*H172)","v":0},0.69468750000000001,1,6.9331846501174176E-3,0,0,9391.7822784353102,0.38406070222139688,6.5114960730092483E-3,9.3518860776010233E-4,8.0270732743127609E-3,6.1477242659822089,0.17209095102451549,7.646845235868836E-3,-1.1007604478083794E-2,null,null,5.4977744162508859,{"$f":"'Site&Soil'!$G$173*EXP('Site&Soil'!$G$174*Z172)","v":0},0.79087499999999999,1,3.1469018729731291E-2,0,0,9.9832025769675892E-5,4.0824581303724825E-9,3.1416158887729477E-10,3.454171644577001E-11,1.1824736998640427E-3,5.4989568899507502,0.39461253033979954,3.9366586769777993E-3,4.6912426854952257E-3,null,null,5.3140276808090432,{"$f":"'Site&Soil'!$H$173*EXP('Site&Soil'!$H$174*AR172)","v":0},0.72675000000000001,1,4.8209529245154946E-2,0,0,8.5867767765413199E-5,3.5114139370427083E-9,4.1396446613028613E-10,4.4094128553458623E-11,5.5646653460281735E-10,5.3140276813655101,0.44624461743238431,2.9080419830648978E-3,1.4153652479021693E-3,null,null,null,null,null,null,null,null,null,null,null,null,null,null,null,null,null,null,null,null,null,null,{"$error":"#VALUE!"},{"$f":"'Site&Soil'!$F$173*EXP('Site&Soil'!$F$174*CD172)","v":{"$error":"#VALUE!"}},{"$error":"#VALUE!"},0,{"$error":"#VALUE!"},0,0,{"$error":"#VALUE!"},{"$error":"#VALUE!"},{"$error":"#VALUE!"},{"$error":"#VALUE!"},{"$error":"#VALUE!"},{"$error":"#VALUE!"},{"$error":"#VALUE!"},{"$error":"#VALUE!"},{"$error":"#VALUE!"},null,null,{"$error":"#VALUE!"},{"$f":"'Site&Soil'!$G$173*EXP('Site&Soil'!$G$174*CV172)","v":{"$error":"#VALUE!"}},{"$error":"#VALUE!"},0,{"$error":"#VALUE!"},0,0,{"$error":"#VALUE!"},{"$error":"#VALUE!"},{"$error":"#VALUE!"},{"$error":"#VALUE!"},{"$error":"#VALUE!"},{"$error":"#VALUE!"},{"$error":"#VALUE!"},{"$error":"#VALUE!"},{"$error":"#VALUE!"},null,null,{"$error":"#VALUE!"},{"$f":"'Site&Soil'!$H$173*EXP('Site&Soil'!$H$174*DN172)","v":{"$error":"#VALUE!"}},{"$error":"#VALUE!"},0,{"$error":"#VALUE!"},0,0,{"$error":"#VALUE!"},{"$error":"#VALUE!"},{"$error":"#VALUE!"},{"$error":"#VALUE!"},{"$error":"#VALUE!"},{"$error":"#VALUE!"},{"$error":"#VALUE!"},{"$error":"#VALUE!"},{"$error":"#VALUE!"}]
[null,165,"Sep",null,null,null,null,6.1367166615041251,{"$f":"'Site&Soil'!$F$173*EXP('Site&Soil'!$F$174*H173)","v":0},0.69468750000000001,0.93941306281347592,6.5600228275604694E-3,0,0,9232.550799997467,0.37754920614838761,6.0565744004595053E-3,8.6804528831101657E-4,7.4688678177576087E-3,6.1441855293218826,0.16963263490079505,7.0234667738186653E-3,-1.0110253565550936E-2,null,null,5.5036481326362452,{"$f":"'Site&Soil'!$G$173*EXP('Site&Soil'!$G$174*Z173)","v":0},0.79087499999999999,0.96078943915232284,2.9824850546279737E-2,0,0,9.2149549468619789E-5,3.7682965414951875E-9,2.7483465408085968E-10,3.0254995670011488E-11,1.0975761440059112E-3,5.5047457087802512,0.39919076243158114,3.8775232658630121E-3,3.977801179649949E-3,null,null,5.3154430466134119,{"$f":"'Site&Soil'!$H$173*EXP('Site&Soil'!$H$174*AR173)","v":0},0.72675000000000001,0.97979867385370423,4.7080934335572561E-2,0,0,7.5744721813517972E-5,3.0974494709124222E-9,3.5661322739684502E-10,3.7992849983195231E-11,4.8004867297373414E-10,5.3154430470934608,0.44727323447517253,2.8651858949244099E-3,1.3929650786908871E-3,null,null,null,null,null,null,null,null,null,null,null,null,null,null,null,null,null,null,null,null,null,null,{"$error":"#VALUE!"},{"$f":"'Site&Soil'!$F$173*EXP('Site&Soil'!$F$174*CD173)","v":{"$error":"#VALUE!"}},{"$error":"#VALUE!"},0,{"$error":"#VALUE!"},0,0,{"$error":"#VALUE!"},{"$error":"#VALUE!"},{"$error":"#VALUE!"},{"$error":"#VALUE!"},{"$error":"#VALUE!"},{"$error":"#VALUE!"},{"$error":"#VALUE!"},{"$error":"#VALUE!"},{"$error":"#VALUE!"},null,null,{"$error":"#VALUE!"},{"$f":"'Site&Soil'!$G$173*EXP('Site&Soil'!$G$174*CV173)","v":{"$error":"#VALUE!"}},{"$error":"#VALUE!"},0,{"$error":"#VALUE!"},0,0,{"$error":"#VALUE!"},{"$error":"#VALUE!"},{"$error":"#VALUE!"},{"$error":"#VALUE!"},{"$error":"#VALUE!"},{"$error":"#VALUE!"},{"$error":"#VALUE!"},{"$error":"#VALUE!"},{"$error":"#VALUE!"},null,null,{"$error":"#VALUE!"},{"$f":"'Site&Soil'!$H$173*EXP('Site&Soil'!$H$174*DN173)","v":{"$error":"#VALUE!"}},{"$error":"#VALUE!"},0,{"$error":"#VALUE!"},0,0,{"$error":"#VALUE!"},{"$error":"#VALUE!"},{"$error":"#VALUE!"},{"$error":"#VALUE!"},{"$error":"#VALUE!"},{"$error":"#VALUE!"},{"$error":"#VALUE!"},{"$error":"#VALUE!"},{"$error":"#VALUE!"}]
[null,166,"Oct",null,null,null,null,6.1340752757563317,{"$f":"'Site&Soil'!$F$173*EXP('Site&Soil'!$F$174*H174)","v":0},0.69468750000000001,0.77880078307140521,5.4731299008743935E-3,0,0,9084.4439309706268,0.37149263174792813,4.9720341711412255E-3,7.112998248741155E-4,6.1333107998446925E-3,6.1402085865561764,0.16686990247324354,5.6756156583382669E-3,-8.1700270385436143E-3,0.02,null,5.5087235099599008,{"$f":"'Site&Soil'!$G$173*EXP('Site&Soil'!$G$174*Z174)","v":0},0.79087499999999999,0.85214378896621112,2.6141803821584549E-2,0,0,8.5428770126273675E-5,3.4934618874143277E-9,2.2332621493602891E-10,2.4611195901674522E-11,8.9938362394706439E-4,5.509622893583848,0.40304800596312584,3.5114990345535098E-3,2.7363573558207774E-3,0.02,null,5.3168360121721516,{"$f":"'Site&Soil'!$H$173*EXP('Site&Soil'!$H$174*AR174)","v":0},0.72675000000000001,0.92161044729772479,4.4142148495842276E-2,0,0,6.7024137359161074E-5,2.7408362435155772E-9,2.9585894241138181E-10,3.1526425811528847E-11,3.9758336773515989E-10,5.3168360125697349,0.44828557213505471,2.7098057708761004E-3,1.1031211058512684E-3,0.02,null,{"$f":"BJ162+1","v":14},{"$f":"AVERAGE(H169:H174)","v":6.1408115519649522},{"$f":"AVERAGE(Z169:Z174)","v":5.4956953677548812},{"$f":"AVERAGE(AR169:AR174)","v":5.3138513176552316},null,null,null,null,null,null,null,null,null,null,null,null,null,null,null,null,{"$error":"#VALUE!"},{"$f":"'Site&Soil'!$F$173*EXP('Site&Soil'!$F$174*CD174)","v":{"$error":"#VALUE!"}},{"$error":"#VALUE!"},0,{"$error":"#VALUE!"},0,0,{"$error":"#VALUE!"},{"$error":"#VALUE!"},{"$error":"#VALUE!"},{"$error":"#VALUE!"},{"$error":"#VALUE!"},{"$error":"#VALUE!"},{"$error":"#VALUE!"},{"$error":"#VALUE!"},{"$error":"#VALUE!"},{"$error":"#VALUE!"},null,{"$error":"#VALUE!"},{"$f":"'Site&Soil'!$G$173*EXP('Site&Soil'!$G$174*CV174)","v":{"$error":"#VALUE!"}},{"$error":"#VALUE!"},0,{"$error":"#VALUE!"},0,0,{"$error":"#VALUE!"},{"$error":"#VALUE!"},{"$error":"#VALUE!"},{"$error":"#VALUE!"},{"$error":"#VALUE!"},{"$error":"#VALUE!"},{"$error":"#VALUE!"},{"$error":"#VALUE!"},{"$error":"#VALUE!"},{"$error":"#VALUE!"},null,{"$error":"#VALUE!"},{"$f":"'Site&Soil'!$H$173*EXP('Site&Soil'!$H$174*DN174)","v":{"$error":"#VALUE!"}},{"$error":"#VALUE!"},0,{"$error":"#VALUE!"},0,0,{"$error":"#VALUE!"},{"$error":"#VALUE!"},{"$error":"#VALUE!"},{"$error":"#VALUE!"},{"$error":"#VALUE!"},{"$error":"#VALUE!"},{"$error":"#VALUE!"},{"$error":"#VALUE!"},{"$error":"#VALUE!"},{"$error":"#VALUE!"},null,{"$f":"EF162+1","v":14},{"$f":"AVERAGE(CD169:CD174)","v":{"$error":"#VALUE!"}},{"$f":"AVERAGE(CV169:CV174)","v":{"$error":"#VALUE!"}},{"$f":"AVERAGE(DN169:DN174)","v":{"$error":"#VALUE!"}}]
[null,167,"Nov",null,null,null,null,6.1520385595176323,{"$f":"'Site&Soil'!$F$173*EXP('Site&Soil'!$F$174*H175)","v":0},0.69468750000000001,0.56978282473092301,3.8346824424700925E-3,0,0,8962.8583010266902,0.3665205975767869,3.4369715361294378E-3,4.9794336121372856E-4,4.2307198199416415E-3,6.1562692793375744,0.17802706498982096,4.5968958608273323E-3,-6.6172140146862181E-3,null,null,5.5323592509396686,{"$f":"'Site&Soil'!$G$173*EXP('Site&Soil'!$G$174*Z175)","v":0},0.79087499999999999,0.69767632607103081,2.025771472808071E-2,0,0,7.9967573040462143E-5,3.2701356724782989E-9,1.6199602821506398E-10,1.7944876816622378E-11,6.2961088068895846E-4,5.5329888618203578,0.42152756609217545,3.1729909193886647E-3,1.8004171853183723E-3,null,null,5.3379391336755857,{"$f":"'Site&Soil'!$H$173*EXP('Site&Soil'!$H$174*AR175)","v":0},0.72675000000000001,0.83220750069030147,3.7956992115504774E-2,0,0,5.9789232157498351E-5,2.4449773011041955E-9,2.2694194135942494E-10,2.425681600984952E-11,3.0358445430505371E-10,5.3379391339791704,0.46362226561936198,2.6566542977786889E-3,7.1047350754726625E-4,null,null,null,null,null,null,null,null,null,null,null,null,null,null,null,null,null,null,null,null,null,null,{"$error":"#VALUE!"},{"$f":"'Site&Soil'!$F$173*EXP('Site&Soil'!$F$174*CD175)","v":{"$error":"#VALUE!"}},{"$error":"#VALUE!"},0,{"$error":"#VALUE!"},0,0,{"$error":"#VALUE!"},{"$error":"#VALUE!"},{"$error":"#VALUE!"},{"$error":"#VALUE!"},{"$error":"#VALUE!"},{"$error":"#VALUE!"},{"$error":"#VALUE!"},{"$error":"#VALUE!"},{"$error":"#VALUE!"},null,null,{"$error":"#VALUE!"},{"$f":"'Site&Soil'!$G$173*EXP('Site&Soil'!$G$174*CV175)","v":{"$error":"#VALUE!"}},{"$error":"#VALUE!"},0,{"$error":"#VALUE!"},0,0,{"$error":"#VALUE!"},{"$error":"#VALUE!"},{"$error":"#VALUE!"},{"$error":"#VALUE!"},{"$error":"#VALUE!"},{"$error":"#VALUE!"},{"$error":"#VALUE!"},{"$error":"#VALUE!"},{"$error":"#VALUE!"},null,null,{"$error":"#VALUE!"},{"$f":"'Site&Soil'!$H$173*EXP('Site&Soil'!$H$174*DN175)","v":{"$error":"#VALUE!"}},{"$error":"#VALUE!"},0,{"$error":"#VALUE!"},0,0,{"$error":"#VALUE!"},{"$error":"#VALUE!"},{"$error":"#VALUE!"},{"$error":"#VALUE!"},{"$error":"#VALUE!"},{"$error":"#VALUE!"},{"$error":"#VALUE!"},{"$error":"#VALUE!"},{"$error":"#VALUE!"}]
[null,168,"Dec",null,null,null,null,6.1496520653228881,{"$f":"'Site&Soil'!$F$173*EXP('Site&Soil'!$F$174*H176)","v":0},0.69468750000000001,0.36787944117144233,2.4901406401272221E-3,0,0,8878.8109403417657,0.36308362604065747,2.210948795855123E-3,3.1977524523191215E-4,2.7223370949142037E-3,6.1523744024178022,0.17532134267961672,2.8967746315964158E-3,-4.1698960058967746E-3,null,null,5.5347892790056763,{"$f":"'Site&Soil'!$G$173*EXP('Site&Soil'!$G$174*Z176)","v":0},0.79087499999999999,0.52729242404304844,1.5224092985978916E-2,0,0,7.6006138251202997E-5,3.1081396442632347E-9,1.1571245162414834E-10,1.2824875155793711E-11,4.0433108660595999E-4,5.5351936100922821,0.42327124638173358,2.420270507589261E-3,6.025024485628637E-4,null,null,5.338649607486718,{"$f":"'Site&Soil'!$H$173*EXP('Site&Soil'!$H$174*AR176)","v":0},0.72675000000000001,0.72142229035475613,3.2849920057405876E-2,0,0,5.4239616456737382E-5,2.2180353597447705E-9,1.7817670645481792E-10,1.9046525344029921E-11,2.366082645567E-10,5.3386496077233261,0.46413860241292709,2.3093345593298109E-3,1.5264664363185424E-4,null,null,null,null,null,null,null,null,null,null,null,null,null,null,null,null,null,null,null,null,null,null,{"$error":"#VALUE!"},{"$f":"'Site&Soil'!$F$173*EXP('Site&Soil'!$F$174*CD176)","v":{"$error":"#VALUE!"}},{"$error":"#VALUE!"},0,{"$error":"#VALUE!"},0,0,{"$error":"#VALUE!"},{"$error":"#VALUE!"},{"$error":"#VALUE!"},{"$error":"#VALUE!"},{"$error":"#VALUE!"},{"$error":"#VALUE!"},{"$error":"#VALUE!"},{"$error":"#VALUE!"},{"$error":"#VALUE!"},null,null,{"$error":"#VALUE!"},{"$f":"'Site&Soil'!$G$173*EXP('Site&Soil'!$G$174*CV176)","v":{"$error":"#VALUE!"}},{"$error":"#VALUE!"},0,{"$error":"#VALUE!"},0,0,{"$error":"#VALUE!"},{"$error":"#VALUE!"},{"$error":"#VALUE!"},{"$error":"#VALUE!"},{"$error":"#VALUE!"},{"$error":"#VALUE!"},{"$error":"#VALUE!"},{"$error":"#VALUE!"},{"$error":"#VALUE!"},null,null,{"$error":"#VALUE!"},{"$f":"'Site&Soil'!$H$173*EXP('Site&Soil'!$H$174*DN176)","v":{"$error":"#VALUE!"}},{"$error":"#VALUE!"},0,{"$error":"#VALUE!"},0,0,{"$error":"#VALUE!"},{"$error":"#VALUE!"},{"$error":"#VALUE!"},{"$error":"#VALUE!"},{"$error":"#VALUE!"},{"$error":"#VALUE!"},{"$error":"#VALUE!"},{"$error":"#VALUE!"},{"$error":"#VALUE!"}]
[{"$f":"A165+1","v":15},169,"Jan",{"$f":"OFFSET(Apply_Lime!$H$16,$A177,0)","v":0},{"$f":"OFFSET(Apply_Lime!$I$16,$A177,0)*E$7","v":0},{"$f":"OFFSET(Apply_Lime!$I$16,$A177,0)*F$7","v":0},null,6.1482045064119051,{"$f":"'Site&Soil'!$F$173*EXP('Site&Soil'!$F$174*H177)","v":0},0.69468750000000001,4.6770622383959001E-2,3.1769221674816516E-4,0,0,8824.7446180147545,0.36087267724480232,2.8035526799335476E-4,4.0506869905154212E-5,3.4526085194882671E-4,6.1485497672638543,0.17266441644610853,3.5952224055884452E-4,-5.1753089059302856E-4,null,null,5.5357961125408446,{"$f":"'Site&Soil'!$G$173*EXP('Site&Soil'!$G$174*Z177)","v":0},0.79087499999999999,0.14085842092104497,4.0573720932090525E-3,0,0,7.3176517448365669E-5,2.9924271926390865E-9,2.969043597732242E-11,3.2914567037096513E-12,5.121782368153435E-5,5.5358473303645264,0.42378825740204479,6.4830454259447688E-4,-3.6514278746405229E-4,null,null,5.338802254366958,{"$f":"'Site&Soil'!$H$173*EXP('Site&Soil'!$H$174*AR177)","v":0},0.72675000000000001,0.36787944117144233,1.6745440291267483E-2,0,0,4.9882500968395451E-5,2.0398586532899525E-9,8.3530444154535852E-11,8.9293423260769982E-12,1.07179303105839E-10,5.3388022544741371,0.46424953843907907,1.1783091582866542E-3,-7.2928051694830037E-4,null,null,null,null,null,null,null,null,null,null,null,null,null,null,null,null,null,null,{"$f":"OFFSET(Apply_Lime!$O$16,$A177,0)","v":0},{"$f":"OFFSET(Apply_Lime!$P$16,$A177,0)*CA$7","v":0},{"$f":"OFFSET(Apply_Lime!$P$16,$A177,0)*CB$7","v":0},null,{"$error":"#VALUE!"},{"$f":"'Site&Soil'!$F$173*EXP('Site&Soil'!$F$174*CD177)","v":{"$error":"#VALUE!"}},{"$error":"#VALUE!"},0,{"$error":"#VALUE!"},0,0,{"$error":"#VALUE!"},{"$error":"#VALUE!"},{"$error":"#VALUE!"},{"$error":"#VALUE!"},{"$error":"#VALUE!"},{"$error":"#VALUE!"},{"$error":"#VALUE!"},{"$error":"#VALUE!"},{"$error":"#VALUE!"},null,null,{"$error":"#VALUE!"},{"$f":"'Site&Soil'!$G$173*EXP('Site&Soil'!$G$174*CV177)","v":{"$error":"#VALUE!"}},{"$error":"#VALUE!"},0,{"$error":"#VALUE!"},0,0,{"$error":"#VALUE!"},{"$error":"#VALUE!"},{"$error":"#VALUE!"},{"$error":"#VALUE!"},{"$error":"#VALUE!"},{"$error":"#VALUE!"},{"$error":"#VALUE!"},{"$error":"#VALUE!"},{"$error":"#VALUE!"},null,null,{"$error":"#VALUE!"},{"$f":"'Site&Soil'!$H$173*EXP('Site&Soil'!$H$174*DN177)","v":{"$error":"#VALUE!"}},{"$error":"#VALUE!"},0,{"$error":"#VALUE!"},0,0,{"$error":"#VALUE!"},{"$error":"#VALUE!"},{"$error":"#VALUE!"},{"$error":"#VALUE!"},{"$error":"#VALUE!"},{"$error":"#VALUE!"},{"$error":"#VALUE!"},{"$error":"#VALUE!"},{"$error":"#VALUE!"}]
[null,170,"Feb",null,null,null,null,6.1480322363732611,{"$f":"'Site&Soil'!$F$173*EXP('Site&Soil'!$F$174*H178)","v":0},0.69468750000000001,0.1053992245618643,7.1622772755392775E-4,0,0,8817.8888381279376,0.36059232197680896,6.3156164843555177E-4,9.1239454927233537E-5,7.7779173154593722E-4,6.1488100281048075,0.1728452163990582,8.1153042861927384E-4,-1.1681949489796115E-3,null,null,5.5354821875770623,{"$f":"'Site&Soil'!$G$173*EXP('Site&Soil'!$G$174*Z178)","v":0},0.79087499999999999,0.23692775868212174,6.8296011015294162E-3,0,0,7.245047047496278E-5,2.9627367566617643E-9,4.9480781296213033E-11,5.485009447529743E-12,1.1536525863506293E-4,5.5355975528356973,0.42359071459893211,1.089331169337279E-3,-3.5125745625794874E-4,null,null,5.338072973957189,{"$f":"'Site&Soil'!$H$173*EXP('Site&Soil'!$H$174*AR178)","v":0},0.72675000000000001,0.47965226883004436,2.1870156892081251E-2,0,0,4.78398557808434E-5,1.9563282091354164E-9,1.0462651516215854E-10,1.1183285492515914E-11,1.3612416803188491E-10,5.3380729740933131,0.46371953392231513,1.5319862516704765E-3,-6.0908852058231503E-4,null,null,null,null,null,null,null,null,null,null,null,null,null,null,null,null,null,null,null,null,null,null,{"$error":"#VALUE!"},{"$f":"'Site&Soil'!$F$173*EXP('Site&Soil'!$F$174*CD178)","v":{"$error":"#VALUE!"}},{"$error":"#VALUE!"},0,{"$error":"#VALUE!"},0,0,{"$error":"#VALUE!"},{"$error":"#VALUE!"},{"$error":"#VALUE!"},{"$error":"#VALUE!"},{"$error":"#VALUE!"},{"$error":"#VALUE!"},{"$error":"#VALUE!"},{"$error":"#VALUE!"},{"$error":"#VALUE!"},null,null,{"$error":"#VALUE!"},{"$f":"'Site&Soil'!$G$173*EXP('Site&Soil'!$G$174*CV178)","v":{"$error":"#VALUE!"}},{"$error":"#VALUE!"},0,{"$error":"#VALUE!"},0,0,{"$error":"#VALUE!"},{"$error":"#VALUE!"},{"$error":"#VALUE!"},{"$error":"#VALUE!"},{"$error":"#VALUE!"},{"$error":"#VALUE!"},{"$error":"#VALUE!"},{"$error":"#VALUE!"},{"$error":"#VALUE!"},null,null,{"$error":"#VALUE!"},{"$f":"'Site&Soil'!$H$173*EXP('Site&Soil'!$H$174*DN178)","v":{"$error":"#VALUE!"}},{"$error":"#VALUE!"},0,{"$error":"#VALUE!"},0,0,{"$error":"#VALUE!"},{"$error":"#VALUE!"},{"$error":"#VALUE!"},{"$error":"#VALUE!"},{"$error":"#VALUE!"},{"$error":"#VALUE!"},{"$error":"#VALUE!"},{"$error":"#VALUE!"},{"$error":"#VALUE!"}]
[null,171,"Mar",null,null,null,null,6.147641833155828,{"$f":"'Site&Soil'!$F$173*EXP('Site&Soil'!$F$174*H179)","v":0},0.69468750000000001,0.20961138715109778,1.425729542351456E-3,0,0,8802.444692285344,0.35996076032837343,1.2549905442705987E-3,1.812538575738027E-4,1.5456398548941734E-3,6.1491874730107225,0.17310742265713608,1.6177746854007472E-3,-2.3287804738112419E-3,null,null,5.535246295379439,{"$f":"'Site&Soil'!$G$173*EXP('Site&Soil'!$G$174*Z179)","v":0},0.79087499999999999,0.36787944117144206,1.0610195589461309E-2,0,0,7.1240472362130559E-5,2.9132559753655513E-9,7.5587534564781802E-11,8.3785318649756366E-12,2.2918150754898739E-4,5.5354754768869876,0.42349416778299631,1.6905515908263488E-3,-9.2020743386251377E-5,null,null,5.3374638855727303,{"$f":"'Site&Soil'!$H$173*EXP('Site&Soil'!$H$174*AR179)","v":0},0.72675000000000001,0.60037304119840451,2.741320967686885E-2,0,0,4.5281329367516289E-5,1.8517016939732579E-9,1.2413065763990832E-10,1.3266839796932919E-11,1.6407616058885592E-10,5.3374638857368062,0.46327687895922376,1.913047240598749E-3,-3.0615156487430375E-4,null,null,null,null,null,null,null,null,null,null,null,null,null,null,null,null,null,null,null,null,null,null,{"$error":"#VALUE!"},{"$f":"'Site&Soil'!$F$173*EXP('Site&Soil'!$F$174*CD179)","v":{"$error":"#VALUE!"}},{"$error":"#VALUE!"},0,{"$error":"#VALUE!"},0,0,{"$error":"#VALUE!"},{"$error":"#VALUE!"},{"$error":"#VALUE!"},{"$error":"#VALUE!"},{"$error":"#VALUE!"},{"$error":"#VALUE!"},{"$error":"#VALUE!"},{"$error":"#VALUE!"},{"$error":"#VALUE!"},null,null,{"$error":"#VALUE!"},{"$f":"'Site&Soil'!$G$173*EXP('Site&Soil'!$G$174*CV179)","v":{"$error":"#VALUE!"}},{"$error":"#VALUE!"},0,{"$error":"#VALUE!"},0,0,{"$error":"#VALUE!"},{"$error":"#VALUE!"},{"$error":"#VALUE!"},{"$error":"#VALUE!"},{"$error":"#VALUE!"},{"$error":"#VALUE!"},{"$error":"#VALUE!"},{"$error":"#VALUE!"},{"$error":"#VALUE!"},null,null,{"$error":"#VALUE!"},{"$f":"'Site&Soil'!$H$173*EXP('Site&Soil'!$H$174*DN179)","v":{"$error":"#VALUE!"}},{"$error":"#VALUE!"},0,{"$error":"#VALUE!"},0,0,{"$error":"#VALUE!"},{"$error":"#VALUE!"},{"$error":"#VALUE!"},{"$error":"#VALUE!"},{"$error":"#VALUE!"},{"$error":"#VALUE!"},{"$error":"#VALUE!"},{"$error":"#VALUE!"},{"$error":"#VALUE!"}]
[null,172,"Apr",null,null,null,null,6.1468586925369113,{"$f":"'Site&Soil'!$F$173*EXP('Site&Soil'!$F$174*H180)","v":0},0.69468750000000001,0.36787944117144233,2.5069594582536711E-3,0,0,8771.7552781247414,0.35870576978410285,2.1990434859981384E-3,3.1742408307845548E-4,2.7085839358268037E-3,6.1495672764727383,0.17337126737465511,2.8460984483963878E-3,-4.0969478339489161E-3,null,null,5.5353834561436015,{"$f":"'Site&Soil'!$G$173*EXP('Site&Soil'!$G$174*Z180)","v":0},0.79087499999999999,0.52729242404304844,1.5203050510775331E-2,0,0,6.9392062297028663E-5,2.8376684408007694E-9,1.0549710281485953E-10,1.1694231870764822E-11,4.0135821322121248E-4,5.5357848143568225,0.42373881505445193,2.4262446666206113E-3,5.3087249157676806E-4,null,null,5.3371577341719316,{"$f":"'Site&Soil'!$H$173*EXP('Site&Soil'!$H$174*AR180)","v":0},0.72675000000000001,0.72142229035475613,3.2963744028733991E-2,0,0,4.2245850590619809E-5,1.7275710363333496E-9,1.392581405145332E-10,1.4882960354003967E-11,1.872300131149557E-10,5.3371577343591614,0.46305438344552041,2.2960391608406647E-3,1.7916134266246516E-4,null,null,null,null,null,null,null,null,null,null,null,null,null,null,null,null,null,null,null,null,null,null,{"$error":"#VALUE!"},{"$f":"'Site&Soil'!$F$173*EXP('Site&Soil'!$F$174*CD180)","v":{"$error":"#VALUE!"}},{"$error":"#VALUE!"},0,{"$error":"#VALUE!"},0,0,{"$error":"#VALUE!"},{"$error":"#VALUE!"},{"$error":"#VALUE!"},{"$error":"#VALUE!"},{"$error":"#VALUE!"},{"$error":"#VALUE!"},{"$error":"#VALUE!"},{"$error":"#VALUE!"},{"$error":"#VALUE!"},null,null,{"$error":"#VALUE!"},{"$f":"'Site&Soil'!$G$173*EXP('Site&Soil'!$G$174*CV180)","v":{"$error":"#VALUE!"}},{"$error":"#VALUE!"},0,{"$error":"#VALUE!"},0,0,{"$error":"#VALUE!"},{"$error":"#VALUE!"},{"$error":"#VALUE!"},{"$error":"#VALUE!"},{"$error":"#VALUE!"},{"$error":"#VALUE!"},{"$error":"#VALUE!"},{"$error":"#VALUE!"},{"$error":"#VALUE!"},null,null,{"$error":"#VALUE!"},{"$f":"'Site&Soil'!$H$173*EXP('Site&Soil'!$H$174*DN180)","v":{"$error":"#VALUE!"}},{"$error":"#VALUE!"},0,{"$error":"#VALUE!"},0,0,{"$error":"#VALUE!"},{"$error":"#VALUE!"},{"$error":"#VALUE!"},{"$error":"#VALUE!"},{"$error":"#VALUE!"},{"$error":"#VALUE!"},{"$error":"#VALUE!"},{"$error":"#VALUE!"},{"$error":"#VALUE!"}]
[null,173,"May",null,null,null,null,6.1454703286387895,{"$f":"'Site&Soil'!$F$173*EXP('Site&Soil'!$F$174*H181)","v":0},0.69468750000000001,0.56978282473092301,3.8958643689477246E-3,0,0,8717.980087062886,0.3565067262981047,3.3964067990384082E-3,4.8977847384106183E-4,4.1840803601581227E-3,6.1496544089989476,0.17343179725145613,4.4105473370121898E-3,-6.3489660271880376E-3,null,null,5.5363156868483996,{"$f":"'Site&Soil'!$G$173*EXP('Site&Soil'!$G$174*Z181)","v":0},0.79087499999999999,0.69767632607103081,2.0072003636379957E-2,0,0,6.6812246619683737E-5,2.7321713379859098E-9,1.3410556571050064E-10,1.4868573240766246E-11,6.192869835031507E-4,5.5369349738319027,0.42464844742930602,3.2256593477585048E-3,1.4981988168214762E-3,null,null,5.3373368957018235,{"$f":"'Site&Soil'!$H$173*EXP('Site&Soil'!$H$174*AR181)","v":0},0.72675000000000001,0.83220750069030147,3.8010028934797144E-2,0,0,3.8840445849526827E-5,1.5883128958188164E-9,1.4763264705809364E-10,1.5778389189103912E-11,2.0188900049502025E-10,5.3373368959037126,0.46318458909802301,2.6504683524177521E-3,7.9145647793705219E-4,null,null,null,null,null,null,null,null,null,null,null,null,null,null,null,null,null,null,null,null,null,null,{"$error":"#VALUE!"},{"$f":"'Site&Soil'!$F$173*EXP('Site&Soil'!$F$174*CD181)","v":{"$error":"#VALUE!"}},{"$error":"#VALUE!"},0,{"$error":"#VALUE!"},0,0,{"$error":"#VALUE!"},{"$error":"#VALUE!"},{"$error":"#VALUE!"},{"$error":"#VALUE!"},{"$error":"#VALUE!"},{"$error":"#VALUE!"},{"$error":"#VALUE!"},{"$error":"#VALUE!"},{"$error":"#VALUE!"},null,null,{"$error":"#VALUE!"},{"$f":"'Site&Soil'!$G$173*EXP('Site&Soil'!$G$174*CV181)","v":{"$error":"#VALUE!"}},{"$error":"#VALUE!"},0,{"$error":"#VALUE!"},0,0,{"$error":"#VALUE!"},{"$error":"#VALUE!"},{"$error":"#VALUE!"},{"$error":"#VALUE!"},{"$error":"#VALUE!"},{"$error":"#VALUE!"},{"$error":"#VALUE!"},{"$error":"#VALUE!"},{"$error":"#VALUE!"},null,null,{"$error":"#VALUE!"},{"$f":"'Site&Soil'!$H$173*EXP('Site&Soil'!$H$174*DN181)","v":{"$error":"#VALUE!"}},{"$error":"#VALUE!"},0,{"$error":"#VALUE!"},0,0,{"$error":"#VALUE!"},{"$error":"#VALUE!"},{"$error":"#VALUE!"},{"$error":"#VALUE!"},{"$error":"#VALUE!"},{"$error":"#VALUE!"},{"$error":"#VALUE!"},{"$error":"#VALUE!"},{"$error":"#VALUE!"}]
[null,174,"Jun",null,null,null,null,6.1433054429717595,{"$f":"'Site&Soil'!$F$173*EXP('Site&Soil'!$F$174*H182)","v":0},0.69468750000000001,0.77880078307140521,5.3528565387334541E-3,0,0,8634.924692431081,0.35311031949906629,4.6221513101350675E-3,6.6552085273759816E-4,5.6955544146072437E-3,6.1490009973863664,0.17297788037184117,6.0036856949941941E-3,-8.6422826018809802E-3,null,null,5.5384331726487241,{"$f":"'Site&Soil'!$G$173*EXP('Site&Soil'!$G$174*Z182)","v":0},0.79087499999999999,0.85214378896621112,2.4395448420398702E-2,0,0,6.3532842431245396E-5,2.5980657722754091E-9,1.5499121805327652E-10,1.7192446585825906E-11,8.414995929020005E-4,5.5392746722416257,0.42649885640909574,3.9783723343776636E-3,2.5608514121909665E-3,null,null,5.3381283523816494,{"$f":"'Site&Soil'!$H$173*EXP('Site&Soil'!$H$174*AR182)","v":0},0.72675000000000001,0.92161044729772479,4.201622423689988E-2,0,0,3.5230251756928902E-5,1.4406802487607227E-9,1.4802421577415609E-10,1.582209505058628E-11,2.0556528009548772E-10,5.3381283525872147,0.46375978024275821,2.9442102707693991E-3,1.4229956155600474E-3,null,null,null,null,null,null,null,null,null,null,null,null,null,null,null,null,null,null,null,null,null,null,{"$error":"#VALUE!"},{"$f":"'Site&Soil'!$F$173*EXP('Site&Soil'!$F$174*CD182)","v":{"$error":"#VALUE!"}},{"$error":"#VALUE!"},0,{"$error":"#VALUE!"},0,0,{"$error":"#VALUE!"},{"$error":"#VALUE!"},{"$error":"#VALUE!"},{"$error":"#VALUE!"},{"$error":"#VALUE!"},{"$error":"#VALUE!"},{"$error":"#VALUE!"},{"$error":"#VALUE!"},{"$error":"#VALUE!"},null,null,{"$error":"#VALUE!"},{"$f":"'Site&Soil'!$G$173*EXP('Site&Soil'!$G$174*CV182)","v":{"$error":"#VALUE!"}},{"$error":"#VALUE!"},0,{"$error":"#VALUE!"},0,0,{"$error":"#VALUE!"},{"$error":"#VALUE!"},{"$error":"#VALUE!"},{"$error":"#VALUE!"},{"$error":"#VALUE!"},{"$error":"#VALUE!"},{"$error":"#VALUE!"},{"$error":"#VALUE!"},{"$error":"#VALUE!"},null,null,{"$error":"#VALUE!"},{"$f":"'Site&Soil'!$H$173*EXP('Site&Soil'!$H$174*DN182)","v":{"$error":"#VALUE!"}},{"$error":"#VALUE!"},0,{"$error":"#VALUE!"},0,0,{"$error":"#VALUE!"},{"$error":"#VALUE!"},{"$error":"#VALUE!"},{"$error":"#VALUE!"},{"$error":"#VALUE!"},{"$error":"#VALUE!"},{"$error":"#VALUE!"},{"$error":"#VALUE!"},{"$error":"#VALUE!"}]
[null,175,"Jul",null,null,null,null,6.1403587147844858,{"$f":"'Site&Soil'!$F$173*EXP('Site&Soil'!$F$174*H183)","v":0},0.69468750000000001,0.93941306281347592,6.5027587640200737E-3,0,0,8521.8950632300475,0.34848816818893125,5.5415827808478592E-3,7.9625702409482691E-4,6.830878282325553E-3,6.1471895930668117,0.1717195204336005,7.1592224161442525E-3,-1.0305673293594966E-2,null,null,5.541835523653817,{"$f":"'Site&Soil'!$G$173*EXP('Site&Soil'!$G$174*Z183)","v":0},0.79087499999999999,0.96078943915232284,2.7288776269630336E-2,0,0,5.9742702574169535E-5,2.4430745542221326E-9,1.6303052442895808E-10,1.8098217760861671E-11,1.006805334632064E-3,5.5428423289884492,0.42932042693873973,4.552522514610473E-3,3.295969529361504E-3,null,null,5.3395513482027752,{"$f":"'Site&Soil'!$H$173*EXP('Site&Soil'!$H$174*AR183)","v":0},0.72675000000000001,0.97979867385370423,4.4521890561481862E-2,0,0,3.1610482281827549E-5,1.2926560329865665E-9,1.4073584327471876E-10,1.5046233155673209E-11,1.9785046835900549E-10,5.3395513484006258,0.46479394245015471,3.1473761901875332E-3,1.9334658746789678E-3,null,null,null,null,null,null,null,null,null,null,null,null,null,null,null,null,null,null,null,null,null,null,{"$error":"#VALUE!"},{"$f":"'Site&Soil'!$F$173*EXP('Site&Soil'!$F$174*CD183)","v":{"$error":"#VALUE!"}},{"$error":"#VALUE!"},0,{"$error":"#VALUE!"},0,0,{"$error":"#VALUE!"},{"$error":"#VALUE!"},{"$error":"#VALUE!"},{"$error":"#VALUE!"},{"$error":"#VALUE!"},{"$error":"#VALUE!"},{"$error":"#VALUE!"},{"$error":"#VALUE!"},{"$error":"#VALUE!"},null,null,{"$error":"#VALUE!"},{"$f":"'Site&Soil'!$G$173*EXP('Site&Soil'!$G$174*CV183)","v":{"$error":"#VALUE!"}},{"$error":"#VALUE!"},0,{"$error":"#VALUE!"},0,0,{"$error":"#VALUE!"},{"$error":"#VALUE!"},{"$error":"#VALUE!"},{"$error":"#VALUE!"},{"$error":"#VALUE!"},{"$error":"#VALUE!"},{"$error":"#VALUE!"},{"$error":"#VALUE!"},{"$error":"#VALUE!"},null,null,{"$error":"#VALUE!"},{"$f":"'Site&Soil'!$H$173*EXP('Site&Soil'!$H$174*DN183)","v":{"$error":"#VALUE!"}},{"$error":"#VALUE!"},0,{"$error":"#VALUE!"},0,0,{"$error":"#VALUE!"},{"$error":"#VALUE!"},{"$error":"#VALUE!"},{"$error":"#VALUE!"},{"$error":"#VALUE!"},{"$error":"#VALUE!"},{"$error":"#VALUE!"},{"$error":"#VALUE!"},{"$error":"#VALUE!"}]
[null,176,"Aug",null,null,null,null,6.1368839197732168,{"$f":"'Site&Soil'!$F$173*EXP('Site&Soil'!$F$174*H184)","v":0},0.69468750000000001,1,6.980297324705005E-3,0,0,8386.3817481352708,0.34294658540808337,5.8539438080463515E-3,8.3910139199007319E-4,7.2188464828520423E-3,6.1441027662560685,0.16957514043351238,7.4724832747334264E-3,-1.0756611101730528E-2,null,null,5.5461382985178105,{"$f":"'Site&Soil'!$G$173*EXP('Site&Soil'!$G$174*Z184)","v":0},0.79087499999999999,1,2.8119326731815816E-2,0,0,5.5755970317211756E-5,2.2800440297931745E-9,1.5678203465991019E-10,1.7421754223049638E-11,1.0609787025134864E-3,5.547199277220324,0.43276622837162376,4.8245036549668724E-3,3.3481645263367206E-3,null,null,5.3414848142753044,{"$f":"'Site&Soil'!$H$173*EXP('Site&Soil'!$H$174*AR184)","v":0},0.72675000000000001,1,4.5236583641596412E-2,0,0,2.8168941944159247E-5,1.1519201897118476E-9,1.2742666983522334E-10,1.3627263342951934E-11,1.8055887267330037E-10,5.3414848144558631,0.46619908890579836,3.2363556037381777E-3,2.1852742362967934E-3,null,null,null,null,null,null,null,null,null,null,null,null,null,null,null,null,null,null,null,null,null,null,{"$error":"#VALUE!"},{"$f":"'Site&Soil'!$F$173*EXP('Site&Soil'!$F$174*CD184)","v":{"$error":"#VALUE!"}},{"$error":"#VALUE!"},0,{"$error":"#VALUE!"},0,0,{"$error":"#VALUE!"},{"$error":"#VALUE!"},{"$error":"#VALUE!"},{"$error":"#VALUE!"},{"$error":"#VALUE!"},{"$error":"#VALUE!"},{"$error":"#VALUE!"},{"$error":"#VALUE!"},{"$error":"#VALUE!"},null,null,{"$error":"#VALUE!"},{"$f":"'Site&Soil'!$G$173*EXP('Site&Soil'!$G$174*CV184)","v":{"$error":"#VALUE!"}},{"$error":"#VALUE!"},0,{"$error":"#VALUE!"},0,0,{"$error":"#VALUE!"},{"$error":"#VALUE!"},{"$error":"#VALUE!"},{"$error":"#VALUE!"},{"$error":"#VALUE!"},{"$error":"#VALUE!"},{"$error":"#VALUE!"},{"$error":"#VALUE!"},{"$error":"#VALUE!"},null,null,{"$error":"#VALUE!"},{"$f":"'Site&Soil'!$H$173*EXP('Site&Soil'!$H$174*DN184)","v":{"$error":"#VALUE!"}},{"$error":"#VALUE!"},0,{"$error":"#VALUE!"},0,0,{"$error":"#VALUE!"},{"$error":"#VALUE!"},{"$error":"#VALUE!"},{"$error":"#VALUE!"},{"$error":"#VALUE!"},{"$error":"#VALUE!"},{"$error":"#VALUE!"},{"$error":"#VALUE!"},{"$error":"#VALUE!"}]
[null,177,"Sep",null,null,null,null,6.1333461551543378,{"$f":"'Site&Soil'!$F$173*EXP('Site&Soil'!$F$174*H185)","v":0},0.69468750000000001,0.93941306281347592,6.6134469152832193E-3,0,0,8243.2299874959535,0.33709264160003705,5.4516163932775245E-3,7.7951513932743809E-4,6.7254718905264401E-3,6.1400716270448639,0.16677475841272862,6.8400384359276287E-3,-9.8462091745247018E-3,null,null,5.5505474417466605,{"$f":"'Site&Soil'!$G$173*EXP('Site&Soil'!$G$174*Z185)","v":0},0.79087499999999999,0.96078943915232284,2.6740785186126798E-2,0,0,5.1922038008648849E-5,2.1232619951332644E-9,1.3884360648151898E-10,1.5444176493334544E-11,9.8563649467598314E-4,5.5515330782413361,0.43619372325411671,4.7188993121526374E-3,2.6820156456772454E-3,null,null,5.3436700886921598,{"$f":"'Site&Soil'!$H$173*EXP('Site&Soil'!$H$174*AR185)","v":0},0.72675000000000001,0.97979867385370423,4.4098727379445368E-2,0,0,2.5052862812302152E-5,1.0244935198766244E-9,1.1047993672343577E-10,1.1818814614837001E-11,1.5700763481518171E-10,5.3436700888491675,0.46778723707113234,3.1978295007218873E-3,2.0929753167261782E-3,null,null,null,null,null,null,null,null,null,null,null,null,null,null,null,null,null,null,null,null,null,null,{"$error":"#VALUE!"},{"$f":"'Site&Soil'!$F$173*EXP('Site&Soil'!$F$174*CD185)","v":{"$error":"#VALUE!"}},{"$error":"#VALUE!"},0,{"$error":"#VALUE!"},0,0,{"$error":"#VALUE!"},{"$error":"#VALUE!"},{"$error":"#VALUE!"},{"$error":"#VALUE!"},{"$error":"#VALUE!"},{"$error":"#VALUE!"},{"$error":"#VALUE!"},{"$error":"#VALUE!"},{"$error":"#VALUE!"},null,null,{"$error":"#VALUE!"},{"$f":"'Site&Soil'!$G$173*EXP('Site&Soil'!$G$174*CV185)","v":{"$error":"#VALUE!"}},{"$error":"#VALUE!"},0,{"$error":"#VALUE!"},0,0,{"$error":"#VALUE!"},{"$error":"#VALUE!"},{"$error":"#VALUE!"},{"$error":"#VALUE!"},{"$error":"#VALUE!"},{"$error":"#VALUE!"},{"$error":"#VALUE!"},{"$error":"#VALUE!"},{"$error":"#VALUE!"},null,null,{"$error":"#VALUE!"},{"$f":"'Site&Soil'!$H$173*EXP('Site&Soil'!$H$174*DN185)","v":{"$error":"#VALUE!"}},{"$error":"#VALUE!"},0,{"$error":"#VALUE!"},0,0,{"$error":"#VALUE!"},{"$error":"#VALUE!"},{"$error":"#VALUE!"},{"$error":"#VALUE!"},{"$error":"#VALUE!"},{"$error":"#VALUE!"},{"$error":"#VALUE!"},{"$error":"#VALUE!"},{"$error":"#VALUE!"}]
[null,178,"Oct",null,null,null,null,6.1302254178703395,{"$f":"'Site&Soil'!$F$173*EXP('Site&Soil'!$F$174*H186)","v":0},0.69468750000000001,0.77880078307140521,5.5240556987044024E-3,0,0,8109.9167015099902,0.33164102520675953,4.4799631570994272E-3,6.3920158665461404E-4,5.5287615948823223E-3,6.1357541794652217,0.16377548154724597,5.5135262175920602E-3,-7.9366999083646389E-3,0.02,null,5.554215093887013,{"$f":"'Site&Soil'!$G$173*EXP('Site&Soil'!$G$174*Z186)","v":0},0.79087499999999999,0.85214378896621112,2.3515234554521095E-2,0,0,4.8526770241639793E-5,1.9844183886517454E-9,1.141118384405514E-10,1.270402686743457E-11,8.0822087948465395E-4,5.5550233147664976,0.43895406406595378,4.2457583458573919E-3,1.6029939898652358E-3,0.02,null,5.3457630641658938,{"$f":"'Site&Soil'!$H$173*EXP('Site&Soil'!$H$174*AR186)","v":0},0.72675000000000001,0.92161044729772479,4.1278972832168338E-2,0,0,2.235119740930636E-5,9.1401358315318856E-10,9.2263447062518859E-11,9.8731785580388063E-12,1.3084870364212539E-10,5.3457630642967429,0.46930830697765774,3.0322757658398708E-3,1.6697386721947316E-3,0.02,null,{"$f":"BJ174+1","v":15},{"$f":"AVERAGE(H181:H186)","v":6.138264996532155},{"$f":"AVERAGE(Z181:Z186)","v":5.544580869550404},{"$f":"AVERAGE(AR181:AR186)","v":5.3409890939032678},null,null,null,null,null,null,null,null,null,null,null,null,null,null,null,null,{"$error":"#VALUE!"},{"$f":"'Site&Soil'!$F$173*EXP('Site&Soil'!$F$174*CD186)","v":{"$error":"#VALUE!"}},{"$error":"#VALUE!"},0,{"$error":"#VALUE!"},0,0,{"$error":"#VALUE!"},{"$error":"#VALUE!"},{"$error":"#VALUE!"},{"$error":"#VALUE!"},{"$error":"#VALUE!"},{"$error":"#VALUE!"},{"$error":"#VALUE!"},{"$error":"#VALUE!"},{"$error":"#VALUE!"},{"$error":"#VALUE!"},null,{"$error":"#VALUE!"},{"$f":"'Site&Soil'!$G$173*EXP('Site&Soil'!$G$174*CV186)","v":{"$error":"#VALUE!"}},{"$error":"#VALUE!"},0,{"$error":"#VALUE!"},0,0,{"$error":"#VALUE!"},{"$error":"#VALUE!"},{"$error":"#VALUE!"},{"$error":"#VALUE!"},{"$error":"#VALUE!"},{"$error":"#VALUE!"},{"$error":"#VALUE!"},{"$error":"#VALUE!"},{"$error":"#VALUE!"},{"$error":"#VALUE!"},null,{"$error":"#VALUE!"},{"$f":"'Site&Soil'!$H$173*EXP('Site&Soil'!$H$174*DN186)","v":{"$error":"#VALUE!"}},{"$error":"#VALUE!"},0,{"$error":"#VALUE!"},0,0,{"$error":"#VALUE!"},{"$error":"#VALUE!"},{"$error":"#VALUE!"},{"$error":"#VALUE!"},{"$error":"#VALUE!"},{"$error":"#VALUE!"},{"$error":"#VALUE!"},{"$error":"#VALUE!"},{"$error":"#VALUE!"},{"$error":"#VALUE!"},null,{"$f":"EF174+1","v":15},{"$f":"AVERAGE(CD181:CD186)","v":{"$error":"#VALUE!"}},{"$f":"AVERAGE(CV181:CV186)","v":{"$error":"#VALUE!"}},{"$f":"AVERAGE(DN181:DN186)","v":{"$error":"#VALUE!"}}]
[null,179,"Nov",null,null,null,null,6.1478174795568563,{"$f":"'Site&Soil'!$F$173*EXP('Site&Soil'!$F$174*H187)","v":0},0.69468750000000001,0.56978282473092301,3.8738947420244381E-3,0,0,8000.3641272853174,0.32716106204966011,3.0992568526971528E-3,4.4767043353890882E-4,3.816948511608808E-3,6.1516344280684647,0.17480729174881135,4.4658417184203613E-3,-6.4285620777980905E-3,null,null,5.5766263087563628,{"$f":"'Site&Soil'!$G$173*EXP('Site&Soil'!$G$174*Z187)","v":0},0.79087499999999999,0.69767632607103081,1.8273240147517831E-2,0,0,4.5736290674668014E-5,1.8703065502111938E-9,8.3575022295488889E-11,9.3545197952325965E-12,5.66044580697849E-4,5.5771923533370602,0.45648700244544749,3.8042999909161197E-3,8.364681239187503E-4,null,null,5.3674328029689375,{"$f":"'Site&Soil'!$H$173*EXP('Site&Soil'!$H$174*AR187)","v":0},0.72675000000000001,0.83220750069030147,3.5447570664582012E-2,0,0,2.009499623574916E-5,8.2175013609066976E-10,7.1231879907122799E-11,7.6481250199045206E-12,1.0036226306494789E-10,5.3674328030692999,0.48505678963061361,2.9747948220948117E-3,1.1413899811782704E-3,null,null,null,null,null,null,null,null,null,null,null,null,null,null,null,null,null,null,null,null,null,null,{"$error":"#VALUE!"},{"$f":"'Site&Soil'!$F$173*EXP('Site&Soil'!$F$174*CD187)","v":{"$error":"#VALUE!"}},{"$error":"#VALUE!"},0,{"$error":"#VALUE!"},0,0,{"$error":"#VALUE!"},{"$error":"#VALUE!"},{"$error":"#VALUE!"},{"$error":"#VALUE!"},{"$error":"#VALUE!"},{"$error":"#VALUE!"},{"$error":"#VALUE!"},{"$error":"#VALUE!"},{"$error":"#VALUE!"},null,null,{"$error":"#VALUE!"},{"$f":"'Site&Soil'!$G$173*EXP('Site&Soil'!$G$174*CV187)","v":{"$error":"#VALUE!"}},{"$error":"#VALUE!"},0,{"$error":"#VALUE!"},0,0,{"$error":"#VALUE!"},{"$error":"#VALUE!"},{"$error":"#VALUE!"},{"$error":"#VALUE!"},{"$error":"#VALUE!"},{"$error":"#VALUE!"},{"$error":"#VALUE!"},{"$error":"#VALUE!"},{"$error":"#VALUE!"},null,null,{"$error":"#VALUE!"},{"$f":"'Site&Soil'!$H$173*EXP('Site&Soil'!$H$174*DN187)","v":{"$error":"#VALUE!"}},{"$error":"#VALUE!"},0,{"$error":"#VALUE!"},0,0,{"$error":"#VALUE!"},{"$error":"#VALUE!"},{"$error":"#VALUE!"},{"$error":"#VALUE!"},{"$error":"#VALUE!"},{"$error":"#VALUE!"},{"$error":"#VALUE!"},{"$error":"#VALUE!"},{"$error":"#VALUE!"}]
[null,180,"Dec",null,null,null,null,6.1452058659906665,{"$f":"'Site&Soil'!$F$173*EXP('Site&Soil'!$F$174*H188)","v":0},0.69468750000000001,0.36787944117144233,2.5169621404137785E-3,0,0,7924.5752079370914,0.32406180519696298,1.9945855777239309E-3,2.8757532191569027E-4,2.4572347362061941E-3,6.1476631007268727,0.17204846028619916,2.8120265005816682E-3,-4.0479013953492295E-3,null,null,5.578028821460979,{"$f":"'Site&Soil'!$G$173*EXP('Site&Soil'!$G$174*Z188)","v":0},0.79087499999999999,0.52729242404304844,1.3765552052567673E-2,0,0,4.3692555377683297E-5,1.7867315279157049E-9,6.0145214536119508E-11,6.734351382719551E-12,3.6361672239804452E-4,5.5783924381833767,0.45743611954827806,2.8891788278629931E-3,-9.7553124427153347E-5,null,null,5.3685741930504784,{"$f":"'Site&Soil'!$H$173*EXP('Site&Soil'!$H$174*AR188)","v":0},0.72675000000000001,0.72142229035475613,3.0647463252167485E-2,0,0,1.8353098917169305E-5,7.5051825618354697E-10,5.6247592462734114E-11,6.0403617271461424E-12,7.8350990186869661E-11,5.3685741931288291,0.48588629485637641,2.5899918613152021E-3,4.1167797254597994E-4,null,null,null,null,null,null,null,null,null,null,null,null,null,null,null,null,null,null,null,null,null,null,{"$error":"#VALUE!"},{"$f":"'Site&Soil'!$F$173*EXP('Site&Soil'!$F$174*CD188)","v":{"$error":"#VALUE!"}},{"$error":"#VALUE!"},0,{"$error":"#VALUE!"},0,0,{"$error":"#VALUE!"},{"$error":"#VALUE!"},{"$error":"#VALUE!"},{"$error":"#VALUE!"},{"$error":"#VALUE!"},{"$error":"#VALUE!"},{"$error":"#VALUE!"},{"$error":"#VALUE!"},{"$error":"#VALUE!"},null,null,{"$error":"#VALUE!"},{"$f":"'Site&Soil'!$G$173*EXP('Site&Soil'!$G$174*CV188)","v":{"$error":"#VALUE!"}},{"$error":"#VALUE!"},0,{"$error":"#VALUE!"},0,0,{"$error":"#VALUE!"},{"$error":"#VALUE!"},{"$error":"#VALUE!"},{"$error":"#VALUE!"},{"$error":"#VALUE!"},{"$error":"#VALUE!"},{"$error":"#VALUE!"},{"$error":"#VALUE!"},{"$error":"#VALUE!"},null,null,{"$error":"#VALUE!"},{"$f":"'Site&Soil'!$H$173*EXP('Site&Soil'!$H$174*DN188)","v":{"$error":"#VALUE!"}},{"$error":"#VALUE!"},0,{"$error":"#VALUE!"},0,0,{"$error":"#VALUE!"},{"$error":"#VALUE!"},{"$error":"#VALUE!"},{"$error":"#VALUE!"},{"$error":"#VALUE!"},{"$error":"#VALUE!"},{"$error":"#VALUE!"},{"$error":"#VALUE!"},{"$error":"#VALUE!"}]
[{"$f":"A177+1","v":16},181,"Jan",{"$f":"OFFSET(Apply_Lime!$H$16,$A189,0)","v":0},{"$f":"OFFSET(Apply_Lime!$I$16,$A189,0)*E$7","v":0},{"$f":"OFFSET(Apply_Lime!$I$16,$A189,0)*F$7","v":0},null,6.1436151993315233,{"$f":"'Site&Soil'!$F$173*EXP('Site&Soil'!$F$174*H189)","v":0},0.69468750000000001,4.6770622383959001E-2,3.2122427716689382E-4,0,0,7875.7998102633883,0.32206721961923906,2.5298981011630164E-4,3.6434699115390142E-5,3.1173025425232419E-4,6.1439269295857759,0.16945298889661844,3.4909956873390677E-4,-5.0252749435380193E-4,null,null,5.5782948850589493,{"$f":"'Site&Soil'!$G$173*EXP('Site&Soil'!$G$174*Z189)","v":0},0.79087499999999999,0.14085842092104497,3.6749854960307486E-3,0,0,4.2221770273282306E-5,1.7265863133795854E-9,1.5516439337105469E-11,1.7374615792472645E-12,4.6068864099090119E-5,5.5783409539230489,0.45739540193389128,7.7164147736147283E-4,-5.342714191592427E-4,null,null,5.3689858711013754,{"$f":"'Site&Soil'!$H$173*EXP('Site&Soil'!$H$174*AR189)","v":0},0.72675000000000001,0.36787944117144233,1.561333759340023E-2,0,0,1.6977625875952942E-5,6.9427066372081284E-10,2.6507740433570061E-11,2.8468203118271301E-12,3.494789363741341E-11,5.3689858711363234,0.48618548184832294,1.3227975300406079E-3,-7.5838466140919854E-4,null,null,null,null,null,null,null,null,null,null,null,null,null,null,null,null,null,null,{"$f":"OFFSET(Apply_Lime!$O$16,$A189,0)","v":0},{"$f":"OFFSET(Apply_Lime!$P$16,$A189,0)*CA$7","v":0},{"$f":"OFFSET(Apply_Lime!$P$16,$A189,0)*CB$7","v":0},null,{"$error":"#VALUE!"},{"$f":"'Site&Soil'!$F$173*EXP('Site&Soil'!$F$174*CD189)","v":{"$error":"#VALUE!"}},{"$error":"#VALUE!"},0,{"$error":"#VALUE!"},0,0,{"$error":"#VALUE!"},{"$error":"#VALUE!"},{"$error":"#VALUE!"},{"$error":"#VALUE!"},{"$error":"#VALUE!"},{"$error":"#VALUE!"},{"$error":"#VALUE!"},{"$error":"#VALUE!"},{"$error":"#VALUE!"},null,null,{"$error":"#VALUE!"},{"$f":"'Site&Soil'!$G$173*EXP('Site&Soil'!$G$174*CV189)","v":{"$error":"#VALUE!"}},{"$error":"#VALUE!"},0,{"$error":"#VALUE!"},0,0,{"$error":"#VALUE!"},{"$error":"#VALUE!"},{"$error":"#VALUE!"},{"$error":"#VALUE!"},{"$error":"#VALUE!"},{"$error":"#VALUE!"},{"$error":"#VALUE!"},{"$error":"#VALUE!"},{"$error":"#VALUE!"},null,null,{"$error":"#VALUE!"},{"$f":"'Site&Soil'!$H$173*EXP('Site&Soil'!$H$174*DN189)","v":{"$error":"#VALUE!"}},{"$error":"#VALUE!"},0,{"$error":"#VALUE!"},0,0,{"$error":"#VALUE!"},{"$error":"#VALUE!"},{"$error":"#VALUE!"},{"$error":"#VALUE!"},{"$error":"#VALUE!"},{"$error":"#VALUE!"},{"$error":"#VALUE!"},{"$error":"#VALUE!"},{"$error":"#VALUE!"}]
[null,182,"Feb",null,null,null,null,6.1434244020914219,{"$f":"'Site&Soil'!$F$173*EXP('Site&Soil'!$F$174*H190)","v":0},0.69468750000000001,0.1053992245618643,7.2422282338662815E-4,0,0,7869.6132225663605,0.32181422980912278,5.699353507007751E-4,8.2069057925915817E-5,7.0228166301374245E-4,6.1441266837544353,0.16959175562065901,7.8771449203817703E-4,-1.1339119993352075E-3,null,null,5.5778066825038897,{"$f":"'Site&Soil'!$G$173*EXP('Site&Soil'!$G$174*Z190)","v":0},0.79087499999999999,0.23692775868212174,6.1884641091525458E-3,0,0,4.1842332806372098E-5,1.7110698740424798E-9,2.5893977481544986E-11,2.8991435640022502E-12,1.0376997745629809E-4,5.5779104524813459,0.45705492910618439,1.2956711703262821E-3,-6.4227176012404631E-4,null,null,5.3682274864749147,{"$f":"'Site&Soil'!$H$173*EXP('Site&Soil'!$H$174*AR190)","v":0},0.72675000000000001,0.47965226883004436,2.0392983389386828E-2,0,0,1.6329408223364647E-5,6.677629232872428E-10,3.3300535065759194E-11,3.57590831021839E-12,4.4889948840100523E-11,5.368227486519805,0.48563432582826815,1.7197422689385906E-3,-5.8351716355322801E-4,null,null,null,null,null,null,null,null,null,null,null,null,null,null,null,null,null,null,null,null,null,null,{"$error":"#VALUE!"},{"$f":"'Site&Soil'!$F$173*EXP('Site&Soil'!$F$174*CD190)","v":{"$error":"#VALUE!"}},{"$error":"#VALUE!"},0,{"$error":"#VALUE!"},0,0,{"$error":"#VALUE!"},{"$error":"#VALUE!"},{"$error":"#VALUE!"},{"$error":"#VALUE!"},{"$error":"#VALUE!"},{"$error":"#VALUE!"},{"$error":"#VALUE!"},{"$error":"#VALUE!"},{"$error":"#VALUE!"},null,null,{"$error":"#VALUE!"},{"$f":"'Site&Soil'!$G$173*EXP('Site&Soil'!$G$174*CV190)","v":{"$error":"#VALUE!"}},{"$error":"#VALUE!"},0,{"$error":"#VALUE!"},0,0,{"$error":"#VALUE!"},{"$error":"#VALUE!"},{"$error":"#VALUE!"},{"$error":"#VALUE!"},{"$error":"#VALUE!"},{"$error":"#VALUE!"},{"$error":"#VALUE!"},{"$error":"#VALUE!"},{"$error":"#VALUE!"},null,null,{"$error":"#VALUE!"},{"$f":"'Site&Soil'!$H$173*EXP('Site&Soil'!$H$174*DN190)","v":{"$error":"#VALUE!"}},{"$error":"#VALUE!"},0,{"$error":"#VALUE!"},0,0,{"$error":"#VALUE!"},{"$error":"#VALUE!"},{"$error":"#VALUE!"},{"$error":"#VALUE!"},{"$error":"#VALUE!"},{"$error":"#VALUE!"},{"$error":"#VALUE!"},{"$error":"#VALUE!"},{"$error":"#VALUE!"}]
[null,183,"Mar",null,null,null,null,6.1429927717551003,{"$f":"'Site&Soil'!$F$173*EXP('Site&Soil'!$F$174*H191)","v":0},0.69468750000000001,0.20961138715109778,1.4417871415609268E-3,0,0,7855.6760800896491,0.32124429445842201,1.1326212760541E-3,1.6304471757017027E-4,1.3957017486048472E-3,6.1443884735037049,0.16977361768710472,1.5691828342755715E-3,-2.2588326899153524E-3,null,null,5.5772681807212221,{"$f":"'Site&Soil'!$G$173*EXP('Site&Soil'!$G$174*Z191)","v":0},0.79087499999999999,0.36787944117144206,9.6209391056921792E-3,0,0,4.1209124052071625E-5,1.6851758965609349E-9,3.9647047310389613E-11,4.4383781669820209E-12,2.0615742409209979E-4,5.577474338145314,0.45671001718067522,2.0082621054153152E-3,-5.5518162938485052E-4,null,null,5.3676439693562514,{"$f":"'Site&Soil'!$H$173*EXP('Site&Soil'!$H$174*AR191)","v":0},0.72675000000000001,0.60037304119840451,2.5560144186733438E-2,0,0,1.5515080245302678E-5,6.3446238822148361E-10,3.965676881386761E-11,4.2580660597449324E-12,5.4815384824361473E-11,5.3676439694110671,0.48521025476949292,2.1478063551799002E-3,-1.9201135158525629E-4,null,null,null,null,null,null,null,null,null,null,null,null,null,null,null,null,null,null,null,null,null,null,{"$error":"#VALUE!"},{"$f":"'Site&Soil'!$F$173*EXP('Site&Soil'!$F$174*CD191)","v":{"$error":"#VALUE!"}},{"$error":"#VALUE!"},0,{"$error":"#VALUE!"},0,0,{"$error":"#VALUE!"},{"$error":"#VALUE!"},{"$error":"#VALUE!"},{"$error":"#VALUE!"},{"$error":"#VALUE!"},{"$error":"#VALUE!"},{"$error":"#VALUE!"},{"$error":"#VALUE!"},{"$error":"#VALUE!"},null,null,{"$error":"#VALUE!"},{"$f":"'Site&Soil'!$G$173*EXP('Site&Soil'!$G$174*CV191)","v":{"$error":"#VALUE!"}},{"$error":"#VALUE!"},0,{"$error":"#VALUE!"},0,0,{"$error":"#VALUE!"},{"$error":"#VALUE!"},{"$error":"#VALUE!"},{"$error":"#VALUE!"},{"$error":"#VALUE!"},{"$error":"#VALUE!"},{"$error":"#VALUE!"},{"$error":"#VALUE!"},{"$error":"#VALUE!"},null,null,{"$error":"#VALUE!"},{"$f":"'Site&Soil'!$H$173*EXP('Site&Soil'!$H$174*DN191)","v":{"$error":"#VALUE!"}},{"$error":"#VALUE!"},0,{"$error":"#VALUE!"},0,0,{"$error":"#VALUE!"},{"$error":"#VALUE!"},{"$error":"#VALUE!"},{"$error":"#VALUE!"},{"$error":"#VALUE!"},{"$error":"#VALUE!"},{"$error":"#VALUE!"},{"$error":"#VALUE!"},{"$error":"#VALUE!"}]
[null,184,"Apr",null,null,null,null,6.1421296408137893,{"$f":"'Site&Soil'!$F$173*EXP('Site&Soil'!$F$174*H192)","v":0},0.69468750000000001,0.36787944117144233,2.5356807024698256E-3,0,0,7827.9790718638724,0.32011167318236788,1.9849255471862878E-3,2.8556362086090887E-4,2.4462249951602397E-3,6.1445758658089495,0.1699037967791544,2.7573028384925984E-3,-3.9691268930167854E-3,null,null,5.5769191565159293,{"$f":"'Site&Soil'!$G$173*EXP('Site&Soil'!$G$174*Z192)","v":0},0.79087499999999999,0.52729242404304844,1.3801195952526589E-2,0,0,4.0239599093729614E-5,1.6455288492505453E-9,5.5535459214367376E-11,6.2165092767623747E-12,3.610730775152316E-4,5.5772802295934447,0.45655650157971561,2.8762477563085624E-3,-1.5039660858664648E-4,null,null,5.3674519580594815,{"$f":"'Site&Soil'!$H$173*EXP('Site&Soil'!$H$174*AR192)","v":0},0.72675000000000001,0.72142229035475613,3.0727350249276999E-2,0,0,1.4545317558279872E-5,5.9480561940761602E-10,4.4693906710022417E-11,4.798772984966111E-12,6.3449113177597083E-11,5.3674519581229303,0.48507071056583945,2.5789716436064019E-3,4.0904865868890335E-4,null,null,null,null,null,null,null,null,null,null,null,null,null,null,null,null,null,null,null,null,null,null,{"$error":"#VALUE!"},{"$f":"'Site&Soil'!$F$173*EXP('Site&Soil'!$F$174*CD192)","v":{"$error":"#VALUE!"}},{"$error":"#VALUE!"},0,{"$error":"#VALUE!"},0,0,{"$error":"#VALUE!"},{"$error":"#VALUE!"},{"$error":"#VALUE!"},{"$error":"#VALUE!"},{"$error":"#VALUE!"},{"$error":"#VALUE!"},{"$error":"#VALUE!"},{"$error":"#VALUE!"},{"$error":"#VALUE!"},null,null,{"$error":"#VALUE!"},{"$f":"'Site&Soil'!$G$173*EXP('Site&Soil'!$G$174*CV192)","v":{"$error":"#VALUE!"}},{"$error":"#VALUE!"},0,{"$error":"#VALUE!"},0,0,{"$error":"#VALUE!"},{"$error":"#VALUE!"},{"$error":"#VALUE!"},{"$error":"#VALUE!"},{"$error":"#VALUE!"},{"$error":"#VALUE!"},{"$error":"#VALUE!"},{"$error":"#VALUE!"},{"$error":"#VALUE!"},null,null,{"$error":"#VALUE!"},{"$f":"'Site&Soil'!$H$173*EXP('Site&Soil'!$H$174*DN192)","v":{"$error":"#VALUE!"}},{"$error":"#VALUE!"},0,{"$error":"#VALUE!"},0,0,{"$error":"#VALUE!"},{"$error":"#VALUE!"},{"$error":"#VALUE!"},{"$error":"#VALUE!"},{"$error":"#VALUE!"},{"$error":"#VALUE!"},{"$error":"#VALUE!"},{"$error":"#VALUE!"},{"$error":"#VALUE!"}]
[null,185,"May",null,null,null,null,6.1406067389159329,{"$f":"'Site&Soil'!$F$173*EXP('Site&Soil'!$F$174*H193)","v":0},0.69468750000000001,0.56978282473092301,3.9417678594316028E-3,0,0,7779.4398996177842,0.31812674763518162,3.0664746160693197E-3,4.4069107079717314E-4,3.779805373311232E-3,6.1443865442892438,0.16977227748593382,4.2654285641803317E-3,-6.1400681085816743E-3,null,null,5.5771298329848582,{"$f":"'Site&Soil'!$G$173*EXP('Site&Soil'!$G$174*Z193)","v":0},0.79087499999999999,0.69767632607103081,1.8251810649328293E-2,0,0,3.8881540488260548E-5,1.5899933900361778E-9,7.0965851474592308E-11,7.9441623188895507E-12,5.5721970452835446E-4,5.5776870526893862,0.45687824779571834,3.8119001911706913E-3,5.7345139625053325E-4,null,null,5.3678610067816193,{"$f":"'Site&Soil'!$H$173*EXP('Site&Soil'!$H$174*AR193)","v":0},0.72675000000000001,0.83220750069030147,3.5412378096692405E-2,0,0,1.3452377201285847E-5,5.501117126975936E-10,4.7638066775125921E-11,5.1152175025737768E-12,6.9442052413404465E-11,5.3678610068510615,0.48536798672900883,2.9796397607720518E-3,1.1451811907790016E-3,null,null,null,null,null,null,null,null,null,null,null,null,null,null,null,null,null,null,null,null,null,null,{"$error":"#VALUE!"},{"$f":"'Site&Soil'!$F$173*EXP('Site&Soil'!$F$174*CD193)","v":{"$error":"#VALUE!"}},{"$error":"#VALUE!"},0,{"$error":"#VALUE!"},0,0,{"$error":"#VALUE!"},{"$error":"#VALUE!"},{"$error":"#VALUE!"},{"$error":"#VALUE!"},{"$error":"#VALUE!"},{"$error":"#VALUE!"},{"$error":"#VALUE!"},{"$error":"#VALUE!"},{"$error":"#VALUE!"},null,null,{"$error":"#VALUE!"},{"$f":"'Site&Soil'!$G$173*EXP('Site&Soil'!$G$174*CV193)","v":{"$error":"#VALUE!"}},{"$error":"#VALUE!"},0,{"$error":"#VALUE!"},0,0,{"$error":"#VALUE!"},{"$error":"#VALUE!"},{"$error":"#VALUE!"},{"$error":"#VALUE!"},{"$error":"#VALUE!"},{"$error":"#VALUE!"},{"$error":"#VALUE!"},{"$error":"#VALUE!"},{"$error":"#VALUE!"},null,null,{"$error":"#VALUE!"},{"$f":"'Site&Soil'!$H$173*EXP('Site&Soil'!$H$174*DN193)","v":{"$error":"#VALUE!"}},{"$error":"#VALUE!"},0,{"$error":"#VALUE!"},0,0,{"$error":"#VALUE!"},{"$error":"#VALUE!"},{"$error":"#VALUE!"},{"$error":"#VALUE!"},{"$error":"#VALUE!"},{"$error":"#VALUE!"},{"$error":"#VALUE!"},{"$error":"#VALUE!"},{"$error":"#VALUE!"}]
[null,186,"Jun",null,null,null,null,6.1382464761806625,{"$f":"'Site&Soil'!$F$173*EXP('Site&Soil'!$F$174*H194)","v":0},0.69468750000000001,0.77880078307140521,5.4184605497137866E-3,0,0,7704.4526338290816,0.31506027301911232,4.1746272653541356E-3,5.9895752437648039E-4,5.1471629199858282E-3,6.1433936391006485,0.16908251866273152,5.7932027358602511E-3,-8.3392931870233025E-3,null,null,5.5782605040856366,{"$f":"'Site&Soil'!$G$173*EXP('Site&Soil'!$G$174*Z194)","v":0},0.79087499999999999,0.85214378896621112,2.2234148118976151E-2,0,0,3.7146148602555628E-5,1.5190275385615855E-9,8.2591297007872073E-11,9.2481262821406968E-12,7.5733535352571666E-4,5.5790178394391621,0.45793073376644733,4.6809124063254279E-3,1.4064047157070626E-3,null,null,5.3690061880418405,{"$f":"'Site&Soil'!$H$173*EXP('Site&Soil'!$H$174*AR194)","v":0},0.72675000000000001,0.92161044729772479,3.9112642009754582E-2,0,0,1.2287440646387732E-5,5.0247364592246771E-10,4.8059426721827082E-11,5.1613977920437574E-12,7.1752535551323033E-11,5.3690061881135929,0.48620024721155347,3.3141239915221231E-3,1.8806858132828412E-3,null,null,null,null,null,null,null,null,null,null,null,null,null,null,null,null,null,null,null,null,null,null,{"$error":"#VALUE!"},{"$f":"'Site&Soil'!$F$173*EXP('Site&Soil'!$F$174*CD194)","v":{"$error":"#VALUE!"}},{"$error":"#VALUE!"},0,{"$error":"#VALUE!"},0,0,{"$error":"#VALUE!"},{"$error":"#VALUE!"},{"$error":"#VALUE!"},{"$error":"#VALUE!"},{"$error":"#VALUE!"},{"$error":"#VALUE!"},{"$error":"#VALUE!"},{"$error":"#VALUE!"},{"$error":"#VALUE!"},null,null,{"$error":"#VALUE!"},{"$f":"'Site&Soil'!$G$173*EXP('Site&Soil'!$G$174*CV194)","v":{"$error":"#VALUE!"}},{"$error":"#VALUE!"},0,{"$error":"#VALUE!"},0,0,{"$error":"#VALUE!"},{"$error":"#VALUE!"},{"$error":"#VALUE!"},{"$error":"#VALUE!"},{"$error":"#VALUE!"},{"$error":"#VALUE!"},{"$error":"#VALUE!"},{"$error":"#VALUE!"},{"$error":"#VALUE!"},null,null,{"$error":"#VALUE!"},{"$f":"'Site&Soil'!$H$173*EXP('Site&Soil'!$H$174*DN194)","v":{"$error":"#VALUE!"}},{"$error":"#VALUE!"},0,{"$error":"#VALUE!"},0,0,{"$error":"#VALUE!"},{"$error":"#VALUE!"},{"$error":"#VALUE!"},{"$error":"#VALUE!"},{"$error":"#VALUE!"},{"$error":"#VALUE!"},{"$error":"#VALUE!"},{"$error":"#VALUE!"},{"$error":"#VALUE!"}]
[null,187,"Jul",null,null,null,null,6.1350543459136251,{"$f":"'Site&Soil'!$F$173*EXP('Site&Soil'!$F$174*H195)","v":0},0.69468750000000001,0.93941306281347592,6.5863194834308537E-3,0,0,7602.3667131841094,0.31088564575375821,5.0071616003230686E-3,7.1681177483076371E-4,6.1759421689497867E-3,6.1412302880825749,0.16757966575236349,6.8914118100543795E-3,-9.9201609501457545E-3,null,null,5.5804242441548695,{"$f":"'Site&Soil'!$G$173*EXP('Site&Soil'!$G$174*Z195)","v":0},0.79087499999999999,0.96078943915232284,2.4942834328719767E-2,0,0,3.5126469226079441E-5,1.4364362415537135E-9,8.7615370245897279E-11,9.8159349547321329E-12,9.0635290359437209E-4,5.5813305970584635,0.45975983594861231,5.3270877036401196E-3,1.9779663112555841E-3,null,null,5.3708868739268754,{"$f":"'Site&Soil'!$H$173*EXP('Site&Soil'!$H$174*AR195)","v":0},0.72675000000000001,0.97979867385370423,4.1401100083607312E-2,0,0,1.1112200197190144E-5,4.5441421920064064E-10,4.600573125129501E-11,4.9423154833882012E-12,7.0009426518939025E-11,5.3708868739968851,0.48756703567723614,3.5486082400735604E-3,2.4471681645222691E-3,null,null,null,null,null,null,null,null,null,null,null,null,null,null,null,null,null,null,null,null,null,null,{"$error":"#VALUE!"},{"$f":"'Site&Soil'!$F$173*EXP('Site&Soil'!$F$174*CD195)","v":{"$error":"#VALUE!"}},{"$error":"#VALUE!"},0,{"$error":"#VALUE!"},0,0,{"$error":"#VALUE!"},{"$error":"#VALUE!"},{"$error":"#VALUE!"},{"$error":"#VALUE!"},{"$error":"#VALUE!"},{"$error":"#VALUE!"},{"$error":"#VALUE!"},{"$error":"#VALUE!"},{"$error":"#VALUE!"},null,null,{"$error":"#VALUE!"},{"$f":"'Site&Soil'!$G$173*EXP('Site&Soil'!$G$174*CV195)","v":{"$error":"#VALUE!"}},{"$error":"#VALUE!"},0,{"$error":"#VALUE!"},0,0,{"$error":"#VALUE!"},{"$error":"#VALUE!"},{"$error":"#VALUE!"},{"$error":"#VALUE!"},{"$error":"#VALUE!"},{"$error":"#VALUE!"},{"$error":"#VALUE!"},{"$error":"#VALUE!"},{"$error":"#VALUE!"},null,null,{"$error":"#VALUE!"},{"$f":"'Site&Soil'!$H$173*EXP('Site&Soil'!$H$174*DN195)","v":{"$error":"#VALUE!"}},{"$error":"#VALUE!"},0,{"$error":"#VALUE!"},0,0,{"$error":"#VALUE!"},{"$error":"#VALUE!"},{"$error":"#VALUE!"},{"$error":"#VALUE!"},{"$error":"#VALUE!"},{"$error":"#VALUE!"},{"$error":"#VALUE!"},{"$error":"#VALUE!"},{"$error":"#VALUE!"}]
[null,188,"Aug",null,null,null,null,6.1313101271324291,{"$f":"'Site&Soil'!$F$173*EXP('Site&Soil'!$F$174*H196)","v":0},0.69468750000000001,1,7.0745453921311164E-3,0,0,7479.9220805747909,0.30587848415343516,5.2917048288630185E-3,7.5558576592161489E-4,6.5297260465193392E-3,6.1378398531789484,0.1652243730052505,7.1765210930980605E-3,-1.0330574672925683E-2,null,null,5.5833085633697195,{"$f":"'Site&Soil'!$G$173*EXP('Site&Soil'!$G$174*Z196)","v":0},0.79087499999999999,1,2.578683313509934E-2,0,0,3.2983931661484735E-5,1.3488208713078162E-9,8.5055114189422692E-11,9.5359188815122239E-12,9.5537960036770684E-4,5.5842639429700869,0.46207974589646744,5.6102327064423254E-3,1.9804499910298532E-3,null,null,5.3733340421614075,{"$f":"'Site&Soil'!$H$173*EXP('Site&Soil'!$H$174*AR196)","v":0},0.72675000000000001,1,4.2015496423637326E-2,0,0,9.9871806131159221E-6,4.0840848794934563E-10,4.1961635133259214E-11,4.5096266285336696E-12,6.4654870844496409E-11,5.3733340422260625,0.48934551518779079,3.6555241267269304E-3,2.6896574884284759E-3,null,null,null,null,null,null,null,null,null,null,null,null,null,null,null,null,null,null,null,null,null,null,{"$error":"#VALUE!"},{"$f":"'Site&Soil'!$F$173*EXP('Site&Soil'!$F$174*CD196)","v":{"$error":"#VALUE!"}},{"$error":"#VALUE!"},0,{"$error":"#VALUE!"},0,0,{"$error":"#VALUE!"},{"$error":"#VALUE!"},{"$error":"#VALUE!"},{"$error":"#VALUE!"},{"$error":"#VALUE!"},{"$error":"#VALUE!"},{"$error":"#VALUE!"},{"$error":"#VALUE!"},{"$error":"#VALUE!"},null,null,{"$error":"#VALUE!"},{"$f":"'Site&Soil'!$G$173*EXP('Site&Soil'!$G$174*CV196)","v":{"$error":"#VALUE!"}},{"$error":"#VALUE!"},0,{"$error":"#VALUE!"},0,0,{"$error":"#VALUE!"},{"$error":"#VALUE!"},{"$error":"#VALUE!"},{"$error":"#VALUE!"},{"$error":"#VALUE!"},{"$error":"#VALUE!"},{"$error":"#VALUE!"},{"$error":"#VALUE!"},{"$error":"#VALUE!"},null,null,{"$error":"#VALUE!"},{"$f":"'Site&Soil'!$H$173*EXP('Site&Soil'!$H$174*DN196)","v":{"$error":"#VALUE!"}},{"$error":"#VALUE!"},0,{"$error":"#VALUE!"},0,0,{"$error":"#VALUE!"},{"$error":"#VALUE!"},{"$error":"#VALUE!"},{"$error":"#VALUE!"},{"$error":"#VALUE!"},{"$error":"#VALUE!"},{"$error":"#VALUE!"},{"$error":"#VALUE!"},{"$error":"#VALUE!"}]
[null,189,"Sep",null,null,null,null,6.1275092785060226,{"$f":"'Site&Soil'!$F$173*EXP('Site&Soil'!$F$174*H197)","v":0},0.69468750000000001,0.93941306281347592,6.706950519312237E-3,0,0,7350.5192561072754,0.30058677932457212,4.9299568941963291E-3,7.0209490349963199E-4,6.0859911696938508E-3,6.1335952696757161,0.16227571390284878,6.5570031599949232E-3,-9.4387809770507206E-3,null,null,5.5862443929611167,{"$f":"'Site&Soil'!$G$173*EXP('Site&Soil'!$G$174*Z197)","v":0},0.79087499999999999,0.96078943915232284,2.4606751031443885E-2,0,0,3.0904002344285235E-5,1.2637657571183935E-9,7.6044709156098495E-11,8.5319698005581514E-12,8.8774455003935054E-4,5.5871321375111558,0.46434812925413532,5.4526052634102113E-3,1.3964253473490904E-3,null,null,5.3760236997144908,{"$f":"'Site&Soil'!$H$173*EXP('Site&Soil'!$H$174*AR197)","v":0},0.72675000000000001,0.97979867385370423,4.0910650220203397E-2,0,0,8.9610549539706896E-6,3.6644685281608639E-10,3.6660258482591574E-11,3.9415877811928479E-12,5.6760427247274678E-11,5.3760236997712516,0.49130022380875699,3.6183244684697231E-3,2.5239501822366538E-3,null,null,null,null,null,null,null,null,null,null,null,null,null,null,null,null,null,null,null,null,null,null,{"$error":"#VALUE!"},{"$f":"'Site&Soil'!$F$173*EXP('Site&Soil'!$F$174*CD197)","v":{"$error":"#VALUE!"}},{"$error":"#VALUE!"},0,{"$error":"#VALUE!"},0,0,{"$error":"#VALUE!"},{"$error":"#VALUE!"},{"$error":"#VALUE!"},{"$error":"#VALUE!"},{"$error":"#VALUE!"},{"$error":"#VALUE!"},{"$error":"#VALUE!"},{"$error":"#VALUE!"},{"$error":"#VALUE!"},null,null,{"$error":"#VALUE!"},{"$f":"'Site&Soil'!$G$173*EXP('Site&Soil'!$G$174*CV197)","v":{"$error":"#VALUE!"}},{"$error":"#VALUE!"},0,{"$error":"#VALUE!"},0,0,{"$error":"#VALUE!"},{"$error":"#VALUE!"},{"$error":"#VALUE!"},{"$error":"#VALUE!"},{"$error":"#VALUE!"},{"$error":"#VALUE!"},{"$error":"#VALUE!"},{"$error":"#VALUE!"},{"$error":"#VALUE!"},null,null,{"$error":"#VALUE!"},{"$f":"'Site&Soil'!$H$173*EXP('Site&Soil'!$H$174*DN197)","v":{"$error":"#VALUE!"}},{"$error":"#VALUE!"},0,{"$error":"#VALUE!"},0,0,{"$error":"#VALUE!"},{"$error":"#VALUE!"},{"$error":"#VALUE!"},{"$error":"#VALUE!"},{"$error":"#VALUE!"},{"$error":"#VALUE!"},{"$error":"#VALUE!"},{"$error":"#VALUE!"},{"$error":"#VALUE!"}]
[null,190,"Oct",null,null,null,null,6.1241564886986657,{"$f":"'Site&Soil'!$F$173*EXP('Site&Soil'!$F$174*H198)","v":0},0.69468750000000001,0.77880078307140521,5.6052576971393027E-3,0,0,7229.9625797158642,0.29565682243037578,4.0525803399981478E-3,5.7582232838283051E-4,5.0047798637737357E-3,6.1291612685624397,0.15919546875446958,5.2785950985926979E-3,-7.5985174608621834E-3,0.02,null,5.5885285628585049,{"$f":"'Site&Soil'!$G$173*EXP('Site&Soil'!$G$174*Z198)","v":0},0.79087499999999999,0.85214378896621112,2.1708333690263509E-2,0,0,2.90444125771205E-5,1.187721047962295E-9,6.3050580006181821E-11,7.0781259155658229E-12,7.2808267343800806E-4,5.5892566455319432,0.4660283495350756,4.8773269012633031E-3,5.0737246382727332E-4,0.02,null,5.3785476499534886,{"$f":"'Site&Soil'!$H$173*EXP('Site&Soil'!$H$174*AR198)","v":0},0.72675000000000001,0.92161044729772479,3.8256373812177953E-2,0,0,8.0645686330630598E-6,3.2978659433349481E-10,3.0852115226042536E-11,3.3184673995064933E-12,4.7625419665774843E-11,5.3785476500011136,0.49313450463830916,3.4360575600955721E-3,1.9831707480808133E-3,0.02,null,{"$f":"BJ186+1","v":16},{"$f":"AVERAGE(H193:H198)","v":6.1328139092245557},{"$f":"AVERAGE(Z193:Z198)","v":5.5823160167357839},{"$f":"AVERAGE(AR193:AR198)","v":5.37260991009662},null,null,null,null,null,null,null,null,null,null,null,null,null,null,null,null,{"$error":"#VALUE!"},{"$f":"'Site&Soil'!$F$173*EXP('Site&Soil'!$F$174*CD198)","v":{"$error":"#VALUE!"}},{"$error":"#VALUE!"},0,{"$error":"#VALUE!"},0,0,{"$error":"#VALUE!"},{"$error":"#VALUE!"},{"$error":"#VALUE!"},{"$error":"#VALUE!"},{"$error":"#VALUE!"},{"$error":"#VALUE!"},{"$error":"#VALUE!"},{"$error":"#VALUE!"},{"$error":"#VALUE!"},{"$error":"#VALUE!"},null,{"$error":"#VALUE!"},{"$f":"'Site&Soil'!$G$173*EXP('Site&Soil'!$G$174*CV198)","v":{"$error":"#VALUE!"}},{"$error":"#VALUE!"},0,{"$error":"#VALUE!"},0,0,{"$error":"#VALUE!"},{"$error":"#VALUE!"},{"$error":"#VALUE!"},{"$error":"#VALUE!"},{"$error":"#VALUE!"},{"$error":"#VALUE!"},{"$error":"#VALUE!"},{"$error":"#VALUE!"},{"$error":"#VALUE!"},{"$error":"#VALUE!"},null,{"$error":"#VALUE!"},{"$f":"'Site&Soil'!$H$173*EXP('Site&Soil'!$H$174*DN198)","v":{"$error":"#VALUE!"}},{"$error":"#VALUE!"},0,{"$error":"#VALUE!"},0,0,{"$error":"#VALUE!"},{"$error":"#VALUE!"},{"$error":"#VALUE!"},{"$error":"#VALUE!"},{"$error":"#VALUE!"},{"$error":"#VALUE!"},{"$error":"#VALUE!"},{"$error":"#VALUE!"},{"$error":"#VALUE!"},{"$error":"#VALUE!"},null,{"$f":"EF186+1","v":16},{"$f":"AVERAGE(CD193:CD198)","v":{"$error":"#VALUE!"}},{"$f":"AVERAGE(CV193:CV198)","v":{"$error":"#VALUE!"}},{"$f":"AVERAGE(DN193:DN198)","v":{"$error":"#VALUE!"}}]
[null,191,"Nov",null,null,null,null,6.1415627511015769,{"$f":"'Site&Soil'!$F$173*EXP('Site&Soil'!$F$174*H199)","v":0},0.69468750000000001,0.56978282473092301,3.9327041950998195E-3,0,0,7130.8611824654126,0.29160424209037761,2.8043567686956189E-3,4.0329157597805503E-4,3.4563241640558728E-3,6.1450190752656324,0.17021168884859378,4.2827015439742466E-3,-6.1649324969489825E-3,null,null,5.6097640179957704,{"$f":"'Site&Soil'!$G$173*EXP('Site&Soil'!$G$174*Z199)","v":0},0.79087499999999999,0.69767632607103081,1.691460657092694E-2,0,0,2.7502579953990609E-5,1.1246704679561133E-9,4.6519531960721309E-11,5.2509153123346092E-12,5.0993092112744962E-4,5.6102739489168982,0.48265040934965187,4.340708424995187E-3,-7.3345194905567173E-5,null,null,5.4005308207491938,{"$f":"'Site&Soil'!$H$173*EXP('Site&Soil'!$H$174*AR199)","v":0},0.72675000000000001,0.83220750069030147,3.2827140537728415E-2,0,0,7.3101140706560051E-6,2.9893447910745229E-10,2.3997014194425061E-11,2.5905496022710658E-12,3.6680261306485867E-11,5.4005308207858738,0.50911077400613358,3.3695719513258116E-3,1.3362730975842799E-3,null,null,null,null,null,null,null,null,null,null,null,null,null,null,null,null,null,null,null,null,null,null,{"$error":"#VALUE!"},{"$f":"'Site&Soil'!$F$173*EXP('Site&Soil'!$F$174*CD199)","v":{"$error":"#VALUE!"}},{"$error":"#VALUE!"},0,{"$error":"#VALUE!"},0,0,{"$error":"#VALUE!"},{"$error":"#VALUE!"},{"$error":"#VALUE!"},{"$error":"#VALUE!"},{"$error":"#VALUE!"},{"$error":"#VALUE!"},{"$error":"#VALUE!"},{"$error":"#VALUE!"},{"$error":"#VALUE!"},null,null,{"$error":"#VALUE!"},{"$f":"'Site&Soil'!$G$173*EXP('Site&Soil'!$G$174*CV199)","v":{"$error":"#VALUE!"}},{"$error":"#VALUE!"},0,{"$error":"#VALUE!"},0,0,{"$error":"#VALUE!"},{"$error":"#VALUE!"},{"$error":"#VALUE!"},{"$error":"#VALUE!"},{"$error":"#VALUE!"},{"$error":"#VALUE!"},{"$error":"#VALUE!"},{"$error":"#VALUE!"},{"$error":"#VALUE!"},null,null,{"$error":"#VALUE!"},{"$f":"'Site&Soil'!$H$173*EXP('Site&Soil'!$H$174*DN199)","v":{"$error":"#VALUE!"}},{"$error":"#VALUE!"},0,{"$error":"#VALUE!"},0,0,{"$error":"#VALUE!"},{"$error":"#VALUE!"},{"$error":"#VALUE!"},{"$error":"#VALUE!"},{"$error":"#VALUE!"},{"$error":"#VALUE!"},{"$error":"#VALUE!"},{"$error":"#VALUE!"},{"$error":"#VALUE!"}]
[null,192,"Dec",null,null,null,null,6.1388541427686834,{"$f":"'Site&Soil'!$F$173*EXP('Site&Soil'!$F$174*H200)","v":0},0.69468750000000001,0.36787944117144233,2.555758112521748E-3,0,0,7062.2837204905009,0.28879988532168199,1.8049488911573873E-3,2.5907616061612577E-4,2.2252778847197644E-3,6.1410794206534032,0.16747486003516077,2.6960910967959838E-3,-3.8810128248975024E-3,null,null,5.6102006037219923,{"$f":"'Site&Soil'!$G$173*EXP('Site&Soil'!$G$174*Z200)","v":0},0.79087499999999999,0.52729242404304844,1.2770772327651288E-2,0,0,2.6364995938383752E-5,1.0781509359953919E-9,3.3670136054854986E-11,3.8009693832518833E-12,3.2758171706691005E-4,5.6105281854390592,0.48285147865911593,3.2839253993185054E-3,-7.4327081083928751E-4,null,null,5.4018670938834576,{"$f":"'Site&Soil'!$H$173*EXP('Site&Soil'!$H$174*AR200)","v":0},0.72675000000000001,0.72142229035475613,2.8368997123337011E-2,0,0,6.7232934682277944E-6,2.7493746491302724E-10,1.9073309305950481E-11,2.0594883540393826E-12,2.8640922373805274E-11,5.4018670939120987,0.51008191050061769,2.9355979305053228E-3,4.7929476272883735E-4,null,null,null,null,null,null,null,null,null,null,null,null,null,null,null,null,null,null,null,null,null,null,{"$error":"#VALUE!"},{"$f":"'Site&Soil'!$F$173*EXP('Site&Soil'!$F$174*CD200)","v":{"$error":"#VALUE!"}},{"$error":"#VALUE!"},0,{"$error":"#VALUE!"},0,0,{"$error":"#VALUE!"},{"$error":"#VALUE!"},{"$error":"#VALUE!"},{"$error":"#VALUE!"},{"$error":"#VALUE!"},{"$error":"#VALUE!"},{"$error":"#VALUE!"},{"$error":"#VALUE!"},{"$error":"#VALUE!"},null,null,{"$error":"#VALUE!"},{"$f":"'Site&Soil'!$G$173*EXP('Site&Soil'!$G$174*CV200)","v":{"$error":"#VALUE!"}},{"$error":"#VALUE!"},0,{"$error":"#VALUE!"},0,0,{"$error":"#VALUE!"},{"$error":"#VALUE!"},{"$error":"#VALUE!"},{"$error":"#VALUE!"},{"$error":"#VALUE!"},{"$error":"#VALUE!"},{"$error":"#VALUE!"},{"$error":"#VALUE!"},{"$error":"#VALUE!"},null,null,{"$error":"#VALUE!"},{"$f":"'Site&Soil'!$H$173*EXP('Site&Soil'!$H$174*DN200)","v":{"$error":"#VALUE!"}},{"$error":"#VALUE!"},0,{"$error":"#VALUE!"},0,0,{"$error":"#VALUE!"},{"$error":"#VALUE!"},{"$error":"#VALUE!"},{"$error":"#VALUE!"},{"$error":"#VALUE!"},{"$error":"#VALUE!"},{"$error":"#VALUE!"},{"$error":"#VALUE!"},{"$error":"#VALUE!"}]
[{"$f":"A189+1","v":17},193,"Jan",{"$f":"OFFSET(Apply_Lime!$H$16,$A201,0)","v":0},{"$f":"OFFSET(Apply_Lime!$I$16,$A201,0)*E$7","v":0},{"$f":"OFFSET(Apply_Lime!$I$16,$A201,0)*F$7","v":0},null,6.1371984078285058,{"$f":"'Site&Soil'!$F$173*EXP('Site&Soil'!$F$174*H201)","v":0},{"$f":"((0.66+45*Soil_OC_A+0.63*I201)*0.5)*Soil_BD_A*(1-Gravel_Pct_A)","v":0.69468750000000001},4.6770622383959001E-2,{"$f":"k*(10^-H201-10^-pH_Equil)*K201*10000","v":3.2622581908420235E-4},{"$f":"D201*Lime_NV_A","v":0},{"$f":"D201*CaCO3_SA_A","v":0},7018.1456795209215,0.28699493643052459,{"$f":"MAX(0,MIN(L201*O201*0.0001,(pH_Equil-H201)*J201,P201))","v":2.2895003227539685E-4},{"$f":"(Lime_Leak*Q201)+MIN(Lime_Leach_Max,10^(H201-pH_Leach_A)/10^(pH_Equil-pH_Leach_A))*Q201","v":3.2824771575007115E-5},{"$f":"(Q201-R201)/J201","v":2.8232156286155964E-4},{"$f":"H201+S201","v":6.1374807293913669},{"$f":"MAX(0,(T201-MAX(pH_Leach_A,pH_Initial_A))*J201)","v":0.16497489419906494},{"$f":"K201*(MIN(Alkali_Leach_Max,(10^(T201-pH_Leach_A)/10^(pH_Equil-pH_Leach_A)))*U201)","v":3.3486652631338232E-4},{"$f":"-V201/J201","v":-4.8203908421179641E-4},null,null,5.6097849146282197,{"$f":"'Site&Soil'!$G$173*EXP('Site&Soil'!$G$174*Z201)","v":0},{"$f":"((0.66+45*Soil_OC_B+0.63*AA201)*0.5)*Soil_BD_B*(1-Gravel_Pct_B)","v":0.79087499999999999},0.14085842092104497,{"$f":"k*(10^-Z201-10^-pH_Equil)*AC201*10000","v":3.4148337135794264E-3},{"$f":"E201*Lime_NV_A","v":0},{"$f":"E201*CaCO3_SA_A","v":0},2.5541629774432407E-5,1.0444807999405368E-9,{"$f":"MAX(0,MIN(AD201*AG201*0.0001,(pH_Equil-Z201)*AB201,AH201))","v":8.7220418453495867E-12},{"$f":"(Lime_Leak*AI201)+MIN(Lime_Leach_Max,10^(Z201-pH_Leach_B)/10^(pH_Equil-pH_Leach_B))*AI201","v":9.8451021590267443E-13},{"$f":"(R201+AI201-AJ201)/AB201","v":4.1504383515143032E-5},{"$f":"Z201+AK201","v":5.6098264190117346},{"$f":"MAX(0,(AL201-MAX(pH_Leach_B,pH_Initial_B))*AB201)","v":0.48229646913590563},{"$f":"AC201*(MIN(Alkali_Leach_Max,(10^(AL201-pH_Leach_B)/10^(pH_Equil-pH_Leach_B)))*AM201)","v":8.7482929368046529E-4},{"$f":"(V201-AN201)/AB201","v":-6.8274097343712099E-4},null,null,5.402346388674828,{"$f":"'Site&Soil'!$H$173*EXP('Site&Soil'!$H$174*AR201)","v":0},{"$f":"((0.66+45*Soil_OC_C+0.63*AS201)*0.5)*Soil_BD_C*(1-Gravel_Pct_C)","v":0.72675000000000001},0.36787944117144233,{"$f":"k*(10^-AR201-10^-pH_Equil)*AU201*10000","v":1.4450297659943231E-2},{"$f":"F201*Lime_NV_A","v":0},{"$f":"F201*CaCO3_SA_A","v":0},6.2568766562638417E-6,2.5586415560707678E-10,{"$f":"MAX(0,MIN(AV201*AY201*0.0001,(pH_Equil-AR201)*AT201,AZ201))","v":9.0413730104562831E-12},{"$f":"(Lime_Leak*BA201)+MIN(Lime_Leach_Max,10^(AR201-pH_Leach_C)/10^(pH_Equil-pH_Leach_C))*BA201","v":9.7634454609716402E-13},{"$f":"(AJ201+BA201-BB201)/AT201","v":1.2452065607515369E-11},{"$f":"AR201+BC201","v":5.4023463886872802},{"$f":"MAX(0,(BD201-MAX(pH_Leach_C,pH_Initial_C))*AT201)","v":0.51043023797848075},{"$f":"AU201*(MIN(Alkali_Leach_Max,(10^(BD201-pH_Leach_C)/10^(pH_Equil-pH_Leach_C)))*BE201)","v":1.4996444374212831E-3},{"$f":"(AN201-BF201)/AT201","v":-8.5973875987728628E-4},null,null,null,null,null,null,null,null,null,null,null,null,null,null,null,null,null,null,{"$f":"OFFSET(Apply_Lime!$O$16,$A201,0)","v":0},{"$f":"OFFSET(Apply_Lime!$P$16,$A201,0)*CA$7","v":0},{"$f":"OFFSET(Apply_Lime!$P$16,$A201,0)*CB$7","v":0},null,{"$error":"#VALUE!"},{"$f":"'Site&Soil'!$F$173*EXP('Site&Soil'!$F$174*CD201)","v":{"$error":"#VALUE!"}},{"$f":"((0.66+45*Soil_OC_A+0.63*CE201)*0.5)*Soil_BD_A*(1-Gravel_Pct_A)","v":{"$error":"#VALUE!"}},0,{"$f":"k*(10^-CD201-10^-pH_Equil)*CG201*10000","v":{"$error":"#VALUE!"}},{"$f":"BZ201*Lime_NV_B","v":0},{"$f":"BZ201*CaCO3_SA_B","v":0},{"$error":"#VALUE!"},{"$error":"#VALUE!"},{"$f":"MAX(0,MIN(CH201*CK201*0.0001,(pH_Equil-CD201)*CF201,CL201))","v":{"$error":"#VALUE!"}},{"$f":"(Lime_Leak*CM201)+MIN(Lime_Leach_Max,10^(CD201-pH_Leach_A)/10^(pH_Equil-pH_Leach_A))*CM201","v":{"$error":"#VALUE!"}},{"$f":"(CM201-CN201)/CF201","v":{"$error":"#VALUE!"}},{"$f":"CD201+CO201","v":{"$error":"#VALUE!"}},{"$f":"MAX(0,(CP201-MAX(pH_Leach_A,pH_Initial_A))*CF201)","v":{"$error":"#VALUE!"}},{"$f":"CG201*(MIN(Alkali_Leach_Max,(10^(CP201-pH_Leach_A)/10^(pH_Equil-pH_Leach_A)))*CQ201)","v":{"$error":"#VALUE!"}},{"$f":"-CR201/CF201","v":{"$error":"#VALUE!"}},null,null,{"$error":"#VALUE!"},{"$f":"'Site&Soil'!$G$173*EXP('Site&Soil'!$G$174*CV201)","v":{"$error":"#VALUE!"}},{"$f":"((0.66+45*Soil_OC_B+0.63*CW201)*0.5)*Soil_BD_B*(1-Gravel_Pct_B)","v":{"$error":"#VALUE!"}},0,{"$f":"k*(10^-CV201-10^-pH_Equil)*CY201*10000","v":{"$error":"#VALUE!"}},{"$f":"CA201*Lime_NV_B","v":0},{"$f":"CA201*CaCO3_SA_B","v":0},{"$error":"#VALUE!"},{"$error":"#VALUE!"},{"$f":"MAX(0,MIN(CZ201*DC201*0.0001,(pH_Equil-CV201)*CX201,DD201))","v":{"$error":"#VALUE!"}},{"$f":"(Lime_Leak*DE201)+MIN(Lime_Leach_Max,10^(CV201-pH_Leach_B)/10^(pH_Equil-pH_Leach_B))*DE201","v":{"$error":"#VALUE!"}},{"$f":"(CN201+DE201-DF201)/CX201","v":{"$error":"#VALUE!"}},{"$f":"CV201+DG201","v":{"$error":"#VALUE!"}},{"$f":"MAX(0,(DH201-MAX(pH_Leach_B,pH_Initial_B))*CX201)","v":{"$error":"#VALUE!"}},{"$f":"CY201*(MIN(Alkali_Leach_Max,(10^(DH201-pH_Leach_B)/10^(pH_Equil-pH_Leach_B)))*DI201)","v":{"$error":"#VALUE!"}},{"$f":"(CR201-DJ201)/CX201","v":{"$error":"#VALUE!"}},null,null,{"$error":"#VALUE!"},{"$f":"'Site&Soil'!$H$173*EXP('Site&Soil'!$H$174*DN201)","v":{"$error":"#VALUE!"}},{"$f":"((0.66+45*Soil_OC_C+0.63*DO201)*0.5)*Soil_BD_C*(1-Gravel_Pct_C)","v":{"$error":"#VALUE!"}},0,{"$f":"k*(10^-DN201-10^-pH_Equil)*DQ201*10000","v":{"$error":"#VALUE!"}},{"$f":"CB201*Lime_NV_B","v":0},{"$f":"CB201*CaCO3_SA_B","v":0},{"$error":"#VALUE!"},{"$error":"#VALUE!"},{"$f":"MAX(0,MIN(DR201*DU201*0.0001,(pH_Equil-DN201)*DP201,DV201))","v":{"$error":"#VALUE!"}},{"$f":"(Lime_Leak*DW201)+MIN(Lime_Leach_Max,10^(DN201-pH_Leach_C)/10^(pH_Equil-pH_Leach_C))*DW201","v":{"$error":"#VALUE!"}},{"$f":"(DF201+DW201-DX201)/DP201","v":{"$error":"#VALUE!"}},{"$f":"DN201+DY201","v":{"$error":"#VALUE!"}},{"$f":"MAX(0,(DZ201-MAX(pH_Leach_C,pH_Initial_C))*DP201)","v":{"$error":"#VALUE!"}},{"$f":"DQ201*(MIN(Alkali_Leach_Max,(10^(DZ201-pH_Leach_C)/10^(pH_Equil-pH_Leach_C)))*EA201)","v":{"$error":"#VALUE!"}},{"$f":"(DJ201-EB201)/DP201","v":{"$error":"#VALUE!"}}]
[null,194,"Feb",null,null,null,null,6.1369986903071547,{"$f":"'Site&Soil'!$F$173*EXP('Site&Soil'!$F$174*H202)","v":0},0.69468750000000001,0.1053992245618643,7.3551471657951864E-4,0,0,{"$f":"N202+IF(P201-Q201=0,0,(O201*(1-Q201/P201)))","v":7012.5469581642865},{"$f":"P201-Q201+M202","v":0.28676598639824918},5.1578314884347706E-4,7.3938008045846076E-5,6.3603439071183946E-4,6.1376347246978664,0.16508187281354883,7.5539051547241669E-4,-1.0873817586647475E-3,null,null,5.6091436780382979,{"$f":"'Site&Soil'!$G$173*EXP('Site&Soil'!$G$174*Z202)","v":0},0.79087499999999999,0.23692775868212174,5.7524424924085644E-3,0,0,{"$f":"AF202+IF(AH201-AI201=0,0,(AG201*(1-AI201/AH201)))","v":2.5328341829164569E-5},{"$f":"AH201-AI201+AE202","v":1.0357587580951873E-9},1.4569982980033554E-11,1.644326309247746E-12,9.3488883795167065E-5,5.6092371669220933,0.4818304443895105,1.468071982227849E-3,-9.0113035151627289E-4,null,null,5.4014866499274028,{"$f":"'Site&Soil'!$H$173*EXP('Site&Soil'!$H$174*AR202)","v":0},0.72675000000000001,0.47965226883004436,1.8878367295610321E-2,0,0,{"$f":"AX202+IF(AZ201-BA201=0,0,(AY201*(1-BA201/AZ201)))","v":6.0357798183911235E-6},{"$f":"AZ201-BA201+AW202","v":2.4682278259662051E-10},1.139456683270198E-11,1.2302773048586775E-12,1.6248525403634054E-11,5.4014866499436511,0.50980542284654828,1.9490258706600699E-3,-6.6178725618468647E-4,null,null,null,null,null,null,null,null,null,null,null,null,null,null,null,null,null,null,null,null,null,null,{"$f":"CP201+CS201+CT201","v":{"$error":"#VALUE!"}},{"$f":"'Site&Soil'!$F$173*EXP('Site&Soil'!$F$174*CD202)","v":{"$error":"#VALUE!"}},{"$error":"#VALUE!"},0,{"$error":"#VALUE!"},0,0,{"$f":"CJ202+IF(CL201-CM201=0,0,(CK201*(1-CM201/CL201)))","v":{"$error":"#VALUE!"}},{"$f":"CL201-CM201+CI202","v":{"$error":"#VALUE!"}},{"$error":"#VALUE!"},{"$error":"#VALUE!"},{"$error":"#VALUE!"},{"$error":"#VALUE!"},{"$error":"#VALUE!"},{"$error":"#VALUE!"},{"$error":"#VALUE!"},null,null,{"$f":"DH201+DK201+DL201","v":{"$error":"#VALUE!"}},{"$f":"'Site&Soil'!$G$173*EXP('Site&Soil'!$G$174*CV202)","v":{"$error":"#VALUE!"}},{"$error":"#VALUE!"},0,{"$error":"#VALUE!"},0,0,{"$f":"DB202+IF(DD201-DE201=0,0,(DC201*(1-DE201/DD201)))","v":{"$error":"#VALUE!"}},{"$f":"DD201-DE201+DA202","v":{"$error":"#VALUE!"}},{"$error":"#VALUE!"},{"$error":"#VALUE!"},{"$error":"#VALUE!"},{"$error":"#VALUE!"},{"$error":"#VALUE!"},{"$error":"#VALUE!"},{"$error":"#VALUE!"},null,null,{"$f":"DZ201+EC201+ED201","v":{"$error":"#VALUE!"}},{"$f":"'Site&Soil'!$H$173*EXP('Site&Soil'!$H$174*DN202)","v":{"$error":"#VALUE!"}},{"$error":"#VALUE!"},0,{"$error":"#VALUE!"},0,0,{"$f":"DT202+IF(DV201-DW201=0,0,(DU201*(1-DW201/DV201)))","v":{"$error":"#VALUE!"}},{"$f":"DV201-DW201+DS202","v":{"$error":"#VALUE!"}},{"$error":"#VALUE!"},{"$error":"#VALUE!"},{"$error":"#VALUE!"},{"$error":"#VALUE!"},{"$error":"#VALUE!"},{"$error":"#VALUE!"},{"$error":"#VALUE!"}]
[null,195,"Mar",null,null,null,null,{"$f":"T202+W202+X202","v":6.1365473429392017},{"$f":"'Site&Soil'!$F$173*EXP('Site&Soil'!$F$174*H203)","v":0},0.69468750000000001,0.20961138715109778,1.4643355714164513E-3,0,0,6999.9340482549787,0.2862502032494057,1.0250252424428927E-3,1.468921929205885E-4,1.2640691671036318E-3,6.1378114121063057,0.16520461534759898,1.5040021609153678E-3,-2.1650053598421849E-3,null,null,{"$f":"AL202+AO202+AP202","v":5.6083360365705772},{"$f":"'Site&Soil'!$G$173*EXP('Site&Soil'!$G$174*Z203)","v":0},0.79087499999999999,0.36787944117144206,8.9487012286159386E-3,0,0,2.4972048912035806E-5,1.0211887751151538E-9,2.2346740478019215E-11,2.5214549468766609E-12,1.8573379199731188E-4,5.6085217703625743,0.48126465513550093,2.2730618655639437E-3,-9.7241625370453734E-4,null,null,{"$f":"BD202+BG202+BH202","v":5.4008248626874664},{"$f":"'Site&Soil'!$H$173*EXP('Site&Soil'!$H$174*AR203)","v":0},0.72675000000000001,0.60037304119840451,2.36660736301577E-2,0,0,5.7571382124396588E-6,2.354282157639185E-10,1.3624885683459144E-11,1.4709206336369711E-12,2.0193216369726639E-11,5.40082486270766,0.50932446897279182,2.4335517523847686E-3,-2.2083231760691417E-4,null,null,null,null,null,null,null,null,null,null,null,null,null,null,null,null,null,null,null,null,null,null,{"$error":"#VALUE!"},{"$f":"'Site&Soil'!$F$173*EXP('Site&Soil'!$F$174*CD203)","v":{"$error":"#VALUE!"}},{"$error":"#VALUE!"},0,{"$error":"#VALUE!"},0,0,{"$error":"#VALUE!"},{"$error":"#VALUE!"},{"$error":"#VALUE!"},{"$error":"#VALUE!"},{"$error":"#VALUE!"},{"$error":"#VALUE!"},{"$error":"#VALUE!"},{"$error":"#VALUE!"},{"$error":"#VALUE!"},null,null,{"$error":"#VALUE!"},{"$f":"'Site&Soil'!$G$173*EXP('Site&Soil'!$G$174*CV203)","v":{"$error":"#VALUE!"}},{"$error":"#VALUE!"},0,{"$error":"#VALUE!"},0,0,{"$error":"#VALUE!"},{"$error":"#VALUE!"},{"$error":"#VALUE!"},{"$error":"#VALUE!"},{"$error":"#VALUE!"},{"$error":"#VALUE!"},{"$error":"#VALUE!"},{"$error":"#VALUE!"},{"$error":"#VALUE!"},null,null,{"$error":"#VALUE!"},{"$f":"'Site&Soil'!$H$173*EXP('Site&Soil'!$H$174*DN203)","v":{"$error":"#VALUE!"}},{"$error":"#VALUE!"},0,{"$error":"#VALUE!"},0,0,{"$error":"#VALUE!"},{"$error":"#VALUE!"},{"$error":"#VALUE!"},{"$error":"#VALUE!"},{"$error":"#VALUE!"},{"$error":"#VALUE!"},{"$error":"#VALUE!"},{"$error":"#VALUE!"},{"$error":"#VALUE!"}]
[null,196,"Apr",null,null,null,null,6.1356464067464636,{"$f":"'Site&Soil'!$F$173*EXP('Site&Soil'!$F$174*H204)","v":0},0.69468750000000001,0.36787944117144233,2.575567476893208E-3,0,0,6974.8681827518367,0.28522517800696279,1.7964243647112864E-3,2.5727704071739049E-4,2.2155966877105112E-3,6.137862003434174,0.16523976051067749,2.640475112156127E-3,-3.8009538276651401E-3,null,null,5.6075493541088699,{"$f":"'Site&Soil'!$G$173*EXP('Site&Soil'!$G$174*Z204)","v":0},0.79087499999999999,0.52729242404304844,1.2849993913880441E-2,0,0,2.4425583939211618E-5,9.9884203463713458E-10,3.1386860496184514E-11,3.5407519402888464E-12,3.2530686715789354E-4,5.6078746609760275,0.48075287249941573,3.2497359918850911E-3,-7.7036305323719182E-4,null,null,5.4006040303900535,{"$f":"'Site&Soil'!$H$173*EXP('Site&Soil'!$H$174*AR204)","v":0},0.72675000000000001,0.72142229035475613,2.8452287537065874E-2,0,0,5.4239566107618774E-6,2.2180333008045936E-10,1.5432397307796623E-11,1.6659942320278332E-12,2.3814454786457014E-11,5.4006040304138683,0.5091639791032786,2.9218052101140715E-3,4.5122914588375591E-4,null,null,null,null,null,null,null,null,null,null,null,null,null,null,null,null,null,null,null,null,null,null,{"$error":"#VALUE!"},{"$f":"'Site&Soil'!$F$173*EXP('Site&Soil'!$F$174*CD204)","v":{"$error":"#VALUE!"}},{"$error":"#VALUE!"},0,{"$error":"#VALUE!"},0,0,{"$error":"#VALUE!"},{"$error":"#VALUE!"},{"$error":"#VALUE!"},{"$error":"#VALUE!"},{"$error":"#VALUE!"},{"$error":"#VALUE!"},{"$error":"#VALUE!"},{"$error":"#VALUE!"},{"$error":"#VALUE!"},null,null,{"$error":"#VALUE!"},{"$f":"'Site&Soil'!$G$173*EXP('Site&Soil'!$G$174*CV204)","v":{"$error":"#VALUE!"}},{"$error":"#VALUE!"},0,{"$error":"#VALUE!"},0,0,{"$error":"#VALUE!"},{"$error":"#VALUE!"},{"$error":"#VALUE!"},{"$error":"#VALUE!"},{"$error":"#VALUE!"},{"$error":"#VALUE!"},{"$error":"#VALUE!"},{"$error":"#VALUE!"},{"$error":"#VALUE!"},null,null,{"$error":"#VALUE!"},{"$f":"'Site&Soil'!$H$173*EXP('Site&Soil'!$H$174*DN204)","v":{"$error":"#VALUE!"}},{"$error":"#VALUE!"},0,{"$error":"#VALUE!"},0,0,{"$error":"#VALUE!"},{"$error":"#VALUE!"},{"$error":"#VALUE!"},{"$error":"#VALUE!"},{"$error":"#VALUE!"},{"$error":"#VALUE!"},{"$error":"#VALUE!"},{"$error":"#VALUE!"},{"$error":"#VALUE!"}]
[null,197,"May",null,null,null,null,6.1340610496065091,{"$f":"'Site&Soil'!$F$173*EXP('Site&Soil'!$F$174*H205)","v":0},0.69468750000000001,0.56978282473092301,4.0043644453173054E-3,0,0,6930.9385997055633,0.28342875364225151,2.7754004101338274E-3,3.9704521203653064E-4,3.4236332136353348E-3,6.1374846828201441,0.16497764059661865,4.0796144845386345E-3,-5.8725894514276341E-3,null,null,5.6071042979227901,{"$f":"'Site&Soil'!$G$173*EXP('Site&Soil'!$G$174*Z205)","v":0},0.79087499999999999,0.69767632607103081,1.7019868694402304E-2,0,0,2.3658052769063786E-5,9.6745517414094998E-10,4.0265695169470647E-11,4.5418450239845373E-12,5.0203287214841893E-4,5.6076063307949386,0.48054065686744707,4.2952698645073945E-3,-2.7267947522523781E-4,null,null,5.4010552595597519,{"$f":"'Site&Soil'!$H$173*EXP('Site&Soil'!$H$174*AR205)","v":0},0.72675000000000001,0.83220750069030147,3.2787205957434028E-2,0,0,5.0465742992917869E-6,2.0637093277266274E-10,1.6546307093037312E-11,1.7863824433765975E-12,2.6559022598755075E-11,5.4010552595863111,0.50949190990435145,3.3761689987570468E-3,1.2646726738910874E-3,null,null,null,null,null,null,null,null,null,null,null,null,null,null,null,null,null,null,null,null,null,null,{"$error":"#VALUE!"},{"$f":"'Site&Soil'!$F$173*EXP('Site&Soil'!$F$174*CD205)","v":{"$error":"#VALUE!"}},{"$error":"#VALUE!"},0,{"$error":"#VALUE!"},0,0,{"$error":"#VALUE!"},{"$error":"#VALUE!"},{"$error":"#VALUE!"},{"$error":"#VALUE!"},{"$error":"#VALUE!"},{"$error":"#VALUE!"},{"$error":"#VALUE!"},{"$error":"#VALUE!"},{"$error":"#VALUE!"},null,null,{"$error":"#VALUE!"},{"$f":"'Site&Soil'!$G$173*EXP('Site&Soil'!$G$174*CV205)","v":{"$error":"#VALUE!"}},{"$error":"#VALUE!"},0,{"$error":"#VALUE!"},0,0,{"$error":"#VALUE!"},{"$error":"#VALUE!"},{"$error":"#VALUE!"},{"$error":"#VALUE!"},{"$error":"#VALUE!"},{"$error":"#VALUE!"},{"$error":"#VALUE!"},{"$error":"#VALUE!"},{"$error":"#VALUE!"},null,null,{"$error":"#VALUE!"},{"$f":"'Site&Soil'!$H$173*EXP('Site&Soil'!$H$174*DN205)","v":{"$error":"#VALUE!"}},{"$error":"#VALUE!"},0,{"$error":"#VALUE!"},0,0,{"$error":"#VALUE!"},{"$error":"#VALUE!"},{"$error":"#VALUE!"},{"$error":"#VALUE!"},{"$error":"#VALUE!"},{"$error":"#VALUE!"},{"$error":"#VALUE!"},{"$error":"#VALUE!"},{"$error":"#VALUE!"}]
[null,198,"Jun",null,null,null,null,6.1316120933687168,{"$f":"'Site&Soil'!$F$173*EXP('Site&Soil'!$F$174*H206)","v":0},0.69468750000000001,0.77880078307140521,5.5056607602540593E-3,0,0,6863.0692336478232,0.28065335323211765,3.7785730974601722E-3,5.3964293122476105E-4,4.6624275897225887E-3,6.1362745209584393,0.16413695627831554,5.5323197909343137E-3,-7.9637531853305465E-3,null,null,5.6073336513197134,{"$f":"'Site&Soil'!$G$173*EXP('Site&Soil'!$G$174*Z206)","v":0},0.79087499999999999,0.85214378896621112,2.0776996871271124E-2,0,0,2.267339945740184E-5,9.2718947897147933E-10,4.7108514958751846E-11,5.314012235573878E-12,6.8233661832687057E-4,5.6080159879380407,0.48086464446049793,5.2547458710354789E-3,3.5097065895221721E-4,null,null,5.4023199322602018,{"$f":"'Site&Soil'!$H$173*EXP('Site&Soil'!$H$174*AR206)","v":0},0.72675000000000001,0.92161044729772479,3.620306447115592E-2,0,0,4.6419525485343922E-6,1.8982462567962544E-10,1.6805290738663714E-11,1.8147332290777174E-12,2.7938864458424316E-11,5.4023199322881403,0.51041101079040585,3.7565342781840745E-3,2.0615226595822557E-3,null,null,null,null,null,null,null,null,null,null,null,null,null,null,null,null,null,null,null,null,null,null,{"$error":"#VALUE!"},{"$f":"'Site&Soil'!$F$173*EXP('Site&Soil'!$F$174*CD206)","v":{"$error":"#VALUE!"}},{"$error":"#VALUE!"},0,{"$error":"#VALUE!"},0,0,{"$error":"#VALUE!"},{"$error":"#VALUE!"},{"$error":"#VALUE!"},{"$error":"#VALUE!"},{"$error":"#VALUE!"},{"$error":"#VALUE!"},{"$error":"#VALUE!"},{"$error":"#VALUE!"},{"$error":"#VALUE!"},null,null,{"$error":"#VALUE!"},{"$f":"'Site&Soil'!$G$173*EXP('Site&Soil'!$G$174*CV206)","v":{"$error":"#VALUE!"}},{"$error":"#VALUE!"},0,{"$error":"#VALUE!"},0,0,{"$error":"#VALUE!"},{"$error":"#VALUE!"},{"$error":"#VALUE!"},{"$error":"#VALUE!"},{"$error":"#VALUE!"},{"$error":"#VALUE!"},{"$error":"#VALUE!"},{"$error":"#VALUE!"},{"$error":"#VALUE!"},null,null,{"$error":"#VALUE!"},{"$f":"'Site&Soil'!$H$173*EXP('Site&Soil'!$H$174*DN206)","v":{"$error":"#VALUE!"}},{"$error":"#VALUE!"},0,{"$error":"#VALUE!"},0,0,{"$error":"#VALUE!"},{"$error":"#VALUE!"},{"$error":"#VALUE!"},{"$error":"#VALUE!"},{"$error":"#VALUE!"},{"$error":"#VALUE!"},{"$error":"#VALUE!"},{"$error":"#VALUE!"},{"$error":"#VALUE!"}]
[null,199,"Jul",null,null,null,null,6.128310767773109,{"$f":"'Site&Soil'!$F$173*EXP('Site&Soil'!$F$174*H207)","v":0},0.69468750000000001,0.93941306281347592,6.694036541584133E-3,0,0,6770.668382300003,0.27687478013465749,4.5323101562064552E-3,6.4581953296506309E-4,5.5945883915305685E-3,6.1339053561646395,0.16249112711062275,6.570396858854812E-3,-9.458061155346557E-3,null,null,5.6083669585969931,{"$f":"'Site&Soil'!$G$173*EXP('Site&Soil'!$G$174*Z207)","v":0},0.79087499999999999,0.96078943915232284,2.3369605817841636E-2,0,0,2.1521412510041722E-5,8.8008096401272745E-10,5.0294692700284084E-11,5.6749586740830448E-12,8.1658868668853756E-4,5.6091835472836813,0.48178803795798142,5.952066584876993E-3,7.8183059772760424E-4,null,null,5.4043814549477229,{"$f":"'Site&Soil'!$H$173*EXP('Site&Soil'!$H$174*AR207)","v":0},0.72675000000000001,0.97979867385370423,3.8305102943233152E-2,0,0,4.2309976374215374E-6,1.7301933494096174E-10,1.6206880005400824E-11,1.7507291715400724E-12,2.7700185081450012E-11,5.4043814549754234,0.51190922240338887,4.0244937384229717E-3,2.6523190181685879E-3,null,null,null,null,null,null,null,null,null,null,null,null,null,null,null,null,null,null,null,null,null,null,{"$error":"#VALUE!"},{"$f":"'Site&Soil'!$F$173*EXP('Site&Soil'!$F$174*CD207)","v":{"$error":"#VALUE!"}},{"$error":"#VALUE!"},0,{"$error":"#VALUE!"},0,0,{"$error":"#VALUE!"},{"$error":"#VALUE!"},{"$error":"#VALUE!"},{"$error":"#VALUE!"},{"$error":"#VALUE!"},{"$error":"#VALUE!"},{"$error":"#VALUE!"},{"$error":"#VALUE!"},{"$error":"#VALUE!"},null,null,{"$error":"#VALUE!"},{"$f":"'Site&Soil'!$G$173*EXP('Site&Soil'!$G$174*CV207)","v":{"$error":"#VALUE!"}},{"$error":"#VALUE!"},0,{"$error":"#VALUE!"},0,0,{"$error":"#VALUE!"},{"$error":"#VALUE!"},{"$error":"#VALUE!"},{"$error":"#VALUE!"},{"$error":"#VALUE!"},{"$error":"#VALUE!"},{"$error":"#VALUE!"},{"$error":"#VALUE!"},{"$error":"#VALUE!"},null,null,{"$error":"#VALUE!"},{"$f":"'Site&Soil'!$H$173*EXP('Site&Soil'!$H$174*DN207)","v":{"$error":"#VALUE!"}},{"$error":"#VALUE!"},0,{"$error":"#VALUE!"},0,0,{"$error":"#VALUE!"},{"$error":"#VALUE!"},{"$error":"#VALUE!"},{"$error":"#VALUE!"},{"$error":"#VALUE!"},{"$error":"#VALUE!"},{"$error":"#VALUE!"},{"$error":"#VALUE!"},{"$error":"#VALUE!"}]
[null,200,"Aug",null,null,null,null,6.1244472950092925,{"$f":"'Site&Soil'!$F$173*EXP('Site&Soil'!$F$174*H208)","v":0},0.69468750000000001,1,7.1922639333711555E-3,0,0,6659.8357197567411,0.27234246997845102,4.7899296249383346E-3,6.807257212575646E-4,5.9151833071428078E-3,6.1303624783164352,0.16002993415544833,6.8322493007192016E-3,-9.8349967441751888E-3,null,null,5.6099653778814087,{"$f":"'Site&Soil'!$G$173*EXP('Site&Soil'!$G$174*Z208)","v":0},0.79087499999999999,1,2.4232818371970059E-2,0,0,2.0291511088548252E-5,8.2978627131244334E-10,4.9172050270160623E-11,5.550613246626653E-12,8.607248489065928E-4,5.6108261027303152,0.48308709399683808,6.2352165027392062E-3,7.5490159377903634E-4,null,null,5.4070337739935921,{"$f":"'Site&Soil'!$H$173*EXP('Site&Soil'!$H$174*AR208)","v":0},0.72675000000000001,1,3.8854913584802205E-2,0,0,3.8346762029632244E-6,1.5681245493556093E-10,1.4899601249183352E-11,1.610244279402703E-12,2.5923591629043418E-11,5.4070337740195153,0.51383679526868264,4.1481931920109329E-3,2.8717211017932898E-3,null,null,null,null,null,null,null,null,null,null,null,null,null,null,null,null,null,null,null,null,null,null,{"$error":"#VALUE!"},{"$f":"'Site&Soil'!$F$173*EXP('Site&Soil'!$F$174*CD208)","v":{"$error":"#VALUE!"}},{"$error":"#VALUE!"},0,{"$error":"#VALUE!"},0,0,{"$error":"#VALUE!"},{"$error":"#VALUE!"},{"$error":"#VALUE!"},{"$error":"#VALUE!"},{"$error":"#VALUE!"},{"$error":"#VALUE!"},{"$error":"#VALUE!"},{"$error":"#VALUE!"},{"$error":"#VALUE!"},null,null,{"$error":"#VALUE!"},{"$f":"'Site&Soil'!$G$173*EXP('Site&Soil'!$G$174*CV208)","v":{"$error":"#VALUE!"}},{"$error":"#VALUE!"},0,{"$error":"#VALUE!"},0,0,{"$error":"#VALUE!"},{"$error":"#VALUE!"},{"$error":"#VALUE!"},{"$error":"#VALUE!"},{"$error":"#VALUE!"},{"$error":"#VALUE!"},{"$error":"#VALUE!"},{"$error":"#VALUE!"},{"$error":"#VALUE!"},null,null,{"$error":"#VALUE!"},{"$f":"'Site&Soil'!$H$173*EXP('Site&Soil'!$H$174*DN208)","v":{"$error":"#VALUE!"}},{"$error":"#VALUE!"},0,{"$error":"#VALUE!"},0,0,{"$error":"#VALUE!"},{"$error":"#VALUE!"},{"$error":"#VALUE!"},{"$error":"#VALUE!"},{"$error":"#VALUE!"},{"$error":"#VALUE!"},{"$error":"#VALUE!"},{"$error":"#VALUE!"},{"$error":"#VALUE!"}]
[null,201,"Sep",null,null,null,null,6.1205274815722603,{"$f":"'Site&Soil'!$F$173*EXP('Site&Soil'!$F$174*H209)","v":0},0.69468750000000001,0.93941306281347592,6.8204583420761744E-3,0,0,6542.7032563043485,0.26755254035351267,4.4624235004189945E-3,6.324932009812357E-4,5.5131700216827836E-3,6.126040651593943,0.15702761515416699,6.2355286845160304E-3,-8.9760196988085007E-3,null,null,5.6115810043240941,{"$f":"'Site&Soil'!$G$173*EXP('Site&Soil'!$G$174*Z209)","v":0},0.79087499999999999,0.96078943915232284,2.3195054564988479E-2,0,0,1.9089062653572976E-5,7.8061422104228277E-10,4.4277184984410901E-11,5.0001994044716222E-12,7.9973856836822676E-4,5.6123807428924621,0.48431662003507597,6.0275155071320852E-3,2.6301650372555099E-4,null,null,5.4099054951213086,{"$f":"'Site&Soil'!$H$173*EXP('Site&Soil'!$H$174*AR209)","v":0},0.72675000000000001,0.97979867385370423,3.7817047886404997E-2,0,0,3.4703228334087262E-6,1.4191285368637758E-10,1.3123736477230249E-11,1.4190241724022592E-12,2.2985774625799262E-11,5.4099054951442946,0.51592381859611602,4.1079762190260258E-3,2.6412649303144951E-3,null,null,null,null,null,null,null,null,null,null,null,null,null,null,null,null,null,null,null,null,null,null,{"$error":"#VALUE!"},{"$f":"'Site&Soil'!$F$173*EXP('Site&Soil'!$F$174*CD209)","v":{"$error":"#VALUE!"}},{"$error":"#VALUE!"},0,{"$error":"#VALUE!"},0,0,{"$error":"#VALUE!"},{"$error":"#VALUE!"},{"$error":"#VALUE!"},{"$error":"#VALUE!"},{"$error":"#VALUE!"},{"$error":"#VALUE!"},{"$error":"#VALUE!"},{"$error":"#VALUE!"},{"$error":"#VALUE!"},null,null,{"$error":"#VALUE!"},{"$f":"'Site&Soil'!$G$173*EXP('Site&Soil'!$G$174*CV209)","v":{"$error":"#VALUE!"}},{"$error":"#VALUE!"},0,{"$error":"#VALUE!"},0,0,{"$error":"#VALUE!"},{"$error":"#VALUE!"},{"$error":"#VALUE!"},{"$error":"#VALUE!"},{"$error":"#VALUE!"},{"$error":"#VALUE!"},{"$error":"#VALUE!"},{"$error":"#VALUE!"},{"$error":"#VALUE!"},null,null,{"$error":"#VALUE!"},{"$f":"'Site&Soil'!$H$173*EXP('Site&Soil'!$H$174*DN209)","v":{"$error":"#VALUE!"}},{"$error":"#VALUE!"},0,{"$error":"#VALUE!"},0,0,{"$error":"#VALUE!"},{"$error":"#VALUE!"},{"$error":"#VALUE!"},{"$error":"#VALUE!"},{"$error":"#VALUE!"},{"$error":"#VALUE!"},{"$error":"#VALUE!"},{"$error":"#VALUE!"},{"$error":"#VALUE!"}]
[null,202,"Oct",null,null,null,null,6.1170646318951345,{"$f":"'Site&Soil'!$F$173*EXP('Site&Soil'!$F$174*H210)","v":0},0.69468750000000001,0.77880078307140521,5.701595401020651E-3,0,0,6433.579595102613,0.26309011685309369,3.6681667831537364E-3,5.1870126570540331E-4,4.5336435698761432E-3,6.1215982754650105,0.15394155198709922,5.0162655110268187E-3,-7.2208950226207019E-3,0.02,null,5.612643759396188,{"$f":"'Site&Soil'!$G$173*EXP('Site&Soil'!$G$174*Z210)","v":0},0.79087499999999999,0.85214378896621112,2.0521229033595878E-2,0,0,1.8006312768280432E-5,7.3633703605787186E-10,3.695116683684446E-11,4.1740465452518694E-12,6.5585749768613702E-4,5.6132996168938742,0.48504333451094278,5.3652880185503888E-3,-4.4131184766691334E-4,0.02,null,5.4125467600746093,{"$f":"'Site&Soil'!$H$173*EXP('Site&Soil'!$H$174*AR210)","v":0},0.72675000000000001,0.92161044729772479,3.5353726168470129E-2,0,0,3.1493962846605704E-6,1.2878911720914735E-10,1.11342893843887E-11,1.2044641204115393E-12,1.9406772355320303E-11,5.412546760094016,0.51784335789832603,3.9020475690122389E-3,2.0134027513424835E-3,0.02,null,{"$f":"BJ198+1","v":17},{"$f":"AVERAGE(H205:H210)","v":6.1260038865375037},{"$f":"AVERAGE(Z205:Z210)","v":5.6094991749068646},{"$f":"AVERAGE(AR205:AR210)","v":5.4062071126595308},null,null,null,null,null,null,null,null,null,null,null,null,null,null,null,null,{"$error":"#VALUE!"},{"$f":"'Site&Soil'!$F$173*EXP('Site&Soil'!$F$174*CD210)","v":{"$error":"#VALUE!"}},{"$error":"#VALUE!"},0,{"$error":"#VALUE!"},0,0,{"$error":"#VALUE!"},{"$error":"#VALUE!"},{"$error":"#VALUE!"},{"$error":"#VALUE!"},{"$error":"#VALUE!"},{"$error":"#VALUE!"},{"$error":"#VALUE!"},{"$error":"#VALUE!"},{"$error":"#VALUE!"},{"$error":"#VALUE!"},null,{"$error":"#VALUE!"},{"$f":"'Site&Soil'!$G$173*EXP('Site&Soil'!$G$174*CV210)","v":{"$error":"#VALUE!"}},{"$error":"#VALUE!"},0,{"$error":"#VALUE!"},0,0,{"$error":"#VALUE!"},{"$error":"#VALUE!"},{"$error":"#VALUE!"},{"$error":"#VALUE!"},{"$error":"#VALUE!"},{"$error":"#VALUE!"},{"$error":"#VALUE!"},{"$error":"#VALUE!"},{"$error":"#VALUE!"},{"$error":"#VALUE!"},null,{"$error":"#VALUE!"},{"$f":"'Site&Soil'!$H$173*EXP('Site&Soil'!$H$174*DN210)","v":{"$error":"#VALUE!"}},{"$error":"#VALUE!"},0,{"$error":"#VALUE!"},0,0,{"$error":"#VALUE!"},{"$error":"#VALUE!"},{"$error":"#VALUE!"},{"$error":"#VALUE!"},{"$error":"#VALUE!"},{"$error":"#VALUE!"},{"$error":"#VALUE!"},{"$error":"#VALUE!"},{"$error":"#VALUE!"},{"$error":"#VALUE!"},null,{"$f":"EF198+1","v":17},{"$f":"AVERAGE(CD205:CD210)","v":{"$error":"#VALUE!"}},{"$f":"AVERAGE(CV205:CV210)","v":{"$error":"#VALUE!"}},{"$f":"AVERAGE(DN205:DN210)","v":{"$error":"#VALUE!"}}]
[null,203,"Nov",null,null,null,null,6.1343773804423893,{"$f":"'Site&Soil'!$F$173*EXP('Site&Soil'!$F$174*H211)","v":0},0.69468750000000001,0.56978282473092301,4.0013176213296161E-3,0,0,6343.8786088025126,0.25942195006993995,2.5383873264977503E-3,3.6321806578122406E-4,3.1311478336900063E-3,6.1375085282760793,0.16499420573678858,4.0802481368177107E-3,-5.8735015914604923E-3,null,null,5.6328583050462067,{"$f":"'Site&Soil'!$G$173*EXP('Site&Soil'!$G$174*Z211)","v":0},0.79087499999999999,0.69767632607103081,1.6027217160412364E-2,0,0,1.710271260336242E-5,6.9938586922102738E-10,2.7410888892621101E-11,3.1132932219765505E-12,4.5926105905335198E-4,5.6333175661052604,0.50087503009349776,4.7500801110963026E-3,-8.4695049695412289E-4,null,null,5.4345601628453579,{"$f":"'Site&Soil'!$H$173*EXP('Site&Soil'!$H$174*AR211)","v":0},0.72675000000000001,0.83220750069030147,3.0333312696444084E-2,0,0,2.8771194775870084E-6,1.1765482782475866E-10,8.727256477867658E-12,9.4779071920110924E-13,1.4988316450833298E-11,5.4345601628603459,0.53384159835875633,3.8212389932288189E-3,1.2780751535844289E-3,null,null,null,null,null,null,null,null,null,null,null,null,null,null,null,null,null,null,null,null,null,null,{"$error":"#VALUE!"},{"$f":"'Site&Soil'!$F$173*EXP('Site&Soil'!$F$174*CD211)","v":{"$error":"#VALUE!"}},{"$error":"#VALUE!"},0,{"$error":"#VALUE!"},0,0,{"$error":"#VALUE!"},{"$error":"#VALUE!"},{"$error":"#VALUE!"},{"$error":"#VALUE!"},{"$error":"#VALUE!"},{"$error":"#VALUE!"},{"$error":"#VALUE!"},{"$error":"#VALUE!"},{"$error":"#VALUE!"},null,null,{"$error":"#VALUE!"},{"$f":"'Site&Soil'!$G$173*EXP('Site&Soil'!$G$174*CV211)","v":{"$error":"#VALUE!"}},{"$error":"#VALUE!"},0,{"$error":"#VALUE!"},0,0,{"$error":"#VALUE!"},{"$error":"#VALUE!"},{"$error":"#VALUE!"},{"$error":"#VALUE!"},{"$error":"#VALUE!"},{"$error":"#VALUE!"},{"$error":"#VALUE!"},{"$error":"#VALUE!"},{"$error":"#VALUE!"},null,null,{"$error":"#VALUE!"},{"$f":"'Site&Soil'!$H$173*EXP('Site&Soil'!$H$174*DN211)","v":{"$error":"#VALUE!"}},{"$error":"#VALUE!"},0,{"$error":"#VALUE!"},0,0,{"$error":"#VALUE!"},{"$error":"#VALUE!"},{"$error":"#VALUE!"},{"$error":"#VALUE!"},{"$error":"#VALUE!"},{"$error":"#VALUE!"},{"$error":"#VALUE!"},{"$error":"#VALUE!"},{"$error":"#VALUE!"}]
[null,204,"Dec",null,null,null,null,6.1316350266846191,{"$f":"'Site&Soil'!$F$173*EXP('Site&Soil'!$F$174*H212)","v":0},0.69468750000000001,0.36787944117144233,2.6005465227588453E-3,0,0,6281.8051371587944,0.25688356274344221,1.6336126506086956E-3,2.3331068454431381E-4,2.0157293258686558E-3,6.1336507560104874,0.16231425956603521,2.5686974173906819E-3,-3.6976301105039054E-3,null,null,5.6324706156083062,{"$f":"'Site&Soil'!$G$173*EXP('Site&Soil'!$G$174*Z212)","v":0},0.79087499999999999,0.52729242404304844,1.2124077122849256E-2,0,0,1.6432409448030807E-5,6.7197498032840628E-10,1.9922779946216228E-11,2.2625621291323326E-12,2.950032586749254E-4,5.6327656188669808,0.50043850882142338,3.5823488212124652E-3,-1.2816834567052737E-3,null,null,5.4358382380139307,{"$f":"'Site&Soil'!$H$173*EXP('Site&Soil'!$H$174*AR212)","v":0},0.72675000000000001,0.72142229035475613,2.621733800837232E-2,0,0,2.6637040142133366E-6,1.08927571346891E-10,6.9835228494889245E-12,7.5859614576363631E-13,1.1678691204482451E-11,5.4358382380256094,0.53477043948511149,3.3280909617519859E-3,3.498560157694933E-4,null,null,null,null,null,null,null,null,null,null,null,null,null,null,null,null,null,null,null,null,null,null,{"$error":"#VALUE!"},{"$f":"'Site&Soil'!$F$173*EXP('Site&Soil'!$F$174*CD212)","v":{"$error":"#VALUE!"}},{"$error":"#VALUE!"},0,{"$error":"#VALUE!"},0,0,{"$error":"#VALUE!"},{"$error":"#VALUE!"},{"$error":"#VALUE!"},{"$error":"#VALUE!"},{"$error":"#VALUE!"},{"$error":"#VALUE!"},{"$error":"#VALUE!"},{"$error":"#VALUE!"},{"$error":"#VALUE!"},null,null,{"$error":"#VALUE!"},{"$f":"'Site&Soil'!$G$173*EXP('Site&Soil'!$G$174*CV212)","v":{"$error":"#VALUE!"}},{"$error":"#VALUE!"},0,{"$error":"#VALUE!"},0,0,{"$error":"#VALUE!"},{"$error":"#VALUE!"},{"$error":"#VALUE!"},{"$error":"#VALUE!"},{"$error":"#VALUE!"},{"$error":"#VALUE!"},{"$error":"#VALUE!"},{"$error":"#VALUE!"},{"$error":"#VALUE!"},null,null,{"$error":"#VALUE!"},{"$f":"'Site&Soil'!$H$173*EXP('Site&Soil'!$H$174*DN212)","v":{"$error":"#VALUE!"}},{"$error":"#VALUE!"},0,{"$error":"#VALUE!"},0,0,{"$error":"#VALUE!"},{"$error":"#VALUE!"},{"$error":"#VALUE!"},{"$error":"#VALUE!"},{"$error":"#VALUE!"},{"$error":"#VALUE!"},{"$error":"#VALUE!"},{"$error":"#VALUE!"},{"$error":"#VALUE!"}]
[{"$f":"A201+1","v":18},205,"Jan",{"$f":"OFFSET(Apply_Lime!$H$16,$A213,0)","v":0},{"$f":"OFFSET(Apply_Lime!$I$16,$A213,0)*E$7","v":0},{"$f":"OFFSET(Apply_Lime!$I$16,$A213,0)*F$7","v":0},null,6.1299531258999833,{"$f":"'Site&Soil'!$F$173*EXP('Site&Soil'!$F$174*H213)","v":0},0.69468750000000001,{"$f":"K201","v":4.6770622383959001E-2},3.3196266779103524E-4,0,0,6241.8569356034832,0.25524995009283352,2.0720634803129086E-4,2.9558679270916205E-5,2.5572313991596891E-4,6.1302088490398994,0.15992320981740485,3.1922250122524049E-4,-4.5951956991487606E-4,null,null,5.6314839354102757,{"$f":"'Site&Soil'!$G$173*EXP('Site&Soil'!$G$174*Z213)","v":0},0.79087499999999999,{"$f":"AC201","v":0.14085842092104497},3.2462368902102896E-3,0,0,1.5945219765374397E-5,6.5205220038219003E-10,5.1761960624868623E-12,5.8768356198305999E-13,3.7374659534602447E-5,5.63152131006981,0.49945441610146102,9.5235744888739853E-4,-8.0054995753078297E-4,null,null,5.4361880940413787,{"$f":"'Site&Soil'!$H$173*EXP('Site&Soil'!$H$174*AR213)","v":0},0.72675000000000001,{"$f":"AU201","v":0.36787944117144233},1.3358314156613765E-2,0,0,2.4929296398513663E-6,1.0194404849740208E-10,3.3301337299468561E-12,3.6176416203960371E-13,4.8930899620093737E-12,5.4361880940462717,0.53502469734812785,1.6992897670967469E-3,-1.0277706476908817E-3,null,null,null,null,null,null,null,null,null,null,null,null,null,null,null,null,null,null,{"$f":"OFFSET(Apply_Lime!$O$16,$A213,0)","v":0},{"$f":"OFFSET(Apply_Lime!$P$16,$A213,0)*CA$7","v":0},{"$f":"OFFSET(Apply_Lime!$P$16,$A213,0)*CB$7","v":0},null,{"$error":"#VALUE!"},{"$f":"'Site&Soil'!$F$173*EXP('Site&Soil'!$F$174*CD213)","v":{"$error":"#VALUE!"}},{"$error":"#VALUE!"},{"$f":"CG201","v":0},{"$error":"#VALUE!"},0,0,{"$error":"#VALUE!"},{"$error":"#VALUE!"},{"$error":"#VALUE!"},{"$error":"#VALUE!"},{"$error":"#VALUE!"},{"$error":"#VALUE!"},{"$error":"#VALUE!"},{"$error":"#VALUE!"},{"$error":"#VALUE!"},null,null,{"$error":"#VALUE!"},{"$f":"'Site&Soil'!$G$173*EXP('Site&Soil'!$G$174*CV213)","v":{"$error":"#VALUE!"}},{"$error":"#VALUE!"},{"$f":"CY201","v":0},{"$error":"#VALUE!"},0,0,{"$error":"#VALUE!"},{"$error":"#VALUE!"},{"$error":"#VALUE!"},{"$error":"#VALUE!"},{"$error":"#VALUE!"},{"$error":"#VALUE!"},{"$error":"#VALUE!"},{"$error":"#VALUE!"},{"$error":"#VALUE!"},null,null,{"$error":"#VALUE!"},{"$f":"'Site&Soil'!$H$173*EXP('Site&Soil'!$H$174*DN213)","v":{"$error":"#VALUE!"}},{"$error":"#VALUE!"},{"$f":"DQ201","v":0},{"$error":"#VALUE!"},0,0,{"$error":"#VALUE!"},{"$error":"#VALUE!"},{"$error":"#VALUE!"},{"$error":"#VALUE!"},{"$error":"#VALUE!"},{"$error":"#VALUE!"},{"$error":"#VALUE!"},{"$error":"#VALUE!"},{"$error":"#VALUE!"}]
[null,206,"Feb",null,null,null,null,6.1297493294699841,{"$f":"'Site&Soil'!$F$173*EXP('Site&Soil'!$F$174*H214)","v":0},0.69468750000000001,0.1053992245618643,7.4845619384806433E-4,0,0,6236.7899321424056,0.25504274374480224,4.6679640544412327E-4,6.65807291162279E-5,5.7610893578464474E-4,6.1303254384057686,0.16000420299250714,7.1993658719712037E-4,-1.0363459644762865E-3,null,null,5.6307207601122791,{"$f":"'Site&Soil'!$G$173*EXP('Site&Soil'!$G$174*Z214)","v":0},0.79087499999999999,0.23692775868212174,5.4699956033913725E-3,0,0,1.5818641580810888E-5,6.4687600431970312E-10,8.6527899898659505E-12,9.8219579980097844E-13,8.4186169479149163E-5,5.6308049462817582,0.49888786189058554,1.5974373328495684E-3,-1.1095315260343898E-3,null,null,5.4351603233985806,{"$f":"'Site&Soil'!$H$173*EXP('Site&Soil'!$H$174*AR214)","v":0},0.72675000000000001,0.47965226883004436,1.7458597328735705E-2,0,0,2.4114948802708216E-6,9.8613914767455219E-11,4.2101318074955999E-12,4.5727553664874411E-13,6.5153795261752102E-12,5.4351603234050962,0.53427776503465363,2.2072622058272695E-3,-8.391123123188182E-4,null,null,null,null,null,null,null,null,null,null,null,null,null,null,null,null,null,null,null,null,null,null,{"$error":"#VALUE!"},{"$f":"'Site&Soil'!$F$173*EXP('Site&Soil'!$F$174*CD214)","v":{"$error":"#VALUE!"}},{"$error":"#VALUE!"},0,{"$error":"#VALUE!"},0,0,{"$error":"#VALUE!"},{"$error":"#VALUE!"},{"$error":"#VALUE!"},{"$error":"#VALUE!"},{"$error":"#VALUE!"},{"$error":"#VALUE!"},{"$error":"#VALUE!"},{"$error":"#VALUE!"},{"$error":"#VALUE!"},null,null,{"$error":"#VALUE!"},{"$f":"'Site&Soil'!$G$173*EXP('Site&Soil'!$G$174*CV214)","v":{"$error":"#VALUE!"}},{"$error":"#VALUE!"},0,{"$error":"#VALUE!"},0,0,{"$error":"#VALUE!"},{"$error":"#VALUE!"},{"$error":"#VALUE!"},{"$error":"#VALUE!"},{"$error":"#VALUE!"},{"$error":"#VALUE!"},{"$error":"#VALUE!"},{"$error":"#VALUE!"},{"$error":"#VALUE!"},null,null,{"$error":"#VALUE!"},{"$f":"'Site&Soil'!$H$173*EXP('Site&Soil'!$H$174*DN214)","v":{"$error":"#VALUE!"}},{"$error":"#VALUE!"},0,{"$error":"#VALUE!"},0,0,{"$error":"#VALUE!"},{"$error":"#VALUE!"},{"$error":"#VALUE!"},{"$error":"#VALUE!"},{"$error":"#VALUE!"},{"$error":"#VALUE!"},{"$error":"#VALUE!"},{"$error":"#VALUE!"},{"$error":"#VALUE!"}]
[null,207,"Mar",null,null,null,null,6.1292890924412919,{"$f":"'Site&Soil'!$F$173*EXP('Site&Soil'!$F$174*H215)","v":0},0.69468750000000001,0.20961138715109778,1.4901313921381154E-3,0,0,6225.3749391922538,0.25457594733935812,9.2766266247202884E-4,1.3227373174069481E-4,1.1449593244895495E-3,6.1304340517657812,0.16007965533604085,1.432798322420311E-3,-2.0625077065879421E-3,null,null,5.6296954147557239,{"$f":"'Site&Soil'!$G$173*EXP('Site&Soil'!$G$174*Z215)","v":0},0.79087499999999999,0.36787944117144206,8.5136525477841618E-3,0,0,1.5607047113540975E-5,6.3822321432983713E-10,1.3287297642158558E-11,1.5078448140726046E-12,1.6724987326713784E-4,5.6298626646289911,0.49814263488845334,2.4712796692016037E-3,-1.3130789907144526E-3,null,null,5.4343212110927777,{"$f":"'Site&Soil'!$H$173*EXP('Site&Soil'!$H$174*AR215)","v":0},0.72675000000000001,0.60037304119840451,2.1895275965021593E-2,0,0,2.3085407350775959E-6,9.4403782959959622E-11,5.0546136471017769E-12,5.4891330526176052E-13,8.2745719379602621E-12,5.4343212111010519,0.53366794016768937,2.7543143663223005E-3,-3.8945262761705786E-4,null,null,null,null,null,null,null,null,null,null,null,null,null,null,null,null,null,null,null,null,null,null,{"$error":"#VALUE!"},{"$f":"'Site&Soil'!$F$173*EXP('Site&Soil'!$F$174*CD215)","v":{"$error":"#VALUE!"}},{"$error":"#VALUE!"},0,{"$error":"#VALUE!"},0,0,{"$error":"#VALUE!"},{"$error":"#VALUE!"},{"$error":"#VALUE!"},{"$error":"#VALUE!"},{"$error":"#VALUE!"},{"$error":"#VALUE!"},{"$error":"#VALUE!"},{"$error":"#VALUE!"},{"$error":"#VALUE!"},null,null,{"$error":"#VALUE!"},{"$f":"'Site&Soil'!$G$173*EXP('Site&Soil'!$G$174*CV215)","v":{"$error":"#VALUE!"}},{"$error":"#VALUE!"},0,{"$error":"#VALUE!"},0,0,{"$error":"#VALUE!"},{"$error":"#VALUE!"},{"$error":"#VALUE!"},{"$error":"#VALUE!"},{"$error":"#VALUE!"},{"$error":"#VALUE!"},{"$error":"#VALUE!"},{"$error":"#VALUE!"},{"$error":"#VALUE!"},null,null,{"$error":"#VALUE!"},{"$f":"'Site&Soil'!$H$173*EXP('Site&Soil'!$H$174*DN215)","v":{"$error":"#VALUE!"}},{"$error":"#VALUE!"},0,{"$error":"#VALUE!"},0,0,{"$error":"#VALUE!"},{"$error":"#VALUE!"},{"$error":"#VALUE!"},{"$error":"#VALUE!"},{"$error":"#VALUE!"},{"$error":"#VALUE!"},{"$error":"#VALUE!"},{"$error":"#VALUE!"},{"$error":"#VALUE!"}]
[null,208,"Apr",null,null,null,null,6.1283715440591928,{"$f":"'Site&Soil'!$F$173*EXP('Site&Soil'!$F$174*H216)","v":0},0.69468750000000001,0.36787944117144233,2.6210392730499671E-3,0,0,6202.6899685525123,0.2536482846768861,1.6257494006129201E-3,2.3166652360768336E-4,2.006776970947709E-3,6.1303783210301406,0.16004093989062554,2.5137086081233233E-3,-3.6184739298221478E-3,null,null,5.628549585638277,{"$f":"'Site&Soil'!$G$173*EXP('Site&Soil'!$G$174*Z216)","v":0},0.79087499999999999,0.52729242404304844,1.2235547316730787E-2,0,0,1.5282120856305778E-5,6.2493591668767853E-10,1.8698511283732777E-11,2.1212461171752719E-12,2.9292434352451213E-4,5.6288425099818014,0.49733582008185717,3.5281235207694733E-3,-1.2826488543020704E-3,null,null,5.4339317584734346,{"$f":"'Site&Soil'!$H$173*EXP('Site&Soil'!$H$174*AR216)","v":0},0.72675000000000001,0.72142229035475613,2.6333684353512441E-2,0,0,2.1849357148279012E-6,8.934916931285784E-11,5.7537407446994029E-12,6.2479171975959483E-13,9.9761887060407007E-12,5.4339317584834106,0.53338490547781847,3.3049282594168733E-3,3.0711422270739591E-4,null,null,null,null,null,null,null,null,null,null,null,null,null,null,null,null,null,null,null,null,null,null,{"$error":"#VALUE!"},{"$f":"'Site&Soil'!$F$173*EXP('Site&Soil'!$F$174*CD216)","v":{"$error":"#VALUE!"}},{"$error":"#VALUE!"},0,{"$error":"#VALUE!"},0,0,{"$error":"#VALUE!"},{"$error":"#VALUE!"},{"$error":"#VALUE!"},{"$error":"#VALUE!"},{"$error":"#VALUE!"},{"$error":"#VALUE!"},{"$error":"#VALUE!"},{"$error":"#VALUE!"},{"$error":"#VALUE!"},null,null,{"$error":"#VALUE!"},{"$f":"'Site&Soil'!$G$173*EXP('Site&Soil'!$G$174*CV216)","v":{"$error":"#VALUE!"}},{"$error":"#VALUE!"},0,{"$error":"#VALUE!"},0,0,{"$error":"#VALUE!"},{"$error":"#VALUE!"},{"$error":"#VALUE!"},{"$error":"#VALUE!"},{"$error":"#VALUE!"},{"$error":"#VALUE!"},{"$error":"#VALUE!"},{"$error":"#VALUE!"},{"$error":"#VALUE!"},null,null,{"$error":"#VALUE!"},{"$f":"'Site&Soil'!$H$173*EXP('Site&Soil'!$H$174*DN216)","v":{"$error":"#VALUE!"}},{"$error":"#VALUE!"},0,{"$error":"#VALUE!"},0,0,{"$error":"#VALUE!"},{"$error":"#VALUE!"},{"$error":"#VALUE!"},{"$error":"#VALUE!"},{"$error":"#VALUE!"},{"$error":"#VALUE!"},{"$error":"#VALUE!"},{"$error":"#VALUE!"},{"$error":"#VALUE!"}]
[null,209,"May",null,null,null,null,6.1267598471003186,{"$f":"'Site&Soil'!$F$173*EXP('Site&Soil'!$F$174*H217)","v":0},0.69468750000000001,0.56978282473092301,4.0753081890819902E-3,0,0,6162.9340541318497,0.25202253527627316,2.5115855619575796E-3,3.5750129102305177E-4,3.1007960715206881E-3,6.1298606431718392,0.15968131555343681,3.8799318647850991E-3,-5.5851470838112083E-3,null,null,5.6275598611274997,{"$f":"'Site&Soil'!$G$173*EXP('Site&Soil'!$G$174*Z217)","v":0},0.79087499999999999,0.69767632607103081,1.6226656867399238E-2,0,0,1.4824869317963151E-5,6.0623740540394578E-10,2.40558067526623E-11,2.728266425490424E-12,4.5203263771214427E-4,5.6280118937652119,0.49667890648156199,4.65309154099548E-3,-9.7760034924656994E-4,null,null,5.4342388727061177,{"$f":"'Site&Soil'!$H$173*EXP('Site&Soil'!$H$174*AR217)","v":0},0.72675000000000001,0.83220750069030147,3.0355956282309877E-2,0,0,2.0442343099504291E-6,8.3595428568158437E-11,6.2054687343653125E-12,6.7388201651912449E-13,1.1365467001495167E-11,5.4342388727174828,0.53360810074743059,3.8167429538546577E-3,1.1508064494541758E-3,null,null,null,null,null,null,null,null,null,null,null,null,null,null,null,null,null,null,null,null,null,null,{"$error":"#VALUE!"},{"$f":"'Site&Soil'!$F$173*EXP('Site&Soil'!$F$174*CD217)","v":{"$error":"#VALUE!"}},{"$error":"#VALUE!"},0,{"$error":"#VALUE!"},0,0,{"$error":"#VALUE!"},{"$error":"#VALUE!"},{"$error":"#VALUE!"},{"$error":"#VALUE!"},{"$error":"#VALUE!"},{"$error":"#VALUE!"},{"$error":"#VALUE!"},{"$error":"#VALUE!"},{"$error":"#VALUE!"},null,null,{"$error":"#VALUE!"},{"$f":"'Site&Soil'!$G$173*EXP('Site&Soil'!$G$174*CV217)","v":{"$error":"#VALUE!"}},{"$error":"#VALUE!"},0,{"$error":"#VALUE!"},0,0,{"$error":"#VALUE!"},{"$error":"#VALUE!"},{"$error":"#VALUE!"},{"$error":"#VALUE!"},{"$error":"#VALUE!"},{"$error":"#VALUE!"},{"$error":"#VALUE!"},{"$error":"#VALUE!"},{"$error":"#VALUE!"},null,null,{"$error":"#VALUE!"},{"$f":"'Site&Soil'!$H$173*EXP('Site&Soil'!$H$174*DN217)","v":{"$error":"#VALUE!"}},{"$error":"#VALUE!"},0,{"$error":"#VALUE!"},0,0,{"$error":"#VALUE!"},{"$error":"#VALUE!"},{"$error":"#VALUE!"},{"$error":"#VALUE!"},{"$error":"#VALUE!"},{"$error":"#VALUE!"},{"$error":"#VALUE!"},{"$error":"#VALUE!"},{"$error":"#VALUE!"}]
[null,210,"Jun",null,null,null,null,6.1242754960880283,{"$f":"'Site&Soil'!$F$173*EXP('Site&Soil'!$F$174*H218)","v":0},0.69468750000000001,0.77880078307140521,5.6036544517284259E-3,0,0,6101.5159901770294,0.24951094971431559,3.419078724064769E-3,4.8584889927597035E-4,4.2223731171048837E-3,6.1284978692051331,0.15873461351344062,5.255280333448669E-3,-7.5649559455851284E-3,null,null,5.6270342934159654,{"$f":"'Site&Soil'!$G$173*EXP('Site&Soil'!$G$174*Z218)","v":0},0.79087499999999999,0.85214378896621112,1.98436088651389E-2,0,0,1.4236611008153367E-5,5.821815986512835E-10,2.8250574041092621E-11,3.2035536448128854E-12,6.1431822263061889E-4,5.6276486116385964,0.49639159572967495,5.6752619850001344E-3,-5.3103417297482587E-4,null,null,5.4353896791669367,{"$f":"'Site&Soil'!$H$173*EXP('Site&Soil'!$H$174*AR218)","v":0},0.72675000000000001,0.92161044729772479,3.3527323552086166E-2,0,0,1.8924863936660914E-6,7.738995983379312E-11,6.3450003638363764E-12,6.891791329704968E-13,1.2190402305715534E-11,5.435389679179127,0.53444444934343038,4.2446280462263009E-3,1.9685365514603833E-3,null,null,null,null,null,null,null,null,null,null,null,null,null,null,null,null,null,null,null,null,null,null,{"$error":"#VALUE!"},{"$f":"'Site&Soil'!$F$173*EXP('Site&Soil'!$F$174*CD218)","v":{"$error":"#VALUE!"}},{"$error":"#VALUE!"},0,{"$error":"#VALUE!"},0,0,{"$error":"#VALUE!"},{"$error":"#VALUE!"},{"$error":"#VALUE!"},{"$error":"#VALUE!"},{"$error":"#VALUE!"},{"$error":"#VALUE!"},{"$error":"#VALUE!"},{"$error":"#VALUE!"},{"$error":"#VALUE!"},null,null,{"$error":"#VALUE!"},{"$f":"'Site&Soil'!$G$173*EXP('Site&Soil'!$G$174*CV218)","v":{"$error":"#VALUE!"}},{"$error":"#VALUE!"},0,{"$error":"#VALUE!"},0,0,{"$error":"#VALUE!"},{"$error":"#VALUE!"},{"$error":"#VALUE!"},{"$error":"#VALUE!"},{"$error":"#VALUE!"},{"$error":"#VALUE!"},{"$error":"#VALUE!"},{"$error":"#VALUE!"},{"$error":"#VALUE!"},null,null,{"$error":"#VALUE!"},{"$f":"'Site&Soil'!$H$173*EXP('Site&Soil'!$H$174*DN218)","v":{"$error":"#VALUE!"}},{"$error":"#VALUE!"},0,{"$error":"#VALUE!"},0,0,{"$error":"#VALUE!"},{"$error":"#VALUE!"},{"$error":"#VALUE!"},{"$error":"#VALUE!"},{"$error":"#VALUE!"},{"$error":"#VALUE!"},{"$error":"#VALUE!"},{"$error":"#VALUE!"},{"$error":"#VALUE!"}]
[null,211,"Jul",null,null,null,null,6.1209329132595478,{"$f":"'Site&Soil'!$F$173*EXP('Site&Soil'!$F$174*H219)","v":0},0.69468750000000001,0.93941306281347592,6.8138169397379145E-3,0,0,6017.9061785417434,0.24609187099025082,4.1004911061101193E-3,5.8135361688805231E-4,5.0657849597438654E-3,6.1259986982192913,0.15699847066921371,6.2337691452942854E-3,-8.9734868488266818E-3,null,null,5.6271175774656212,{"$f":"'Site&Soil'!$G$173*EXP('Site&Soil'!$G$174*Z219)","v":0},0.79087499999999999,0.96078943915232284,2.2369258116192649E-2,0,0,1.3545774275574025E-5,5.5393102461019091E-10,3.0300892115399786E-11,3.4361331135389861E-12,7.3507652126165491E-4,5.6278526539868832,0.49655296772187624,6.4039282375734233E-3,-2.1515295372737526E-4,null,null,5.4373582157305878,{"$f":"'Site&Soil'!$H$173*EXP('Site&Soil'!$H$174*AR219)","v":0},0.72675000000000001,0.97979867385370423,3.5481555937288224E-2,0,0,1.7373263847688726E-6,7.104495946995674E-11,6.1643043302503476E-12,6.6979368494495443E-13,1.2288467504429831E-11,5.4373582157428766,0.53587508329113542,4.5452589125560159E-3,2.5575085311557032E-3,null,null,null,null,null,null,null,null,null,null,null,null,null,null,null,null,null,null,null,null,null,null,{"$error":"#VALUE!"},{"$f":"'Site&Soil'!$F$173*EXP('Site&Soil'!$F$174*CD219)","v":{"$error":"#VALUE!"}},{"$error":"#VALUE!"},0,{"$error":"#VALUE!"},0,0,{"$error":"#VALUE!"},{"$error":"#VALUE!"},{"$error":"#VALUE!"},{"$error":"#VALUE!"},{"$error":"#VALUE!"},{"$error":"#VALUE!"},{"$error":"#VALUE!"},{"$error":"#VALUE!"},{"$error":"#VALUE!"},null,null,{"$error":"#VALUE!"},{"$f":"'Site&Soil'!$G$173*EXP('Site&Soil'!$G$174*CV219)","v":{"$error":"#VALUE!"}},{"$error":"#VALUE!"},0,{"$error":"#VALUE!"},0,0,{"$error":"#VALUE!"},{"$error":"#VALUE!"},{"$error":"#VALUE!"},{"$error":"#VALUE!"},{"$error":"#VALUE!"},{"$error":"#VALUE!"},{"$error":"#VALUE!"},{"$error":"#VALUE!"},{"$error":"#VALUE!"},null,null,{"$error":"#VALUE!"},{"$f":"'Site&Soil'!$H$173*EXP('Site&Soil'!$H$174*DN219)","v":{"$error":"#VALUE!"}},{"$error":"#VALUE!"},0,{"$error":"#VALUE!"},0,0,{"$error":"#VALUE!"},{"$error":"#VALUE!"},{"$error":"#VALUE!"},{"$error":"#VALUE!"},{"$error":"#VALUE!"},{"$error":"#VALUE!"},{"$error":"#VALUE!"},{"$error":"#VALUE!"},{"$error":"#VALUE!"}]
[null,212,"Aug",null,null,null,null,6.1170252113704651,{"$f":"'Site&Soil'!$F$173*EXP('Site&Soil'!$F$174*H220)","v":0},0.69468750000000001,1,7.3216866658309216E-3,0,0,5917.6331761738875,0.24199137988414068,4.3327055919271037E-3,6.1265484300070626E-4,5.3549988288639095E-3,6.1223802101993288,0.15448475227284597,6.4753885199611118E-3,-9.3212970147888239E-3,null,null,5.6276375010331554,{"$f":"'Site&Soil'!$G$173*EXP('Site&Soil'!$G$174*Z220)","v":0},0.79087499999999999,1,2.3253930515480817E-2,0,0,1.2804799268383255E-5,5.2363013249479114E-10,2.9776191245166386E-11,3.3771097993561282E-12,7.7465448952083169E-4,5.6284121555226765,0.49699546349899676,6.6798172364674622E-3,-2.5848423139731354E-4,null,null,5.4399157242740319,{"$f":"'Site&Soil'!$H$173*EXP('Site&Soil'!$H$174*AR220)","v":0},0.72675000000000001,1,3.5998623998013374E-2,0,0,1.5865850987355163E-6,6.4880655139706395E-11,5.7114880410230782E-12,6.208841332062416E-13,1.1651480849223205E-11,5.439915724285683,0.53773375262461998,4.6825564486353312E-3,2.748208858386145E-3,null,null,null,null,null,null,null,null,null,null,null,null,null,null,null,null,null,null,null,null,null,null,{"$error":"#VALUE!"},{"$f":"'Site&Soil'!$F$173*EXP('Site&Soil'!$F$174*CD220)","v":{"$error":"#VALUE!"}},{"$error":"#VALUE!"},0,{"$error":"#VALUE!"},0,0,{"$error":"#VALUE!"},{"$error":"#VALUE!"},{"$error":"#VALUE!"},{"$error":"#VALUE!"},{"$error":"#VALUE!"},{"$error":"#VALUE!"},{"$error":"#VALUE!"},{"$error":"#VALUE!"},{"$error":"#VALUE!"},null,null,{"$error":"#VALUE!"},{"$f":"'Site&Soil'!$G$173*EXP('Site&Soil'!$G$174*CV220)","v":{"$error":"#VALUE!"}},{"$error":"#VALUE!"},0,{"$error":"#VALUE!"},0,0,{"$error":"#VALUE!"},{"$error":"#VALUE!"},{"$error":"#VALUE!"},{"$error":"#VALUE!"},{"$error":"#VALUE!"},{"$error":"#VALUE!"},{"$error":"#VALUE!"},{"$error":"#VALUE!"},{"$error":"#VALUE!"},null,null,{"$error":"#VALUE!"},{"$f":"'Site&Soil'!$H$173*EXP('Site&Soil'!$H$174*DN220)","v":{"$error":"#VALUE!"}},{"$error":"#VALUE!"},0,{"$error":"#VALUE!"},0,0,{"$error":"#VALUE!"},{"$error":"#VALUE!"},{"$error":"#VALUE!"},{"$error":"#VALUE!"},{"$error":"#VALUE!"},{"$error":"#VALUE!"},{"$error":"#VALUE!"},{"$error":"#VALUE!"},{"$error":"#VALUE!"}]
[null,213,"Sep",null,null,null,null,6.1130589131845401,{"$f":"'Site&Soil'!$F$173*EXP('Site&Soil'!$F$174*H221)","v":0},0.69468750000000001,0.93941306281347592,6.943917070560069E-3,0,0,5811.6816238266201,0.23765867429221357,4.0355835236349936E-3,5.691221019307577E-4,4.9899579619674108E-3,6.1180488711465078,0.15147582517458935,5.9053928385764199E-3,-8.5007904109062268E-3,null,null,5.6281536712912787,{"$f":"'Site&Soil'!$G$173*EXP('Site&Soil'!$G$174*Z221)","v":0},0.79087499999999999,0.96078943915232284,2.2315231536559163E-2,0,0,1.2076655244175215E-5,4.9385394124962473E-10,2.6949335796097141E-11,3.0569278837881251E-12,7.1961071701996606E-4,5.628873282008299,0.49736015690831342,6.4294303223718071E-3,-6.6260468948365692E-4,null,null,5.4426639331440692,{"$f":"'Site&Soil'!$H$173*EXP('Site&Soil'!$H$174*AR221)","v":0},0.72675000000000001,0.97979867385370423,3.5046957382507848E-2,0,0,1.4469169372784413E-6,5.9169167098683311E-11,5.0710036236826318E-12,5.5153870508896795E-13,1.0425033095812574E-11,5.4426639331544946,0.53973101342002883,4.6342360809009794E-3,2.4701675149237396E-3,null,null,null,null,null,null,null,null,null,null,null,null,null,null,null,null,null,null,null,null,null,null,{"$error":"#VALUE!"},{"$f":"'Site&Soil'!$F$173*EXP('Site&Soil'!$F$174*CD221)","v":{"$error":"#VALUE!"}},{"$error":"#VALUE!"},0,{"$error":"#VALUE!"},0,0,{"$error":"#VALUE!"},{"$error":"#VALUE!"},{"$error":"#VALUE!"},{"$error":"#VALUE!"},{"$error":"#VALUE!"},{"$error":"#VALUE!"},{"$error":"#VALUE!"},{"$error":"#VALUE!"},{"$error":"#VALUE!"},null,null,{"$error":"#VALUE!"},{"$f":"'Site&Soil'!$G$173*EXP('Site&Soil'!$G$174*CV221)","v":{"$error":"#VALUE!"}},{"$error":"#VALUE!"},0,{"$error":"#VALUE!"},0,0,{"$error":"#VALUE!"},{"$error":"#VALUE!"},{"$error":"#VALUE!"},{"$error":"#VALUE!"},{"$error":"#VALUE!"},{"$error":"#VALUE!"},{"$error":"#VALUE!"},{"$error":"#VALUE!"},{"$error":"#VALUE!"},null,null,{"$error":"#VALUE!"},{"$f":"'Site&Soil'!$H$173*EXP('Site&Soil'!$H$174*DN221)","v":{"$error":"#VALUE!"}},{"$error":"#VALUE!"},0,{"$error":"#VALUE!"},0,0,{"$error":"#VALUE!"},{"$error":"#VALUE!"},{"$error":"#VALUE!"},{"$error":"#VALUE!"},{"$error":"#VALUE!"},{"$error":"#VALUE!"},{"$error":"#VALUE!"},{"$error":"#VALUE!"},{"$error":"#VALUE!"}]
[null,214,"Oct",null,null,null,null,6.1095480807356015,{"$f":"'Site&Soil'!$F$173*EXP('Site&Soil'!$F$174*H222)","v":0},0.69468750000000001,0.77880078307140521,5.8054342224278885E-3,0,0,5712.9958650358867,0.23362309076857857,3.3166421707468354E-3,4.6663715437891026E-4,4.1025713236065497E-3,6.1136506520592082,0.14842043735238097,4.7486563151565844E-3,-6.8356726084125366E-3,0.02,null,5.6282106773188154,{"$f":"'Site&Soil'!$G$173*EXP('Site&Soil'!$G$174*Z222)","v":0},0.79087499999999999,0.85214378896621112,1.9789201800923997E-2,0,0,1.1417638862438032E-5,4.6690460545352757E-10,2.2594595953885851E-11,2.5629991250293195E-12,5.9002645729161636E-4,5.6288007037761068,0.49730275659892842,5.7007822560628373E-3,-1.2038892883278053E-3,0.02,null,5.4451341006694181,{"$f":"'Site&Soil'!$H$173*EXP('Site&Soil'!$H$174*AR222)","v":0},0.72675000000000001,0.92161044729772479,3.2776969280223008E-2,0,0,1.3229111181688119E-6,5.4098163475000678E-11,4.3361017080684617E-12,4.7182514416744585E-13,8.8438605970833654E-12,5.4451341006782616,0.54152620766792647,4.3984632678257278E-3,1.7919765920015268E-3,0.02,null,{"$f":"BJ210+1","v":18},{"$f":"AVERAGE(H217:H222)","v":6.1186000769564162},{"$f":"AVERAGE(Z217:Z222)","v":5.6276189302753892},{"$f":"AVERAGE(AR217:AR222)","v":5.4391167542818613},null,null,null,null,null,null,null,null,null,null,null,null,null,null,null,null,{"$error":"#VALUE!"},{"$f":"'Site&Soil'!$F$173*EXP('Site&Soil'!$F$174*CD222)","v":{"$error":"#VALUE!"}},{"$error":"#VALUE!"},0,{"$error":"#VALUE!"},0,0,{"$error":"#VALUE!"},{"$error":"#VALUE!"},{"$error":"#VALUE!"},{"$error":"#VALUE!"},{"$error":"#VALUE!"},{"$error":"#VALUE!"},{"$error":"#VALUE!"},{"$error":"#VALUE!"},{"$error":"#VALUE!"},{"$error":"#VALUE!"},null,{"$error":"#VALUE!"},{"$f":"'Site&Soil'!$G$173*EXP('Site&Soil'!$G$174*CV222)","v":{"$error":"#VALUE!"}},{"$error":"#VALUE!"},0,{"$error":"#VALUE!"},0,0,{"$error":"#VALUE!"},{"$error":"#VALUE!"},{"$error":"#VALUE!"},{"$error":"#VALUE!"},{"$error":"#VALUE!"},{"$error":"#VALUE!"},{"$error":"#VALUE!"},{"$error":"#VALUE!"},{"$error":"#VALUE!"},{"$error":"#VALUE!"},null,{"$error":"#VALUE!"},{"$f":"'Site&Soil'!$H$173*EXP('Site&Soil'!$H$174*DN222)","v":{"$error":"#VALUE!"}},{"$error":"#VALUE!"},0,{"$error":"#VALUE!"},0,0,{"$error":"#VALUE!"},{"$error":"#VALUE!"},{"$error":"#VALUE!"},{"$error":"#VALUE!"},{"$error":"#VALUE!"},{"$error":"#VALUE!"},{"$error":"#VALUE!"},{"$error":"#VALUE!"},{"$error":"#VALUE!"},{"$error":"#VALUE!"},null,{"$f":"EF210+1","v":18},{"$f":"AVERAGE(CD217:CD222)","v":{"$error":"#VALUE!"}},{"$f":"AVERAGE(CV217:CV222)","v":{"$error":"#VALUE!"}},{"$f":"AVERAGE(DN217:DN222)","v":{"$error":"#VALUE!"}}]
[null,215,"Nov",null,null,null,null,6.1268149794507956,{"$f":"'Site&Soil'!$F$173*EXP('Site&Soil'!$F$174*H223)","v":0},0.69468750000000001,0.56978282473092301,4.0747680020700658E-3,0,0,5631.8910267044321,0.23030644859783173,2.294864934676075E-3,3.2666542270080049E-4,2.8332156717592798E-3,6.129648195122555,0.15953373054919967,3.8744500827132605E-3,-5.5772560794792774E-3,null,null,5.6475968144877786,{"$f":"'Site&Soil'!$G$173*EXP('Site&Soil'!$G$174*Z223)","v":0},0.79087499999999999,0.69767632607103081,1.5485070833303702E-2,0,0,1.0865112856416766E-5,4.4431000949964174E-10,1.6824704219345235E-11,1.9188142429076359E-12,4.1304306952007647E-4,5.648009857557299,0.51249479609562887,5.027514177449878E-3,-1.4579599743785271E-3,null,null,5.466926077270263,{"$f":"'Site&Soil'!$H$173*EXP('Site&Soil'!$H$174*AR223)","v":0},0.72675000000000001,0.83220750069030147,2.8135996410718542E-2,0,0,1.2168765175346271E-6,4.9762061766932213E-11,3.423803332964195E-12,3.7410776278767829E-13,6.8366148098853154E-12,5.4669260772770993,0.55736352666113187,4.2982952961346478E-3,1.0033971535125287E-3,null,null,null,null,null,null,null,null,null,null,null,null,null,null,null,null,null,null,null,null,null,null,{"$error":"#VALUE!"},{"$f":"'Site&Soil'!$F$173*EXP('Site&Soil'!$F$174*CD223)","v":{"$error":"#VALUE!"}},{"$error":"#VALUE!"},0,{"$error":"#VALUE!"},0,0,{"$error":"#VALUE!"},{"$error":"#VALUE!"},{"$error":"#VALUE!"},{"$error":"#VALUE!"},{"$error":"#VALUE!"},{"$error":"#VALUE!"},{"$error":"#VALUE!"},{"$error":"#VALUE!"},{"$error":"#VALUE!"},null,null,{"$error":"#VALUE!"},{"$f":"'Site&Soil'!$G$173*EXP('Site&Soil'!$G$174*CV223)","v":{"$error":"#VALUE!"}},{"$error":"#VALUE!"},0,{"$error":"#VALUE!"},0,0,{"$error":"#VALUE!"},{"$error":"#VALUE!"},{"$error":"#VALUE!"},{"$error":"#VALUE!"},{"$error":"#VALUE!"},{"$error":"#VALUE!"},{"$error":"#VALUE!"},{"$error":"#VALUE!"},{"$error":"#VALUE!"},null,null,{"$error":"#VALUE!"},{"$f":"'Site&Soil'!$H$173*EXP('Site&Soil'!$H$174*DN223)","v":{"$error":"#VALUE!"}},{"$error":"#VALUE!"},0,{"$error":"#VALUE!"},0,0,{"$error":"#VALUE!"},{"$error":"#VALUE!"},{"$error":"#VALUE!"},{"$error":"#VALUE!"},{"$error":"#VALUE!"},{"$error":"#VALUE!"},{"$error":"#VALUE!"},{"$error":"#VALUE!"},{"$error":"#VALUE!"}]
[null,216,"Dec",null,null,null,null,6.1240709390430759,{"$f":"'Site&Soil'!$F$173*EXP('Site&Soil'!$F$174*H224)","v":0},0.69468750000000001,0.36787944117144233,2.6482807905723591E-3,0,0,5575.7726274507932,0.22801158366315566,1.4766211541877108E-3,2.0979764796582115E-4,1.8235875933018655E-3,6.1258945266363778,0.15692610397270845,2.4394686276718093E-3,-3.5116057618307644E-3,null,null,5.6465518975829205,{"$f":"'Site&Soil'!$G$173*EXP('Site&Soil'!$G$174*Z224)","v":0},0.79087499999999999,0.52729242404304844,1.1731958758689688E-2,0,0,1.0453683209974905E-5,4.2748530528029652E-10,1.2264218029583244E-11,1.3982885116891266E-12,2.6527284189252492E-4,5.6468171704248133,0.51155152965972428,3.7823184364619592E-3,-1.6979292666858227E-3,null,null,5.4679294744306119,{"$f":"'Site&Soil'!$H$173*EXP('Site&Soil'!$H$174*AR224)","v":0},0.72675000000000001,0.72142229035475613,2.4333660121221144E-2,0,0,1.1331511707824246E-6,4.6338258433968018E-11,2.7573715455783336E-12,3.0134805005505573E-13,5.3034908939971165E-12,5.4679294744359153,0.55809274554630128,3.7396022178450153E-3,5.8777046600542039E-5,null,null,null,null,null,null,null,null,null,null,null,null,null,null,null,null,null,null,null,null,null,null,{"$error":"#VALUE!"},{"$f":"'Site&Soil'!$F$173*EXP('Site&Soil'!$F$174*CD224)","v":{"$error":"#VALUE!"}},{"$error":"#VALUE!"},0,{"$error":"#VALUE!"},0,0,{"$error":"#VALUE!"},{"$error":"#VALUE!"},{"$error":"#VALUE!"},{"$error":"#VALUE!"},{"$error":"#VALUE!"},{"$error":"#VALUE!"},{"$error":"#VALUE!"},{"$error":"#VALUE!"},{"$error":"#VALUE!"},null,null,{"$error":"#VALUE!"},{"$f":"'Site&Soil'!$G$173*EXP('Site&Soil'!$G$174*CV224)","v":{"$error":"#VALUE!"}},{"$error":"#VALUE!"},0,{"$error":"#VALUE!"},0,0,{"$error":"#VALUE!"},{"$error":"#VALUE!"},{"$error":"#VALUE!"},{"$error":"#VALUE!"},{"$error":"#VALUE!"},{"$error":"#VALUE!"},{"$error":"#VALUE!"},{"$error":"#VALUE!"},{"$error":"#VALUE!"},null,null,{"$error":"#VALUE!"},{"$f":"'Site&Soil'!$H$173*EXP('Site&Soil'!$H$174*DN224)","v":{"$error":"#VALUE!"}},{"$error":"#VALUE!"},0,{"$error":"#VALUE!"},0,0,{"$error":"#VALUE!"},{"$error":"#VALUE!"},{"$error":"#VALUE!"},{"$error":"#VALUE!"},{"$error":"#VALUE!"},{"$error":"#VALUE!"},{"$error":"#VALUE!"},{"$error":"#VALUE!"},{"$error":"#VALUE!"}]
[{"$f":"A213+1","v":19},217,"Jan",{"$f":"OFFSET(Apply_Lime!$H$16,$A225,0)","v":0},{"$f":"OFFSET(Apply_Lime!$I$16,$A225,0)*E$7","v":0},{"$f":"OFFSET(Apply_Lime!$I$16,$A225,0)*F$7","v":0},null,6.1223829208745473,{"$f":"'Site&Soil'!$F$173*EXP('Site&Soil'!$F$174*H225)","v":0},0.69468750000000001,4.6770622383959001E-2,3.3805991711766988E-4,0,0,5539.6634803611532,0.22653496250896796,1.8727381770306743E-4,2.6577206949707638E-5,2.3132215672998262E-4,6.1226142430312773,0.15464733195579022,3.033400988578359E-4,-4.3665691243593112E-4,null,null,5.6451192411581275,{"$f":"'Site&Soil'!$G$173*EXP('Site&Soil'!$G$174*Z225)","v":0},0.79087499999999999,0.14085842092104497,3.1445231477806009E-3,0,0,1.0153775240003253E-5,4.1522108725071328E-10,3.192878127955176E-12,3.6388439566827175E-13,3.3604817169213053E-5,5.6451528459752964,0.5102352570607126,1.0039362277473381E-3,-8.858493806094544E-4,null,null,5.4679882514825158,{"$f":"'Site&Soil'!$H$173*EXP('Site&Soil'!$H$174*AR225)","v":0},0.72675000000000001,0.36787944117144233,1.240692253995323E-2,0,0,1.0657226807884239E-6,4.3580886888389684E-11,1.322233874961328E-12,1.4450616347146763E-13,2.1212412895192738E-12,5.4679882514846367,0.55813546176645967,1.9073631433960871E-3,-1.24310549108875E-3,null,null,null,null,null,null,null,null,null,null,null,null,null,null,null,null,null,null,{"$f":"OFFSET(Apply_Lime!$O$16,$A225,0)","v":0},{"$f":"OFFSET(Apply_Lime!$P$16,$A225,0)*CA$7","v":0},{"$f":"OFFSET(Apply_Lime!$P$16,$A225,0)*CB$7","v":0},null,{"$error":"#VALUE!"},{"$f":"'Site&Soil'!$F$173*EXP('Site&Soil'!$F$174*CD225)","v":{"$error":"#VALUE!"}},{"$error":"#VALUE!"},0,{"$error":"#VALUE!"},0,0,{"$error":"#VALUE!"},{"$error":"#VALUE!"},{"$error":"#VALUE!"},{"$error":"#VALUE!"},{"$error":"#VALUE!"},{"$error":"#VALUE!"},{"$error":"#VALUE!"},{"$error":"#VALUE!"},{"$error":"#VALUE!"},null,null,{"$error":"#VALUE!"},{"$f":"'Site&Soil'!$G$173*EXP('Site&Soil'!$G$174*CV225)","v":{"$error":"#VALUE!"}},{"$error":"#VALUE!"},0,{"$error":"#VALUE!"},0,0,{"$error":"#VALUE!"},{"$error":"#VALUE!"},{"$error":"#VALUE!"},{"$error":"#VALUE!"},{"$error":"#VALUE!"},{"$error":"#VALUE!"},{"$error":"#VALUE!"},{"$error":"#VALUE!"},{"$error":"#VALUE!"},null,null,{"$error":"#VALUE!"},{"$f":"'Site&Soil'!$H$173*EXP('Site&Soil'!$H$174*DN225)","v":{"$error":"#VALUE!"}},{"$error":"#VALUE!"},0,{"$error":"#VALUE!"},0,0,{"$error":"#VALUE!"},{"$error":"#VALUE!"},{"$error":"#VALUE!"},{"$error":"#VALUE!"},{"$error":"#VALUE!"},{"$error":"#VALUE!"},{"$error":"#VALUE!"},{"$error":"#VALUE!"},{"$error":"#VALUE!"}]
[null,218,"Feb",null,null,null,null,6.1221775861188412,{"$f":"'Site&Soil'!$F$173*EXP('Site&Soil'!$F$174*H226)","v":0},0.69468750000000001,0.1053992245618643,7.6220582449262636E-4,0,0,5535.0839050176064,0.2263476886912649,4.2188731914598109E-4,5.9864327560833311E-5,5.2113071213336613E-4,6.1226987168309748,0.15470601484851754,6.8397988777058798E-4,-9.845864331380484E-4,null,null,5.6442669965946868,{"$f":"'Site&Soil'!$G$173*EXP('Site&Soil'!$G$174*Z226)","v":0},0.79087499999999999,0.23692775868212174,5.2997115362576766E-3,0,0,1.0075696915285598E-5,4.1202820912275812E-10,5.3398287177774975E-12,6.084208078922307E-13,7.5693797745840017E-5,5.644342690392433,0.50959452526411542,1.6833847558632284E-3,-1.2636698189886397E-3,null,null,5.4667451459935483,{"$f":"'Site&Soil'!$H$173*EXP('Site&Soil'!$H$174*AR226)","v":0},0.72675000000000001,0.47965226883004436,1.6223322460763325E-2,0,0,1.0333889048957525E-6,4.2258653013428356E-11,1.6765001431498878E-12,1.8317920207124286E-13,2.8919735107958382E-12,5.4667451459964402,0.55723203485291284,2.4757553420642672E-3,-1.0902932042669952E-3,null,null,null,null,null,null,null,null,null,null,null,null,null,null,null,null,null,null,null,null,null,null,{"$error":"#VALUE!"},{"$f":"'Site&Soil'!$F$173*EXP('Site&Soil'!$F$174*CD226)","v":{"$error":"#VALUE!"}},{"$error":"#VALUE!"},0,{"$error":"#VALUE!"},0,0,{"$error":"#VALUE!"},{"$error":"#VALUE!"},{"$error":"#VALUE!"},{"$error":"#VALUE!"},{"$error":"#VALUE!"},{"$error":"#VALUE!"},{"$error":"#VALUE!"},{"$error":"#VALUE!"},{"$error":"#VALUE!"},null,null,{"$error":"#VALUE!"},{"$f":"'Site&Soil'!$G$173*EXP('Site&Soil'!$G$174*CV226)","v":{"$error":"#VALUE!"}},{"$error":"#VALUE!"},0,{"$error":"#VALUE!"},0,0,{"$error":"#VALUE!"},{"$error":"#VALUE!"},{"$error":"#VALUE!"},{"$error":"#VALUE!"},{"$error":"#VALUE!"},{"$error":"#VALUE!"},{"$error":"#VALUE!"},{"$error":"#VALUE!"},{"$error":"#VALUE!"},null,null,{"$error":"#VALUE!"},{"$f":"'Site&Soil'!$H$173*EXP('Site&Soil'!$H$174*DN226)","v":{"$error":"#VALUE!"}},{"$error":"#VALUE!"},0,{"$error":"#VALUE!"},0,0,{"$error":"#VALUE!"},{"$error":"#VALUE!"},{"$error":"#VALUE!"},{"$error":"#VALUE!"},{"$error":"#VALUE!"},{"$error":"#VALUE!"},{"$error":"#VALUE!"},{"$error":"#VALUE!"},{"$error":"#VALUE!"}]
[null,219,"Mar",null,null,null,null,6.1217141303978364,{"$f":"'Site&Soil'!$F$173*EXP('Site&Soil'!$F$174*H227)","v":0},0.69468750000000001,0.20961138715109778,1.5175165289801099E-3,0,0,5524.7671144047317,0.22592580137211893,8.3839254148749274E-4,1.1892749023897041E-4,1.0356671902812737E-3,6.122749797588118,0.15474150001199546,1.3607284718843782E-3,-1.9587634323121952E-3,null,null,5.6430790205734445,{"$f":"'Site&Soil'!$G$173*EXP('Site&Soil'!$G$174*Z227)","v":0},0.79087499999999999,0.36787944117144206,8.2517592941962013E-3,0,0,9.9451172740168259E-6,4.0668838040498064E-10,8.2064713897739541E-12,9.347339603800034E-13,1.5037458196391065E-4,5.6432293951554087,0.50871404789353381,2.6026073017174551E-3,-1.5702593075177201E-3,null,null,5.4656548527921736,{"$f":"'Site&Soil'!$H$173*EXP('Site&Soil'!$H$174*AR227)","v":0},0.72675000000000001,0.60037304119840451,2.0357992687527294E-2,0,0,9.9239193685617221E-7,4.0582152870278466E-11,2.0203107793679001E-12,2.2069801373581624E-13,3.7624309955446674E-12,5.4656548527959359,0.55643966426944624,3.0866978213445798E-3,-6.6610322618111412E-4,null,null,null,null,null,null,null,null,null,null,null,null,null,null,null,null,null,null,null,null,null,null,{"$error":"#VALUE!"},{"$f":"'Site&Soil'!$F$173*EXP('Site&Soil'!$F$174*CD227)","v":{"$error":"#VALUE!"}},{"$error":"#VALUE!"},0,{"$error":"#VALUE!"},0,0,{"$error":"#VALUE!"},{"$error":"#VALUE!"},{"$error":"#VALUE!"},{"$error":"#VALUE!"},{"$error":"#VALUE!"},{"$error":"#VALUE!"},{"$error":"#VALUE!"},{"$error":"#VALUE!"},{"$error":"#VALUE!"},null,null,{"$error":"#VALUE!"},{"$f":"'Site&Soil'!$G$173*EXP('Site&Soil'!$G$174*CV227)","v":{"$error":"#VALUE!"}},{"$error":"#VALUE!"},0,{"$error":"#VALUE!"},0,0,{"$error":"#VALUE!"},{"$error":"#VALUE!"},{"$error":"#VALUE!"},{"$error":"#VALUE!"},{"$error":"#VALUE!"},{"$error":"#VALUE!"},{"$error":"#VALUE!"},{"$error":"#VALUE!"},{"$error":"#VALUE!"},null,null,{"$error":"#VALUE!"},{"$f":"'Site&Soil'!$H$173*EXP('Site&Soil'!$H$174*DN227)","v":{"$error":"#VALUE!"}},{"$error":"#VALUE!"},0,{"$error":"#VALUE!"},0,0,{"$error":"#VALUE!"},{"$error":"#VALUE!"},{"$error":"#VALUE!"},{"$error":"#VALUE!"},{"$error":"#VALUE!"},{"$error":"#VALUE!"},{"$error":"#VALUE!"},{"$error":"#VALUE!"},{"$error":"#VALUE!"}]
[null,220,"Apr",null,null,null,null,6.1207910341558058,{"$f":"'Site&Soil'!$F$173*EXP('Site&Soil'!$F$174*H228)","v":0},0.69468750000000001,0.36787944117144233,2.6692389192389944E-3,0,0,5504.2651464398459,0.22508740883063144,1.469219875068796E-3,2.0828092474465209E-4,1.8151167975876115E-3,6.1226061509533931,0.15464171049043504,2.3858235100020202E-3,-3.4343838200658859E-3,null,null,5.6416591358478909,{"$f":"'Site&Soil'!$G$173*EXP('Site&Soil'!$G$174*Z228)","v":0},0.79087499999999999,0.52729242404304844,1.1866767504278296E-2,0,0,9.7444370374782405E-6,3.9848190901520667E-10,1.1563496878383267E-11,1.3165813446403089E-12,2.6335506242018984E-4,5.6419224909103107,0.507680449998692,3.7116281698990716E-3,-1.6763770000278822E-3,null,null,5.4649887495697547,{"$f":"'Site&Soil'!$H$173*EXP('Site&Soil'!$H$174*AR228)","v":0},0.72675000000000001,0.72142229035475613,2.4500538993558238E-2,0,0,9.4298745765574299E-7,3.8561842090910565E-11,2.3103700976730881E-12,2.5235127199529814E-13,4.6434126870562069E-12,5.4649887495743981,0.55595557375319371,3.7001420329103914E-3,1.5804798058039449E-5,null,null,null,null,null,null,null,null,null,null,null,null,null,null,null,null,null,null,null,null,null,null,{"$error":"#VALUE!"},{"$f":"'Site&Soil'!$F$173*EXP('Site&Soil'!$F$174*CD228)","v":{"$error":"#VALUE!"}},{"$error":"#VALUE!"},0,{"$error":"#VALUE!"},0,0,{"$error":"#VALUE!"},{"$error":"#VALUE!"},{"$error":"#VALUE!"},{"$error":"#VALUE!"},{"$error":"#VALUE!"},{"$error":"#VALUE!"},{"$error":"#VALUE!"},{"$error":"#VALUE!"},{"$error":"#VALUE!"},null,null,{"$error":"#VALUE!"},{"$f":"'Site&Soil'!$G$173*EXP('Site&Soil'!$G$174*CV228)","v":{"$error":"#VALUE!"}},{"$error":"#VALUE!"},0,{"$error":"#VALUE!"},0,0,{"$error":"#VALUE!"},{"$error":"#VALUE!"},{"$error":"#VALUE!"},{"$error":"#VALUE!"},{"$error":"#VALUE!"},{"$error":"#VALUE!"},{"$error":"#VALUE!"},{"$error":"#VALUE!"},{"$error":"#VALUE!"},null,null,{"$error":"#VALUE!"},{"$f":"'Site&Soil'!$H$173*EXP('Site&Soil'!$H$174*DN228)","v":{"$error":"#VALUE!"}},{"$error":"#VALUE!"},0,{"$error":"#VALUE!"},0,0,{"$error":"#VALUE!"},{"$error":"#VALUE!"},{"$error":"#VALUE!"},{"$error":"#VALUE!"},{"$error":"#VALUE!"},{"$error":"#VALUE!"},{"$error":"#VALUE!"},{"$error":"#VALUE!"},{"$error":"#VALUE!"}]
[null,221,"May",null,null,null,null,6.1191717671333272,{"$f":"'Site&Soil'!$F$173*EXP('Site&Soil'!$F$174*H229)","v":0},0.69468750000000001,0.56978282473092301,4.1503143018906995E-3,0,0,5468.336989494901,0.22361818895556265,2.269531721505862E-3,3.213827448416488E-4,2.8043530028454711E-3,6.1219761201361731,0.1542040359570975,3.6794356731882708E-3,-5.2965335826371867E-3,null,null,5.6402461139102824,{"$f":"'Site&Soil'!$G$173*EXP('Site&Soil'!$G$174*Z229)","v":0},0.79087499999999999,0.69767632607103081,1.5753161767201613E-2,0,0,9.4616644329628826E-6,3.8691841213682341E-10,1.4905113039944222E-11,1.6963757689950455E-12,4.0636353159524083E-4,5.6406524774418774,0.50667602809684475,4.8869379114635314E-3,-1.5267927779677708E-3,null,null,5.4650045543724559,{"$f":"'Site&Soil'!$H$173*EXP('Site&Soil'!$H$174*AR229)","v":0},0.72675000000000001,0.83220750069030147,2.8261926037716319E-2,0,0,8.8648989668569465E-7,3.6251471993237476E-11,2.5053911893313883E-12,2.7365338457846935E-13,5.405041037148901E-12,5.4650045543778614,0.55596705989411066,4.2685978498442981E-3,8.5082911815511991E-4,null,null,null,null,null,null,null,null,null,null,null,null,null,null,null,null,null,null,null,null,null,null,{"$error":"#VALUE!"},{"$f":"'Site&Soil'!$F$173*EXP('Site&Soil'!$F$174*CD229)","v":{"$error":"#VALUE!"}},{"$error":"#VALUE!"},0,{"$error":"#VALUE!"},0,0,{"$error":"#VALUE!"},{"$error":"#VALUE!"},{"$error":"#VALUE!"},{"$error":"#VALUE!"},{"$error":"#VALUE!"},{"$error":"#VALUE!"},{"$error":"#VALUE!"},{"$error":"#VALUE!"},{"$error":"#VALUE!"},null,null,{"$error":"#VALUE!"},{"$f":"'Site&Soil'!$G$173*EXP('Site&Soil'!$G$174*CV229)","v":{"$error":"#VALUE!"}},{"$error":"#VALUE!"},0,{"$error":"#VALUE!"},0,0,{"$error":"#VALUE!"},{"$error":"#VALUE!"},{"$error":"#VALUE!"},{"$error":"#VALUE!"},{"$error":"#VALUE!"},{"$error":"#VALUE!"},{"$error":"#VALUE!"},{"$error":"#VALUE!"},{"$error":"#VALUE!"},null,null,{"$error":"#VALUE!"},{"$f":"'Site&Soil'!$H$173*EXP('Site&Soil'!$H$174*DN229)","v":{"$error":"#VALUE!"}},{"$error":"#VALUE!"},0,{"$error":"#VALUE!"},0,0,{"$error":"#VALUE!"},{"$error":"#VALUE!"},{"$error":"#VALUE!"},{"$error":"#VALUE!"},{"$error":"#VALUE!"},{"$error":"#VALUE!"},{"$error":"#VALUE!"},{"$error":"#VALUE!"},{"$error":"#VALUE!"}]
[null,222,"Jun",null,null,null,null,6.1166795865535359,{"$f":"'Site&Soil'!$F$173*EXP('Site&Soil'!$F$174*H230)","v":0},0.69468750000000001,0.77880078307140521,5.7068711223412947E-3,0,0,5412.8380861207715,0.22134865723405678,3.0890369363591754E-3,4.366954054933801E-4,3.8180354920245366E-3,6.1204976220455602,0.1531769418147749,4.9787164875978876E-3,-7.1668433469695191E-3,null,null,5.6391256846639095,{"$f":"'Site&Soil'!$G$173*EXP('Site&Soil'!$G$174*Z230)","v":0},0.79087499999999999,0.85214378896621112,1.9291354848416913E-2,0,0,9.0971762786243891E-6,3.720132990968792E-10,1.7549685570954396E-11,1.9967344453759782E-12,5.5216743612622888E-4,5.6396778521000357,0.50590522127961568,5.9464790975685775E-3,-1.2236606416572656E-3,null,null,5.4658553834960166,{"$f":"'Site&Soil'!$H$173*EXP('Site&Soil'!$H$174*AR230)","v":0},0.72675000000000001,0.92161044729772479,3.123624059643949E-2,0,0,8.2522330930403053E-7,3.3746080803906088E-11,2.57768738352107E-12,2.8159663070324135E-13,5.9068802176729368E-12,5.4658553835019239,0.5565853999600231,4.7417055610182203E-3,1.6577551242522976E-3,null,null,null,null,null,null,null,null,null,null,null,null,null,null,null,null,null,null,null,null,null,null,{"$error":"#VALUE!"},{"$f":"'Site&Soil'!$F$173*EXP('Site&Soil'!$F$174*CD230)","v":{"$error":"#VALUE!"}},{"$error":"#VALUE!"},0,{"$error":"#VALUE!"},0,0,{"$error":"#VALUE!"},{"$error":"#VALUE!"},{"$error":"#VALUE!"},{"$error":"#VALUE!"},{"$error":"#VALUE!"},{"$error":"#VALUE!"},{"$error":"#VALUE!"},{"$error":"#VALUE!"},{"$error":"#VALUE!"},null,null,{"$error":"#VALUE!"},{"$f":"'Site&Soil'!$G$173*EXP('Site&Soil'!$G$174*CV230)","v":{"$error":"#VALUE!"}},{"$error":"#VALUE!"},0,{"$error":"#VALUE!"},0,0,{"$error":"#VALUE!"},{"$error":"#VALUE!"},{"$error":"#VALUE!"},{"$error":"#VALUE!"},{"$error":"#VALUE!"},{"$error":"#VALUE!"},{"$error":"#VALUE!"},{"$error":"#VALUE!"},{"$error":"#VALUE!"},null,null,{"$error":"#VALUE!"},{"$f":"'Site&Soil'!$H$173*EXP('Site&Soil'!$H$174*DN230)","v":{"$error":"#VALUE!"}},{"$error":"#VALUE!"},0,{"$error":"#VALUE!"},0,0,{"$error":"#VALUE!"},{"$error":"#VALUE!"},{"$error":"#VALUE!"},{"$error":"#VALUE!"},{"$error":"#VALUE!"},{"$error":"#VALUE!"},{"$error":"#VALUE!"},{"$error":"#VALUE!"},{"$error":"#VALUE!"}]
[null,223,"Jul",null,null,null,null,6.1133307786985904,{"$f":"'Site&Soil'!$F$173*EXP('Site&Soil'!$F$174*H231)","v":0},0.69468750000000001,0.93941306281347592,6.9393856792667689E-3,0,0,5337.2990835919318,0.2182596202976976,3.7037576826641498E-3,5.2242118876778842E-4,4.5795217186092472E-3,6.1179103004171997,0.15137956182107321,5.8997572020736341E-3,-8.4926779337092355E-3,null,null,5.6384541914583783,{"$f":"'Site&Soil'!$G$173*EXP('Site&Soil'!$G$174*Z231)","v":0},0.79087499999999999,0.96078943915232284,2.1785068659789436E-2,0,0,8.6680180101942413E-6,3.5446361352592481E-10,1.8883336749637297E-11,2.1480701423546505E-12,6.605610311402624E-4,5.6391147524895189,0.50545987987514829,6.6900546124997826E-3,-9.9926968285272456E-4,null,null,5.4675131386261766,{"$f":"'Site&Soil'!$H$173*EXP('Site&Soil'!$H$174*AR231)","v":0},0.72675000000000001,0.97979867385370423,3.3080720909664817E-2,0,0,7.6218879796799751E-7,3.1168393420385017E-11,2.5213754906052228E-12,2.7553403675320191E-13,6.0459739885884718E-12,5.4675131386322224,0.55779017350096749,5.0713180110668835E-3,2.2273637446617116E-3,null,null,null,null,null,null,null,null,null,null,null,null,null,null,null,null,null,null,null,null,null,null,{"$error":"#VALUE!"},{"$f":"'Site&Soil'!$F$173*EXP('Site&Soil'!$F$174*CD231)","v":{"$error":"#VALUE!"}},{"$error":"#VALUE!"},0,{"$error":"#VALUE!"},0,0,{"$error":"#VALUE!"},{"$error":"#VALUE!"},{"$error":"#VALUE!"},{"$error":"#VALUE!"},{"$error":"#VALUE!"},{"$error":"#VALUE!"},{"$error":"#VALUE!"},{"$error":"#VALUE!"},{"$error":"#VALUE!"},null,null,{"$error":"#VALUE!"},{"$f":"'Site&Soil'!$G$173*EXP('Site&Soil'!$G$174*CV231)","v":{"$error":"#VALUE!"}},{"$error":"#VALUE!"},0,{"$error":"#VALUE!"},0,0,{"$error":"#VALUE!"},{"$error":"#VALUE!"},{"$error":"#VALUE!"},{"$error":"#VALUE!"},{"$error":"#VALUE!"},{"$error":"#VALUE!"},{"$error":"#VALUE!"},{"$error":"#VALUE!"},{"$error":"#VALUE!"},null,null,{"$error":"#VALUE!"},{"$f":"'Site&Soil'!$H$173*EXP('Site&Soil'!$H$174*DN231)","v":{"$error":"#VALUE!"}},{"$error":"#VALUE!"},0,{"$error":"#VALUE!"},0,0,{"$error":"#VALUE!"},{"$error":"#VALUE!"},{"$error":"#VALUE!"},{"$error":"#VALUE!"},{"$error":"#VALUE!"},{"$error":"#VALUE!"},{"$error":"#VALUE!"},{"$error":"#VALUE!"},{"$error":"#VALUE!"}]
[null,224,"Aug",null,null,null,null,6.1094176224834902,{"$f":"'Site&Soil'!$F$173*EXP('Site&Soil'!$F$174*H232)","v":0},0.69468750000000001,1,7.4566596530343254E-3,0,0,5246.7277609690518,0.21455586261503345,3.9123063205673062E-3,5.5039669494016475E-4,4.8394560512851339E-3,6.1142570785347754,0.14884171424462656,6.1232464838374386E-3,-8.8143899002608196E-3,null,null,5.6381154828066657,{"$f":"'Site&Soil'!$G$173*EXP('Site&Soil'!$G$174*Z232)","v":0},0.79087499999999999,1,2.2692071480971163E-2,0,0,8.2062467682598491E-6,3.3558027677628752E-10,1.8621673825584111E-11,2.1181050444492426E-12,6.9593388518253017E-4,5.6388114166918486,0.50521997917616579,6.9549167088499824E-3,-1.0515823929350956E-3,null,null,5.4697405023768839,{"$f":"'Site&Soil'!$H$173*EXP('Site&Soil'!$H$174*AR232)","v":0},0.72675000000000001,1,3.3588440356641686E-2,0,0,7.0053133207007678E-7,2.8647017929779795E-11,2.3529754865194527E-12,2.5724367650969476E-13,5.7981931261905756E-12,5.4697405023826819,0.55940891010661398,5.2175891914148275E-3,2.3905435396424559E-3,null,null,null,null,null,null,null,null,null,null,null,null,null,null,null,null,null,null,null,null,null,null,{"$error":"#VALUE!"},{"$f":"'Site&Soil'!$F$173*EXP('Site&Soil'!$F$174*CD232)","v":{"$error":"#VALUE!"}},{"$error":"#VALUE!"},0,{"$error":"#VALUE!"},0,0,{"$error":"#VALUE!"},{"$error":"#VALUE!"},{"$error":"#VALUE!"},{"$error":"#VALUE!"},{"$error":"#VALUE!"},{"$error":"#VALUE!"},{"$error":"#VALUE!"},{"$error":"#VALUE!"},{"$error":"#VALUE!"},null,null,{"$error":"#VALUE!"},{"$f":"'Site&Soil'!$G$173*EXP('Site&Soil'!$G$174*CV232)","v":{"$error":"#VALUE!"}},{"$error":"#VALUE!"},0,{"$error":"#VALUE!"},0,0,{"$error":"#VALUE!"},{"$error":"#VALUE!"},{"$error":"#VALUE!"},{"$error":"#VALUE!"},{"$error":"#VALUE!"},{"$error":"#VALUE!"},{"$error":"#VALUE!"},{"$error":"#VALUE!"},{"$error":"#VALUE!"},null,null,{"$error":"#VALUE!"},{"$f":"'Site&Soil'!$H$173*EXP('Site&Soil'!$H$174*DN232)","v":{"$error":"#VALUE!"}},{"$error":"#VALUE!"},0,{"$error":"#VALUE!"},0,0,{"$error":"#VALUE!"},{"$error":"#VALUE!"},{"$error":"#VALUE!"},{"$error":"#VALUE!"},{"$error":"#VALUE!"},{"$error":"#VALUE!"},{"$error":"#VALUE!"},{"$error":"#VALUE!"},{"$error":"#VALUE!"}]
[null,225,"Sep",null,null,null,null,6.1054426886345148,{"$f":"'Site&Soil'!$F$173*EXP('Site&Soil'!$F$174*H233)","v":0},0.69468750000000001,0.93941306281347592,7.0720222791111299E-3,0,0,5151.0566106618453,0.21064355629446616,3.6428387111563233E-3,5.1113680642317751E-4,4.508072917294677E-3,6.1099507615518096,0.1458501696655225,5.5810292044225426E-3,-8.0338701997985321E-3,null,null,5.6377598342989135,{"$f":"'Site&Soil'!$G$173*EXP('Site&Soil'!$G$174*Z233)","v":0},0.79087499999999999,0.96078943915232284,2.1820412998514532E-2,0,0,7.7508742054895369E-6,3.1695860295070341E-10,1.6912727626331489E-11,1.9235322638580166E-12,6.462928040617959E-4,5.6384061271029751,0.5048994457725654,6.6717419731866711E-3,-1.3791215663210097E-3,null,null,5.4721310459223247,{"$f":"'Site&Soil'!$H$173*EXP('Site&Soil'!$H$174*AR233)","v":0},0.72675000000000001,0.97979867385370423,3.2727555874574842E-2,0,0,6.4299190315150178E-7,2.6294042443260342E-11,2.1043553437289991E-12,2.3017112477168009E-13,5.2256160754252971E-12,5.4721310459275507,0.56114623762784732,5.1563685235845149E-3,2.0851371855550825E-3,null,null,null,null,null,null,null,null,null,null,null,null,null,null,null,null,null,null,null,null,null,null,{"$error":"#VALUE!"},{"$f":"'Site&Soil'!$F$173*EXP('Site&Soil'!$F$174*CD233)","v":{"$error":"#VALUE!"}},{"$error":"#VALUE!"},0,{"$error":"#VALUE!"},0,0,{"$error":"#VALUE!"},{"$error":"#VALUE!"},{"$error":"#VALUE!"},{"$error":"#VALUE!"},{"$error":"#VALUE!"},{"$error":"#VALUE!"},{"$error":"#VALUE!"},{"$error":"#VALUE!"},{"$error":"#VALUE!"},null,null,{"$error":"#VALUE!"},{"$f":"'Site&Soil'!$G$173*EXP('Site&Soil'!$G$174*CV233)","v":{"$error":"#VALUE!"}},{"$error":"#VALUE!"},0,{"$error":"#VALUE!"},0,0,{"$error":"#VALUE!"},{"$error":"#VALUE!"},{"$error":"#VALUE!"},{"$error":"#VALUE!"},{"$error":"#VALUE!"},{"$error":"#VALUE!"},{"$error":"#VALUE!"},{"$error":"#VALUE!"},{"$error":"#VALUE!"},null,null,{"$error":"#VALUE!"},{"$f":"'Site&Soil'!$H$173*EXP('Site&Soil'!$H$174*DN233)","v":{"$error":"#VALUE!"}},{"$error":"#VALUE!"},0,{"$error":"#VALUE!"},0,0,{"$error":"#VALUE!"},{"$error":"#VALUE!"},{"$error":"#VALUE!"},{"$error":"#VALUE!"},{"$error":"#VALUE!"},{"$error":"#VALUE!"},{"$error":"#VALUE!"},{"$error":"#VALUE!"},{"$error":"#VALUE!"}]
[null,226,"Oct",null,null,null,null,6.101916891352011,{"$f":"'Site&Soil'!$F$173*EXP('Site&Soil'!$F$174*H234)","v":0},0.69468750000000001,0.77880078307140521,5.9127114153262605E-3,0,0,5061.9749945195254,0.20700071758330985,2.9929997334191684E-3,4.1898052145588482E-4,3.7052908134424236E-3,6.1056221821654537,0.14284315967306338,4.4865034893503278E-3,-6.458304618048155E-3,0.02,null,5.6370270055366545,{"$f":"'Site&Soil'!$G$173*EXP('Site&Soil'!$G$174*Z234)","v":0},0.79087499999999999,0.85214378896621112,1.9386109097070395E-2,0,0,7.3372920433931479E-6,3.0004587532437194E-10,1.4224154403028615E-11,1.617423905150968E-12,5.2976833767993091E-4,5.6375567738743344,0.50422771353786422,5.897885929018392E-3,-1.7845834546142744E-3,0.02,null,5.4742161831131062,{"$f":"'Site&Soil'!$H$173*EXP('Site&Soil'!$H$174*AR234)","v":0},0.72675000000000001,0.92161044729772479,3.0635092029681843E-2,0,0,5.915322065190366E-7,2.4189687099531344E-11,1.8121643585231454E-12,1.982935219339094E-13,4.4462259948265619E-12,5.4742161831175524,0.56266161108068113,4.8866457623699833E-3,1.391455337665509E-3,0.02,null,{"$f":"BJ222+1","v":19},{"$f":"AVERAGE(H229:H234)","v":6.110993222475912},{"$f":"AVERAGE(Z229:Z234)","v":5.6384547187791334},{"$f":"AVERAGE(AR229:AR234)","v":5.4690768013178266},null,null,null,null,null,null,null,null,null,null,null,null,null,null,null,null,{"$error":"#VALUE!"},{"$f":"'Site&Soil'!$F$173*EXP('Site&Soil'!$F$174*CD234)","v":{"$error":"#VALUE!"}},{"$error":"#VALUE!"},0,{"$error":"#VALUE!"},0,0,{"$error":"#VALUE!"},{"$error":"#VALUE!"},{"$error":"#VALUE!"},{"$error":"#VALUE!"},{"$error":"#VALUE!"},{"$error":"#VALUE!"},{"$error":"#VALUE!"},{"$error":"#VALUE!"},{"$error":"#VALUE!"},{"$error":"#VALUE!"},null,{"$error":"#VALUE!"},{"$f":"'Site&Soil'!$G$173*EXP('Site&Soil'!$G$174*CV234)","v":{"$error":"#VALUE!"}},{"$error":"#VALUE!"},0,{"$error":"#VALUE!"},0,0,{"$error":"#VALUE!"},{"$error":"#VALUE!"},{"$error":"#VALUE!"},{"$error":"#VALUE!"},{"$error":"#VALUE!"},{"$error":"#VALUE!"},{"$error":"#VALUE!"},{"$error":"#VALUE!"},{"$error":"#VALUE!"},{"$error":"#VALUE!"},null,{"$error":"#VALUE!"},{"$f":"'Site&Soil'!$H$173*EXP('Site&Soil'!$H$174*DN234)","v":{"$error":"#VALUE!"}},{"$error":"#VALUE!"},0,{"$error":"#VALUE!"},0,0,{"$error":"#VALUE!"},{"$error":"#VALUE!"},{"$error":"#VALUE!"},{"$error":"#VALUE!"},{"$error":"#VALUE!"},{"$error":"#VALUE!"},{"$error":"#VALUE!"},{"$error":"#VALUE!"},{"$error":"#VALUE!"},{"$error":"#VALUE!"},null,{"$f":"EF222+1","v":19},{"$f":"AVERAGE(CD229:CD234)","v":{"$error":"#VALUE!"}},{"$f":"AVERAGE(CV229:CV234)","v":{"$error":"#VALUE!"}},{"$f":"AVERAGE(DN229:DN234)","v":{"$error":"#VALUE!"}}]
[null,227,"Nov",null,null,null,null,6.1191638775474049,{"$f":"'Site&Soil'!$F$173*EXP('Site&Soil'!$F$174*H235)","v":0},0.69468750000000001,0.56978282473092301,4.1503929723037724E-3,0,0,4988.7844762157711,0.20400771784989069,2.0705416030424094E-3,2.9320268384523652E-4,2.5584725782415445E-3,6.1217223501256468,0.15402774510291001,3.6730823192693694E-3,-5.2873879539640043E-3,null,null,5.6557721904197198,{"$f":"'Site&Soil'!$G$173*EXP('Site&Soil'!$G$174*Z235)","v":0},0.79087499999999999,0.69767632607103081,1.5192184358225617E-2,0,0,6.9894559839488741E-6,2.8582172092134335E-10,1.0618510387185453E-11,1.2138483083407535E-12,3.7073202876547956E-4,5.6561429224484856,0.518927033791446,5.18684422393818E-3,-1.9140343349692563E-3,null,null,5.4956076384552173,{"$f":"'Site&Soil'!$H$173*EXP('Site&Soil'!$H$174*AR235)","v":0},0.72675000000000001,0.83220750069030147,2.6321056859437739E-2,0,0,5.472177192269245E-7,2.2377522741008199E-11,1.4403348702263716E-12,1.5829189750786103E-13,3.4343189281861212E-12,5.4956076384586519,0.5782078512498251,4.7634679632838862E-3,5.8256107417171488E-4,null,null,null,null,null,null,null,null,null,null,null,null,null,null,null,null,null,null,null,null,null,null,{"$error":"#VALUE!"},{"$f":"'Site&Soil'!$F$173*EXP('Site&Soil'!$F$174*CD235)","v":{"$error":"#VALUE!"}},{"$error":"#VALUE!"},0,{"$error":"#VALUE!"},0,0,{"$error":"#VALUE!"},{"$error":"#VALUE!"},{"$error":"#VALUE!"},{"$error":"#VALUE!"},{"$error":"#VALUE!"},{"$error":"#VALUE!"},{"$error":"#VALUE!"},{"$error":"#VALUE!"},{"$error":"#VALUE!"},null,null,{"$error":"#VALUE!"},{"$f":"'Site&Soil'!$G$173*EXP('Site&Soil'!$G$174*CV235)","v":{"$error":"#VALUE!"}},{"$error":"#VALUE!"},0,{"$error":"#VALUE!"},0,0,{"$error":"#VALUE!"},{"$error":"#VALUE!"},{"$error":"#VALUE!"},{"$error":"#VALUE!"},{"$error":"#VALUE!"},{"$error":"#VALUE!"},{"$error":"#VALUE!"},{"$error":"#VALUE!"},{"$error":"#VALUE!"},null,null,{"$error":"#VALUE!"},{"$f":"'Site&Soil'!$H$173*EXP('Site&Soil'!$H$174*DN235)","v":{"$error":"#VALUE!"}},{"$error":"#VALUE!"},0,{"$error":"#VALUE!"},0,0,{"$error":"#VALUE!"},{"$error":"#VALUE!"},{"$error":"#VALUE!"},{"$error":"#VALUE!"},{"$error":"#VALUE!"},{"$error":"#VALUE!"},{"$error":"#VALUE!"},{"$error":"#VALUE!"},{"$error":"#VALUE!"}]
[null,228,"Dec",null,null,null,null,6.1164349621716827,{"$f":"'Site&Soil'!$F$173*EXP('Site&Soil'!$F$174*H236)","v":0},0.69468750000000001,0.36787944117144233,2.6973194347864075E-3,0,0,4938.1516574406633,0.20193717624684829,1.3319772437537412E-3,1.882698408728829E-4,1.6463624332967821E-3,6.1180813246049794,0.1514983701865214,2.3131021029374173E-3,-3.3297016326584504E-3,null,null,5.6542288881135168,{"$f":"'Site&Soil'!$G$173*EXP('Site&Soil'!$G$174*Z236)","v":0},0.79087499999999999,0.52729242404304844,1.1523474395839435E-2,0,0,6.7297919852608213E-6,2.752032105341579E-10,7.7550585631478515E-12,8.8612084261782607E-13,2.3805259711309702E-4,5.6544669407106296,0.51760154173451922,3.8950589377696734E-3,-2.0002615265778487E-3,null,null,5.4961901995328235,{"$f":"'Site&Soil'!$H$173*EXP('Site&Soil'!$H$174*AR236)","v":0},0.72675000000000001,0.72142229035475613,2.2786250361622302E-2,0,0,5.1199591332238172E-7,2.0937187870781828E-11,1.1666467065091262E-12,1.2822924250544577E-13,2.6481435247629947E-12,5.4961901995354721,0.57863122751240414,4.1379155632559599E-3,-3.3416804332478368E-4,null,null,null,null,null,null,null,null,null,null,null,null,null,null,null,null,null,null,null,null,null,null,{"$error":"#VALUE!"},{"$f":"'Site&Soil'!$F$173*EXP('Site&Soil'!$F$174*CD236)","v":{"$error":"#VALUE!"}},{"$error":"#VALUE!"},0,{"$error":"#VALUE!"},0,0,{"$error":"#VALUE!"},{"$error":"#VALUE!"},{"$error":"#VALUE!"},{"$error":"#VALUE!"},{"$error":"#VALUE!"},{"$error":"#VALUE!"},{"$error":"#VALUE!"},{"$error":"#VALUE!"},{"$error":"#VALUE!"},null,null,{"$error":"#VALUE!"},{"$f":"'Site&Soil'!$G$173*EXP('Site&Soil'!$G$174*CV236)","v":{"$error":"#VALUE!"}},{"$error":"#VALUE!"},0,{"$error":"#VALUE!"},0,0,{"$error":"#VALUE!"},{"$error":"#VALUE!"},{"$error":"#VALUE!"},{"$error":"#VALUE!"},{"$error":"#VALUE!"},{"$error":"#VALUE!"},{"$error":"#VALUE!"},{"$error":"#VALUE!"},{"$error":"#VALUE!"},null,null,{"$error":"#VALUE!"},{"$f":"'Site&Soil'!$H$173*EXP('Site&Soil'!$H$174*DN236)","v":{"$error":"#VALUE!"}},{"$error":"#VALUE!"},0,{"$error":"#VALUE!"},0,0,{"$error":"#VALUE!"},{"$error":"#VALUE!"},{"$error":"#VALUE!"},{"$error":"#VALUE!"},{"$error":"#VALUE!"},{"$error":"#VALUE!"},{"$error":"#VALUE!"},{"$error":"#VALUE!"},{"$error":"#VALUE!"}]
[{"$f":"A225+1","v":20},229,"Jan",{"$f":"OFFSET(Apply_Lime!$H$16,$A237,0)","v":0},{"$f":"OFFSET(Apply_Lime!$I$16,$A237,0)*E$7","v":0},{"$f":"OFFSET(Apply_Lime!$I$16,$A237,0)*F$7","v":0},null,6.1147516229723209,{"$f":"'Site&Soil'!$F$173*EXP('Site&Soil'!$F$174*H237)","v":0},0.69468750000000001,4.6770622383959001E-2,3.4431489186394286E-4,0,0,4905.5796181749683,0.20060519900309454,1.6890641157618763E-4,2.3847252786255819E-5,2.0881210442095447E-4,6.1149604350767417,0.14933032724237374,2.8779391096483498E-4,-4.142782344073198E-4,null,null,5.6524666791840517,{"$f":"'Site&Soil'!$G$173*EXP('Site&Soil'!$G$174*Z237)","v":0},0.79087499999999999,0.14085842092104497,3.0910240257480659E-3,0,0,6.5401505531634182E-6,2.6744815197101007E-10,2.0215762491837632E-12,2.308757978095315E-13,3.0153000887569173E-5,5.6524968321849389,0.51604343215426351,1.032680324789992E-3,-9.4185100531077228E-4,null,null,5.4958560314921474,{"$f":"'Site&Soil'!$H$173*EXP('Site&Soil'!$H$174*AR237)","v":0},0.72675000000000001,0.36787944117144233,1.1628570719769799E-2,0,0,4.8346685059866916E-7,1.9770541164272702E-11,5.6220284628510046E-13,6.178892371618077E-14,1.0062466052679065E-12,5.4958560314931537,0.57838837088764938,2.107565603266658E-3,-1.4790303109414049E-3,null,null,null,null,null,null,null,null,null,null,null,null,null,null,null,null,null,null,{"$f":"OFFSET(Apply_Lime!$O$16,$A237,0)","v":0},{"$f":"OFFSET(Apply_Lime!$P$16,$A237,0)*CA$7","v":0},{"$f":"OFFSET(Apply_Lime!$P$16,$A237,0)*CB$7","v":0},null,{"$error":"#VALUE!"},{"$f":"'Site&Soil'!$F$173*EXP('Site&Soil'!$F$174*CD237)","v":{"$error":"#VALUE!"}},{"$error":"#VALUE!"},0,{"$error":"#VALUE!"},0,0,{"$error":"#VALUE!"},{"$error":"#VALUE!"},{"$error":"#VALUE!"},{"$error":"#VALUE!"},{"$error":"#VALUE!"},{"$error":"#VALUE!"},{"$error":"#VALUE!"},{"$error":"#VALUE!"},{"$error":"#VALUE!"},null,null,{"$error":"#VALUE!"},{"$f":"'Site&Soil'!$G$173*EXP('Site&Soil'!$G$174*CV237)","v":{"$error":"#VALUE!"}},{"$error":"#VALUE!"},0,{"$error":"#VALUE!"},0,0,{"$error":"#VALUE!"},{"$error":"#VALUE!"},{"$error":"#VALUE!"},{"$error":"#VALUE!"},{"$error":"#VALUE!"},{"$error":"#VALUE!"},{"$error":"#VALUE!"},{"$error":"#VALUE!"},{"$error":"#VALUE!"},null,null,{"$error":"#VALUE!"},{"$f":"'Site&Soil'!$H$173*EXP('Site&Soil'!$H$174*DN237)","v":{"$error":"#VALUE!"}},{"$error":"#VALUE!"},0,{"$error":"#VALUE!"},0,0,{"$error":"#VALUE!"},{"$error":"#VALUE!"},{"$error":"#VALUE!"},{"$error":"#VALUE!"},{"$error":"#VALUE!"},{"$error":"#VALUE!"},{"$error":"#VALUE!"},{"$error":"#VALUE!"},{"$error":"#VALUE!"}]
[null,230,"Feb",null,null,null,null,6.1145461568423345,{"$f":"'Site&Soil'!$F$173*EXP('Site&Soil'!$F$174*H238)","v":0},0.69468750000000001,0.1053992245618643,7.7630853867455794E-4,0,0,4901.4491975571336,0.20043629259151835,3.805036863943163E-4,5.3714453436261928E-5,4.7041185131163924E-4,6.1150165686936457,0.14936932256436677,6.4880680415526466E-4,-9.3395491376376373E-4,null,null,5.6515549811796282,{"$f":"'Site&Soil'!$G$173*EXP('Site&Soil'!$G$174*Z238)","v":0},0.79087499999999999,0.23692775868212174,5.2102712486422308E-3,0,0,6.4907151282897617E-6,2.6542657572182632E-10,3.3818386416055317E-12,3.8612494966966035E-13,6.7917757461009152E-5,5.6516228989370889,0.51535226019687019,1.7311832046980893E-3,-1.368580876298814E-3,null,null,5.4943770011822126,{"$f":"'Site&Soil'!$H$173*EXP('Site&Soil'!$H$174*AR238)","v":0},0.72675000000000001,0.47965226883004436,1.521391987530725E-2,0,0,4.6971879801717246E-7,1.9208338317987603E-11,7.1462641569588914E-13,7.8516976357253399E-14,1.4065832666092825E-12,5.4943770011836195,0.57731348561019535,2.7334756321737231E-3,-1.3791433470596956E-3,null,null,null,null,null,null,null,null,null,null,null,null,null,null,null,null,null,null,null,null,null,null,{"$error":"#VALUE!"},{"$f":"'Site&Soil'!$F$173*EXP('Site&Soil'!$F$174*CD238)","v":{"$error":"#VALUE!"}},{"$error":"#VALUE!"},0,{"$error":"#VALUE!"},0,0,{"$error":"#VALUE!"},{"$error":"#VALUE!"},{"$error":"#VALUE!"},{"$error":"#VALUE!"},{"$error":"#VALUE!"},{"$error":"#VALUE!"},{"$error":"#VALUE!"},{"$error":"#VALUE!"},{"$error":"#VALUE!"},null,null,{"$error":"#VALUE!"},{"$f":"'Site&Soil'!$G$173*EXP('Site&Soil'!$G$174*CV238)","v":{"$error":"#VALUE!"}},{"$error":"#VALUE!"},0,{"$error":"#VALUE!"},0,0,{"$error":"#VALUE!"},{"$error":"#VALUE!"},{"$error":"#VALUE!"},{"$error":"#VALUE!"},{"$error":"#VALUE!"},{"$error":"#VALUE!"},{"$error":"#VALUE!"},{"$error":"#VALUE!"},{"$error":"#VALUE!"},null,null,{"$error":"#VALUE!"},{"$f":"'Site&Soil'!$H$173*EXP('Site&Soil'!$H$174*DN238)","v":{"$error":"#VALUE!"}},{"$error":"#VALUE!"},0,{"$error":"#VALUE!"},0,0,{"$error":"#VALUE!"},{"$error":"#VALUE!"},{"$error":"#VALUE!"},{"$error":"#VALUE!"},{"$error":"#VALUE!"},{"$error":"#VALUE!"},{"$error":"#VALUE!"},{"$error":"#VALUE!"},{"$error":"#VALUE!"}]
[null,231,"Mar",null,null,null,null,6.1140826137798818,{"$f":"'Site&Soil'!$F$173*EXP('Site&Soil'!$F$174*H239)","v":0},0.69468750000000001,0.20961138715109778,1.5455933950580085E-3,0,0,4892.144398190555,0.20005578890512404,7.5612660695133574E-4,1.0670669936089372E-4,9.3483747381440155E-4,6.1150174512536966,0.14936993566780207,1.2903143202883261E-3,-1.8574025303295743E-3,null,null,5.6502543180607905,{"$f":"'Site&Soil'!$G$173*EXP('Site&Soil'!$G$174*Z239)","v":0},0.79087499999999999,0.36787944117144206,8.1146397412690929E-3,0,0,6.4080159819333369E-6,2.620447370802208E-10,5.1998741149683749E-12,5.9348060985214797E-13,1.3492233787550147E-4,5.650389240398666,0.51437659050029494,2.6753213410532065E-3,-1.7512337863314436E-3,null,null,5.4929978578365599,{"$f":"'Site&Soil'!$H$173*EXP('Site&Soil'!$H$174*AR239)","v":0},0.72675000000000001,0.60037304119840451,1.9104192051945988E-2,0,0,4.5224339460355953E-7,1.8493711902291713E-11,8.6397446647303951E-13,9.4899009414161719E-14,1.8748621491723779E-12,5.4929978578384349,0.57631119318408242,3.4046783971630103E-3,-1.003587280508846E-3,null,null,null,null,null,null,null,null,null,null,null,null,null,null,null,null,null,null,null,null,null,null,{"$error":"#VALUE!"},{"$f":"'Site&Soil'!$F$173*EXP('Site&Soil'!$F$174*CD239)","v":{"$error":"#VALUE!"}},{"$error":"#VALUE!"},0,{"$error":"#VALUE!"},0,0,{"$error":"#VALUE!"},{"$error":"#VALUE!"},{"$error":"#VALUE!"},{"$error":"#VALUE!"},{"$error":"#VALUE!"},{"$error":"#VALUE!"},{"$error":"#VALUE!"},{"$error":"#VALUE!"},{"$error":"#VALUE!"},null,null,{"$error":"#VALUE!"},{"$f":"'Site&Soil'!$G$173*EXP('Site&Soil'!$G$174*CV239)","v":{"$error":"#VALUE!"}},{"$error":"#VALUE!"},0,{"$error":"#VALUE!"},0,0,{"$error":"#VALUE!"},{"$error":"#VALUE!"},{"$error":"#VALUE!"},{"$error":"#VALUE!"},{"$error":"#VALUE!"},{"$error":"#VALUE!"},{"$error":"#VALUE!"},{"$error":"#VALUE!"},{"$error":"#VALUE!"},null,null,{"$error":"#VALUE!"},{"$f":"'Site&Soil'!$H$173*EXP('Site&Soil'!$H$174*DN239)","v":{"$error":"#VALUE!"}},{"$error":"#VALUE!"},0,{"$error":"#VALUE!"},0,0,{"$error":"#VALUE!"},{"$error":"#VALUE!"},{"$error":"#VALUE!"},{"$error":"#VALUE!"},{"$error":"#VALUE!"},{"$error":"#VALUE!"},{"$error":"#VALUE!"},{"$error":"#VALUE!"},{"$error":"#VALUE!"}]
[null,232,"Apr",null,null,null,null,6.1131600487233673,{"$f":"'Site&Soil'!$F$173*EXP('Site&Soil'!$F$174*H240)","v":0},0.69468750000000001,0.36787944117144233,2.7186167351997579E-3,0,0,4873.6541532205674,0.1992996622981727,1.3249597742521241E-3,1.8686640420792586E-4,1.6382810544945722E-3,6.1147983297778614,0.14921771471755785,2.2611232326804329E-3,-3.2548782476731378E-3,null,null,5.6486380066123347,{"$f":"'Site&Soil'!$G$173*EXP('Site&Soil'!$G$174*Z240)","v":0},0.79087499999999999,0.52729242404304844,1.1674941059482342E-2,0,0,6.2808587766254574E-6,2.568448629652524E-10,7.3328656020034592E-12,8.365417125598498E-13,2.362780600022124E-4,5.6488742846723365,0.5131784498902342,3.812362832204627E-3,-1.9614219687361391E-3,null,null,5.4919942705579263,{"$f":"'Site&Soil'!$H$173*EXP('Site&Soil'!$H$174*AR240)","v":0},0.72675000000000001,0.72142229035475613,2.3009681052243838E-2,0,0,4.3111584878512663E-7,1.7629737435818674E-11,9.9198381771131496E-13,1.0893703401831439E-13,2.3661348417651877E-12,5.4919942705602924,0.57558183612969238,4.0765324877302823E-3,-3.6349453804699732E-4,null,null,null,null,null,null,null,null,null,null,null,null,null,null,null,null,null,null,null,null,null,null,{"$error":"#VALUE!"},{"$f":"'Site&Soil'!$F$173*EXP('Site&Soil'!$F$174*CD240)","v":{"$error":"#VALUE!"}},{"$error":"#VALUE!"},0,{"$error":"#VALUE!"},0,0,{"$error":"#VALUE!"},{"$error":"#VALUE!"},{"$error":"#VALUE!"},{"$error":"#VALUE!"},{"$error":"#VALUE!"},{"$error":"#VALUE!"},{"$error":"#VALUE!"},{"$error":"#VALUE!"},{"$error":"#VALUE!"},null,null,{"$error":"#VALUE!"},{"$f":"'Site&Soil'!$G$173*EXP('Site&Soil'!$G$174*CV240)","v":{"$error":"#VALUE!"}},{"$error":"#VALUE!"},0,{"$error":"#VALUE!"},0,0,{"$error":"#VALUE!"},{"$error":"#VALUE!"},{"$error":"#VALUE!"},{"$error":"#VALUE!"},{"$error":"#VALUE!"},{"$error":"#VALUE!"},{"$error":"#VALUE!"},{"$error":"#VALUE!"},{"$error":"#VALUE!"},null,null,{"$error":"#VALUE!"},{"$f":"'Site&Soil'!$H$173*EXP('Site&Soil'!$H$174*DN240)","v":{"$error":"#VALUE!"}},{"$error":"#VALUE!"},0,{"$error":"#VALUE!"},0,0,{"$error":"#VALUE!"},{"$error":"#VALUE!"},{"$error":"#VALUE!"},{"$error":"#VALUE!"},{"$error":"#VALUE!"},{"$error":"#VALUE!"},{"$error":"#VALUE!"},{"$error":"#VALUE!"},{"$error":"#VALUE!"}]
[null,233,"May",null,null,null,null,6.1115434515301885,{"$f":"'Site&Soil'!$F$173*EXP('Site&Soil'!$F$174*H241)","v":0},0.69468750000000001,0.56978282473092301,4.2270507456970358E-3,0,0,4841.2537184572957,0.19797470252392058,2.0464225140713463E-3,2.8830627686908739E-4,2.5308016010108987E-3,6.1140742531311991,0.14871470772207965,3.4844764122134203E-3,-5.0158904719221527E-3,null,null,5.6469128627036005,{"$f":"'Site&Soil'!$G$173*EXP('Site&Soil'!$G$174*Z241)","v":0},0.79087499999999999,0.69767632607103081,1.5509824547271111E-2,0,0,6.1015416092800117E-6,2.4951199736324896E-10,9.4633839827807208E-12,1.0790654125459349E-12,3.6454090122131302E-4,5.6472774036048214,0.51191551657596313,5.0133691435532719E-3,-1.9331660898875948E-3,null,null,5.4916307760222454,{"$f":"'Site&Soil'!$H$173*EXP('Site&Soil'!$H$174*AR241)","v":0},0.72675000000000001,0.83220750069030147,2.6565608281611898E-2,0,0,4.0685797500166129E-7,1.6637753618107358E-11,1.0808429590143982E-12,1.1868643197213323E-13,2.8086989192820091E-12,5.4916307760250538,0.57531766647620775,4.6964544229879234E-3,4.3607116692858403E-4,null,null,null,null,null,null,null,null,null,null,null,null,null,null,null,null,null,null,null,null,null,null,{"$error":"#VALUE!"},{"$f":"'Site&Soil'!$F$173*EXP('Site&Soil'!$F$174*CD241)","v":{"$error":"#VALUE!"}},{"$error":"#VALUE!"},0,{"$error":"#VALUE!"},0,0,{"$error":"#VALUE!"},{"$error":"#VALUE!"},{"$error":"#VALUE!"},{"$error":"#VALUE!"},{"$error":"#VALUE!"},{"$error":"#VALUE!"},{"$error":"#VALUE!"},{"$error":"#VALUE!"},{"$error":"#VALUE!"},null,null,{"$error":"#VALUE!"},{"$f":"'Site&Soil'!$G$173*EXP('Site&Soil'!$G$174*CV241)","v":{"$error":"#VALUE!"}},{"$error":"#VALUE!"},0,{"$error":"#VALUE!"},0,0,{"$error":"#VALUE!"},{"$error":"#VALUE!"},{"$error":"#VALUE!"},{"$error":"#VALUE!"},{"$error":"#VALUE!"},{"$error":"#VALUE!"},{"$error":"#VALUE!"},{"$error":"#VALUE!"},{"$error":"#VALUE!"},null,null,{"$error":"#VALUE!"},{"$f":"'Site&Soil'!$H$173*EXP('Site&Soil'!$H$174*DN241)","v":{"$error":"#VALUE!"}},{"$error":"#VALUE!"},0,{"$error":"#VALUE!"},0,0,{"$error":"#VALUE!"},{"$error":"#VALUE!"},{"$error":"#VALUE!"},{"$error":"#VALUE!"},{"$error":"#VALUE!"},{"$error":"#VALUE!"},{"$error":"#VALUE!"},{"$error":"#VALUE!"},{"$error":"#VALUE!"}]
[null,234,"Jun",null,null,null,null,6.1090583626592769,{"$f":"'Site&Soil'!$F$173*EXP('Site&Soil'!$F$174*H242)","v":0},0.69468750000000001,0.77880078307140521,5.8122620886652369E-3,0,0,4791.210705489083,0.19592828000984924,2.7847772342321224E-3,3.9167834787227256E-4,3.4448566965144035E-3,6.1125032193557916,0.1476233301962262,4.7106907797752349E-3,-6.7810213653984484E-3,null,null,5.6453442375149336,{"$f":"'Site&Soil'!$G$173*EXP('Site&Soil'!$G$174*Z242)","v":0},0.79087499999999999,0.85214378896621112,1.9013264029952848E-2,0,0,5.8701249569918707E-6,2.4004861338046824E-10,1.1161023569610205E-11,1.2720749393837943E-12,4.9524685666030809E-4,5.645839484371594,0.5107783022023844,6.0895444860186894E-3,-1.7434533981267009E-3,null,null,5.4920668471919827,{"$f":"'Site&Soil'!$H$173*EXP('Site&Soil'!$H$174*AR242)","v":0},0.72675000000000001,0.92161044729772479,2.9389698769910322E-2,0,0,3.8042714859966375E-7,1.5556910659092958E-11,1.1180639301240028E-12,1.2278465230646716E-13,3.1198544440334784E-12,5.4920668471951029,0.57563458119904087,5.2090810241888228E-3,1.2115080314136452E-3,null,null,null,null,null,null,null,null,null,null,null,null,null,null,null,null,null,null,null,null,null,null,{"$error":"#VALUE!"},{"$f":"'Site&Soil'!$F$173*EXP('Site&Soil'!$F$174*CD242)","v":{"$error":"#VALUE!"}},{"$error":"#VALUE!"},0,{"$error":"#VALUE!"},0,0,{"$error":"#VALUE!"},{"$error":"#VALUE!"},{"$error":"#VALUE!"},{"$error":"#VALUE!"},{"$error":"#VALUE!"},{"$error":"#VALUE!"},{"$error":"#VALUE!"},{"$error":"#VALUE!"},{"$error":"#VALUE!"},null,null,{"$error":"#VALUE!"},{"$f":"'Site&Soil'!$G$173*EXP('Site&Soil'!$G$174*CV242)","v":{"$error":"#VALUE!"}},{"$error":"#VALUE!"},0,{"$error":"#VALUE!"},0,0,{"$error":"#VALUE!"},{"$error":"#VALUE!"},{"$error":"#VALUE!"},{"$error":"#VALUE!"},{"$error":"#VALUE!"},{"$error":"#VALUE!"},{"$error":"#VALUE!"},{"$error":"#VALUE!"},{"$error":"#VALUE!"},null,null,{"$error":"#VALUE!"},{"$f":"'Site&Soil'!$H$173*EXP('Site&Soil'!$H$174*DN242)","v":{"$error":"#VALUE!"}},{"$error":"#VALUE!"},0,{"$error":"#VALUE!"},0,0,{"$error":"#VALUE!"},{"$error":"#VALUE!"},{"$error":"#VALUE!"},{"$error":"#VALUE!"},{"$error":"#VALUE!"},{"$error":"#VALUE!"},{"$error":"#VALUE!"},{"$error":"#VALUE!"},{"$error":"#VALUE!"}]
[null,235,"Jul",null,null,null,null,6.1057221979903931,{"$f":"'Site&Soil'!$F$173*EXP('Site&Soil'!$F$174*H243)","v":0},0.69468750000000001,0.93941306281347592,7.0672811018029176E-3,0,0,4723.1120395058751,0.19314350277561712,3.337956045849771E-3,4.6844450512744697E-4,4.1306508908283569E-3,6.1098528488812214,0.14578215095717323,5.5771689076925318E-3,-8.0283133174161494E-3,null,null,5.6440960309734676,{"$f":"'Site&Soil'!$G$173*EXP('Site&Soil'!$G$174*Z243)","v":0},0.79087499999999999,0.96078943915232284,2.1499971703807387E-2,0,0,5.5971943948073606E-6,2.2888758981085803E-10,1.2033952110906759E-11,1.3710841087709731E-12,5.9231170006678047E-4,5.6446883426735344,0.50986789301193147,6.8355620218187932E-3,-1.5911403371281952E-3,null,null,5.4932783552265168,{"$f":"'Site&Soil'!$H$173*EXP('Site&Soil'!$H$174*AR243)","v":0},0.72675000000000001,0.97979867385370423,3.115738883101906E-2,0,0,3.5308612426585121E-7,1.4438846728968956E-11,1.1001241664588641E-12,1.2084470120411154E-13,3.2340744052641563E-12,5.4932783552297506,0.57651504466322112,5.5619342119894964E-3,1.7524978463423417E-3,null,null,null,null,null,null,null,null,null,null,null,null,null,null,null,null,null,null,null,null,null,null,{"$error":"#VALUE!"},{"$f":"'Site&Soil'!$F$173*EXP('Site&Soil'!$F$174*CD243)","v":{"$error":"#VALUE!"}},{"$error":"#VALUE!"},0,{"$error":"#VALUE!"},0,0,{"$error":"#VALUE!"},{"$error":"#VALUE!"},{"$error":"#VALUE!"},{"$error":"#VALUE!"},{"$error":"#VALUE!"},{"$error":"#VALUE!"},{"$error":"#VALUE!"},{"$error":"#VALUE!"},{"$error":"#VALUE!"},null,null,{"$error":"#VALUE!"},{"$f":"'Site&Soil'!$G$173*EXP('Site&Soil'!$G$174*CV243)","v":{"$error":"#VALUE!"}},{"$error":"#VALUE!"},0,{"$error":"#VALUE!"},0,0,{"$error":"#VALUE!"},{"$error":"#VALUE!"},{"$error":"#VALUE!"},{"$error":"#VALUE!"},{"$error":"#VALUE!"},{"$error":"#VALUE!"},{"$error":"#VALUE!"},{"$error":"#VALUE!"},{"$error":"#VALUE!"},null,null,{"$error":"#VALUE!"},{"$f":"'Site&Soil'!$H$173*EXP('Site&Soil'!$H$174*DN243)","v":{"$error":"#VALUE!"}},{"$error":"#VALUE!"},0,{"$error":"#VALUE!"},0,0,{"$error":"#VALUE!"},{"$error":"#VALUE!"},{"$error":"#VALUE!"},{"$error":"#VALUE!"},{"$error":"#VALUE!"},{"$error":"#VALUE!"},{"$error":"#VALUE!"},{"$error":"#VALUE!"},{"$error":"#VALUE!"}]
[null,236,"Aug",null,null,null,null,6.1018245355638054,{"$f":"'Site&Soil'!$F$173*EXP('Site&Soil'!$F$174*H244)","v":0},0.69468750000000001,1,7.5937536733815276E-3,0,0,4641.485993788925,0.18980554672976735,3.5246301315283563E-3,4.9337180302398091E-4,4.3634847733756187E-3,6.1061880203371812,0.14323624037798532,5.7841684678682694E-3,-8.3262883927928306E-3,null,null,5.6430972023364063,{"$f":"'Site&Soil'!$G$173*EXP('Site&Soil'!$G$174*Z244)","v":0},0.79087499999999999,1,2.2429655064631477E-2,0,0,5.3029173247477406E-6,2.1685363769995127E-10,1.1894260643035016E-11,1.354787659611682E-12,6.2383033167498513E-4,5.6437210326680809,0.50910287171136848,7.0880468499468106E-3,-1.6486529250242341E-3,null,null,5.4950308530760932,{"$f":"'Site&Soil'!$H$173*EXP('Site&Soil'!$H$174*AR244)","v":0},0.72675000000000001,1,3.1670450857894009E-2,0,0,3.2618379713145283E-7,1.3338722562510092E-11,1.0330387917692945E-12,1.1351674163667038E-13,3.1294251252071634E-12,5.4950308530792222,0.57778867247532462,5.7121535898209752E-3,1.8932139802213077E-3,null,null,null,null,null,null,null,null,null,null,null,null,null,null,null,null,null,null,null,null,null,null,{"$error":"#VALUE!"},{"$f":"'Site&Soil'!$F$173*EXP('Site&Soil'!$F$174*CD244)","v":{"$error":"#VALUE!"}},{"$error":"#VALUE!"},0,{"$error":"#VALUE!"},0,0,{"$error":"#VALUE!"},{"$error":"#VALUE!"},{"$error":"#VALUE!"},{"$error":"#VALUE!"},{"$error":"#VALUE!"},{"$error":"#VALUE!"},{"$error":"#VALUE!"},{"$error":"#VALUE!"},{"$error":"#VALUE!"},null,null,{"$error":"#VALUE!"},{"$f":"'Site&Soil'!$G$173*EXP('Site&Soil'!$G$174*CV244)","v":{"$error":"#VALUE!"}},{"$error":"#VALUE!"},0,{"$error":"#VALUE!"},0,0,{"$error":"#VALUE!"},{"$error":"#VALUE!"},{"$error":"#VALUE!"},{"$error":"#VALUE!"},{"$error":"#VALUE!"},{"$error":"#VALUE!"},{"$error":"#VALUE!"},{"$error":"#VALUE!"},{"$error":"#VALUE!"},null,null,{"$error":"#VALUE!"},{"$f":"'Site&Soil'!$H$173*EXP('Site&Soil'!$H$174*DN244)","v":{"$error":"#VALUE!"}},{"$error":"#VALUE!"},0,{"$error":"#VALUE!"},0,0,{"$error":"#VALUE!"},{"$error":"#VALUE!"},{"$error":"#VALUE!"},{"$error":"#VALUE!"},{"$error":"#VALUE!"},{"$error":"#VALUE!"},{"$error":"#VALUE!"},{"$error":"#VALUE!"},{"$error":"#VALUE!"}]
[null,237,"Sep",null,null,null,null,6.0978617319443886,{"$f":"'Site&Soil'!$F$173*EXP('Site&Soil'!$F$174*H245)","v":0},0.69468750000000001,0.93941306281347592,7.201784898201038E-3,0,0,4555.2950385158056,0.186280916598239,3.2806255015233247E-3,4.580251493443569E-4,4.0631224142927119E-3,6.101924854358681,0.14027467226229598,5.2693944772587821E-3,-7.5852732016320748E-3,null,null,5.6420723797430563,{"$f":"'Site&Soil'!$G$173*EXP('Site&Soil'!$G$174*Z245)","v":0},0.79087499999999999,0.96078943915232284,2.1601806397719869E-2,0,0,5.0120562559733807E-6,2.0495937705691626E-10,1.0826946889601766E-11,1.2328630310887868E-12,5.7913723273392216E-4,5.64265151697579,0.50825701848822791,6.7820833399585946E-3,-1.9126775567565198E-3,null,null,5.4969240670594433,{"$f":"'Site&Soil'!$H$173*EXP('Site&Soil'!$H$174*AR245)","v":0},0.72675000000000001,0.97979867385370423,3.0894340871142793E-2,0,0,3.0092196908875404E-7,1.2305683770740798E-11,9.296785888643463E-13,1.0219903201277631E-13,2.8350087209361636E-12,5.4969240670622783,0.57916456573751063,5.6345974904699978E-3,1.5789278974731294E-3,null,null,null,null,null,null,null,null,null,null,null,null,null,null,null,null,null,null,null,null,null,null,{"$error":"#VALUE!"},{"$f":"'Site&Soil'!$F$173*EXP('Site&Soil'!$F$174*CD245)","v":{"$error":"#VALUE!"}},{"$error":"#VALUE!"},0,{"$error":"#VALUE!"},0,0,{"$error":"#VALUE!"},{"$error":"#VALUE!"},{"$error":"#VALUE!"},{"$error":"#VALUE!"},{"$error":"#VALUE!"},{"$error":"#VALUE!"},{"$error":"#VALUE!"},{"$error":"#VALUE!"},{"$error":"#VALUE!"},null,null,{"$error":"#VALUE!"},{"$f":"'Site&Soil'!$G$173*EXP('Site&Soil'!$G$174*CV245)","v":{"$error":"#VALUE!"}},{"$error":"#VALUE!"},0,{"$error":"#VALUE!"},0,0,{"$error":"#VALUE!"},{"$error":"#VALUE!"},{"$error":"#VALUE!"},{"$error":"#VALUE!"},{"$error":"#VALUE!"},{"$error":"#VALUE!"},{"$error":"#VALUE!"},{"$error":"#VALUE!"},{"$error":"#VALUE!"},null,null,{"$error":"#VALUE!"},{"$f":"'Site&Soil'!$H$173*EXP('Site&Soil'!$H$174*DN245)","v":{"$error":"#VALUE!"}},{"$error":"#VALUE!"},0,{"$error":"#VALUE!"},0,0,{"$error":"#VALUE!"},{"$error":"#VALUE!"},{"$error":"#VALUE!"},{"$error":"#VALUE!"},{"$error":"#VALUE!"},{"$error":"#VALUE!"},{"$error":"#VALUE!"},{"$error":"#VALUE!"},{"$error":"#VALUE!"}]
[null,238,"Oct",null,null,null,null,6.0943395811570493,{"$f":"'Site&Soil'!$F$173*EXP('Site&Soil'!$F$174*H246)","v":0},0.69468750000000001,0.77880078307140521,6.0211126944712309E-3,0,0,4475.0709482374195,0.18300029109671567,2.6944906495091738E-3,3.7532963284568394E-4,3.338423415799895E-3,6.0976780045728489,0.13732443880170073,4.234988320837854E-3,-6.0962494946833704E-3,0.02,null,5.6407388394190336,{"$f":"'Site&Soil'!$G$173*EXP('Site&Soil'!$G$174*Z246)","v":0},0.79087499999999999,0.85214378896621112,1.9218832377612519E-2,0,0,4.7472951717510622E-6,1.9413243016731449E-10,9.1237470152932913E-12,1.0385319109815453E-12,4.745751742448542E-4,5.6412134145932784,0.50711965926645908,5.9818668855537395E-3,-2.2087922424098442E-3,0.02,null,5.4985029949597513,{"$f":"'Site&Soil'!$H$173*EXP('Site&Soil'!$H$174*AR246)","v":0},0.72675000000000001,0.92161044729772479,2.8953074233393824E-2,0,0,2.7818770118517766E-7,1.1376005181876452E-11,8.0543891632316278E-13,8.8570565260101565E-14,2.4154114372818801E-12,5.4985029949621671,0.58031205158875476,5.3298130275665238E-3,8.9721893083896198E-4,0.02,null,{"$f":"BJ234+1","v":20},{"$f":"AVERAGE(H241:H246)","v":6.1033916434741826},{"$f":"AVERAGE(Z241:Z246)","v":5.6437102587817494},{"$f":"AVERAGE(AR241:AR246)","v":5.4945723155893385},null,null,null,null,null,null,null,null,null,null,null,null,null,null,null,null,{"$error":"#VALUE!"},{"$f":"'Site&Soil'!$F$173*EXP('Site&Soil'!$F$174*CD246)","v":{"$error":"#VALUE!"}},{"$error":"#VALUE!"},0,{"$error":"#VALUE!"},0,0,{"$error":"#VALUE!"},{"$error":"#VALUE!"},{"$error":"#VALUE!"},{"$error":"#VALUE!"},{"$error":"#VALUE!"},{"$error":"#VALUE!"},{"$error":"#VALUE!"},{"$error":"#VALUE!"},{"$error":"#VALUE!"},{"$error":"#VALUE!"},null,{"$error":"#VALUE!"},{"$f":"'Site&Soil'!$G$173*EXP('Site&Soil'!$G$174*CV246)","v":{"$error":"#VALUE!"}},{"$error":"#VALUE!"},0,{"$error":"#VALUE!"},0,0,{"$error":"#VALUE!"},{"$error":"#VALUE!"},{"$error":"#VALUE!"},{"$error":"#VALUE!"},{"$error":"#VALUE!"},{"$error":"#VALUE!"},{"$error":"#VALUE!"},{"$error":"#VALUE!"},{"$error":"#VALUE!"},{"$error":"#VALUE!"},null,{"$error":"#VALUE!"},{"$f":"'Site&Soil'!$H$173*EXP('Site&Soil'!$H$174*DN246)","v":{"$error":"#VALUE!"}},{"$error":"#VALUE!"},0,{"$error":"#VALUE!"},0,0,{"$error":"#VALUE!"},{"$error":"#VALUE!"},{"$error":"#VALUE!"},{"$error":"#VALUE!"},{"$error":"#VALUE!"},{"$error":"#VALUE!"},{"$error":"#VALUE!"},{"$error":"#VALUE!"},{"$error":"#VALUE!"},{"$error":"#VALUE!"},null,{"$f":"EF234+1","v":20},{"$f":"AVERAGE(CD241:CD246)","v":{"$error":"#VALUE!"}},{"$f":"AVERAGE(CV241:CV246)","v":{"$error":"#VALUE!"}},{"$f":"AVERAGE(DN241:DN246)","v":{"$error":"#VALUE!"}}]
[null,239,"Nov",null,null,null,null,6.1115817550781655,{"$f":"'Site&Soil'!$F$173*EXP('Site&Soil'!$F$174*H247)","v":0},0.69468750000000001,0.56978282473092301,4.22666205741936E-3,0,0,4409.1801414324009,0.18030580044720651,1.8636114408119256E-3,2.6255801253320719E-4,2.304710288120512E-3,6.1138864653662859,0.14858425390914148,3.4799147685759869E-3,-5.0093240033482495E-3,null,null,5.6590046223508681,{"$f":"'Site&Soil'!$G$173*EXP('Site&Soil'!$G$174*Z247)","v":0},0.79087499999999999,0.69767632607103081,1.5077893456417088E-2,0,0,4.5241839681430394E-6,1.850086831520212E-10,6.8215163848891035E-12,7.8052682051871227E-13,3.3198421820666569E-4,5.6593366065690747,0.52145283872031689,5.2505600416591983E-3,-2.2388433988724025E-3,null,null,5.5194002138930056,{"$f":"'Site&Soil'!$H$173*EXP('Site&Soil'!$H$174*AR247)","v":0},0.72675000000000001,0.83220750069030147,2.4903830723378637E-2,0,0,2.5849157789806937E-7,1.0570566265553289E-11,6.4374304993925623E-13,7.1105819208138932E-14,1.8619388390090535E-12,5.5194002138948672,0.59549910544809459,5.1821854795747078E-3,9.4082644767100725E-5,null,null,null,null,null,null,null,null,null,null,null,null,null,null,null,null,null,null,null,null,null,null,{"$error":"#VALUE!"},{"$f":"'Site&Soil'!$F$173*EXP('Site&Soil'!$F$174*CD247)","v":{"$error":"#VALUE!"}},{"$error":"#VALUE!"},0,{"$error":"#VALUE!"},0,0,{"$error":"#VALUE!"},{"$error":"#VALUE!"},{"$error":"#VALUE!"},{"$error":"#VALUE!"},{"$error":"#VALUE!"},{"$error":"#VALUE!"},{"$error":"#VALUE!"},{"$error":"#VALUE!"},{"$error":"#VALUE!"},null,null,{"$error":"#VALUE!"},{"$f":"'Site&Soil'!$G$173*EXP('Site&Soil'!$G$174*CV247)","v":{"$error":"#VALUE!"}},{"$error":"#VALUE!"},0,{"$error":"#VALUE!"},0,0,{"$error":"#VALUE!"},{"$error":"#VALUE!"},{"$error":"#VALUE!"},{"$error":"#VALUE!"},{"$error":"#VALUE!"},{"$error":"#VALUE!"},{"$error":"#VALUE!"},{"$error":"#VALUE!"},{"$error":"#VALUE!"},null,null,{"$error":"#VALUE!"},{"$f":"'Site&Soil'!$H$173*EXP('Site&Soil'!$H$174*DN247)","v":{"$error":"#VALUE!"}},{"$error":"#VALUE!"},0,{"$error":"#VALUE!"},0,0,{"$error":"#VALUE!"},{"$error":"#VALUE!"},{"$error":"#VALUE!"},{"$error":"#VALUE!"},{"$error":"#VALUE!"},{"$error":"#VALUE!"},{"$error":"#VALUE!"},{"$error":"#VALUE!"},{"$error":"#VALUE!"}]
[null,240,"Dec",null,null,null,null,6.1088771413629379,{"$f":"'Site&Soil'!$F$173*EXP('Site&Soil'!$F$174*H248)","v":0},0.69468750000000001,0.36787944117144233,2.7467126419171762E-3,0,0,4363.6075722982196,0.17844218900639458,1.1985576083197039E-3,1.6855655624712184E-4,1.4826825760828892E-3,6.1103598239390209,0.14613434019263832,2.1918842957843608E-3,-3.1552090627575144E-3,null,null,5.657097763170202,{"$f":"'Site&Soil'!$G$173*EXP('Site&Soil'!$G$174*Z248)","v":0},0.79087499999999999,0.52729242404304844,1.1446505311709897E-2,0,0,4.3573712837806452E-6,1.7818716676713209E-10,4.9876673544887323E-12,5.7038029226492778E-13,2.1312667698992745E-4,5.6573108898471922,0.51985075000789815,3.9376861337646488E-3,-2.2074308050959862E-3,null,null,5.5194942965396345,{"$f":"'Site&Soil'!$H$173*EXP('Site&Soil'!$H$174*AR248)","v":0},0.72675000000000001,0.72142229035475613,2.158385475831719E-2,0,0,2.427495492726044E-7,9.9268232156140322E-12,5.2394710141468559E-13,5.7874725032780274E-14,1.4261474628783395E-12,5.5194942965410609,0.59556748001121596,4.4938112719292607E-3,-7.6522206833795929E-4,null,null,null,null,null,null,null,null,null,null,null,null,null,null,null,null,null,null,null,null,null,null,{"$error":"#VALUE!"},{"$f":"'Site&Soil'!$F$173*EXP('Site&Soil'!$F$174*CD248)","v":{"$error":"#VALUE!"}},{"$error":"#VALUE!"},0,{"$error":"#VALUE!"},0,0,{"$error":"#VALUE!"},{"$error":"#VALUE!"},{"$error":"#VALUE!"},{"$error":"#VALUE!"},{"$error":"#VALUE!"},{"$error":"#VALUE!"},{"$error":"#VALUE!"},{"$error":"#VALUE!"},{"$error":"#VALUE!"},null,null,{"$error":"#VALUE!"},{"$f":"'Site&Soil'!$G$173*EXP('Site&Soil'!$G$174*CV248)","v":{"$error":"#VALUE!"}},{"$error":"#VALUE!"},0,{"$error":"#VALUE!"},0,0,{"$error":"#VALUE!"},{"$error":"#VALUE!"},{"$error":"#VALUE!"},{"$error":"#VALUE!"},{"$error":"#VALUE!"},{"$error":"#VALUE!"},{"$error":"#VALUE!"},{"$error":"#VALUE!"},{"$error":"#VALUE!"},null,null,{"$error":"#VALUE!"},{"$f":"'Site&Soil'!$H$173*EXP('Site&Soil'!$H$174*DN248)","v":{"$error":"#VALUE!"}},{"$error":"#VALUE!"},0,{"$error":"#VALUE!"},0,0,{"$error":"#VALUE!"},{"$error":"#VALUE!"},{"$error":"#VALUE!"},{"$error":"#VALUE!"},{"$error":"#VALUE!"},{"$error":"#VALUE!"},{"$error":"#VALUE!"},{"$error":"#VALUE!"},{"$error":"#VALUE!"}]
[]
[]
[]
[null,null,null,null,null,null,null,null,null,null,null,"Mass balance of lime over 20 years (t CaCO3 equiv/ha)",null,null,null,null,null,null,null,null,null,null,null,null,null,null,null,null,null,null,null,null,null,null,null,null,null,null,null,null,null,null,null,null,null,null,null,null,null,null,null,null,null,null,null,null,null,null,null,null,null,null,null,null,null,null,null,null,null,null,null,null,null,null,null,null,null,null,null,null,null,null,null,null,null,"Mass balance of lime over 20 years (t CaCO3 equiv/ha)"]
[null,null,null,null,null,null,null,null,null,null,null,null,"0-10 cm","10-20 cm","20-30 cm",null,null,null,null,null,null,null,null,null,null,null,null,null,null,null,null,null,null,null,null,null,null,null,null,null,null,null,null,null,null,null,null,null,null,null,null,null,null,null,null,null,null,null,null,null,null,null,null,null,null,null,null,null,null,null,null,null,null,null,null,null,null,null,null,null,null,null,null,null,null,null,"0-10 cm","10-20 cm","20-30 cm"]
[null,null,null,null,null,null,null,null,null,null,null,"CaCO3 applied",{"$f":"SUM(M9:M248)","v":1.7860000000000003},{"$f":"SUM(AE9:AE248)","v":0.44650000000000006},{"$f":"SUM(AW9:AW248)","v":0.44650000000000006},null,null,null,null,null,null,null,null,null,null,null,null,null,null,null,null,null,null,null,null,null,null,null,null,null,null,null,null,null,null,null,null,null,null,null,null,null,null,null,null,null,null,null,null,null,null,null,null,null,null,null,null,null,null,null,null,null,null,null,null,null,null,null,null,null,null,null,null,null,null,"CaCO3 applied",{"$f":"SUM(CI9:CI248)","v":0},{"$f":"SUM(DA9:DA248)","v":0},{"$f":"SUM(DS9:DS248)","v":0}]
[null,null,null,null,null,null,null,null,null,null,null,"CaCO3 leached in",null,{"$f":"M259","v":1.2649493010215243},{"$f":"N259","v":0.49128117937714899},null,null,null,null,null,null,null,null,null,null,null,null,null,null,null,null,null,null,null,null,null,null,null,null,null,null,null,null,null,null,null,null,null,null,null,null,null,null,null,null,null,null,null,null,null,null,null,null,null,null,null,null,null,null,null,null,null,null,null,null,null,null,null,null,null,null,null,null,null,null,"CaCO3 leached in",null,{"$f":"CI259","v":{"$error":"#VALUE!"}},{"$f":"CJ259","v":{"$error":"#VALUE!"}}]
[null,null,null,null,null,null,null,null,null,null,null,"Total available",{"$f":"SUM(M254:M255)","v":1.7860000000000003},{"$f":"SUM(N254:N255)","v":1.7114493010215244},{"$f":"SUM(O254:O255)","v":0.93778117937714911},null,null,null,null,null,null,null,null,null,null,null,null,null,null,null,null,null,null,null,null,null,null,null,null,null,null,null,null,null,null,null,null,null,null,null,null,null,null,null,null,null,null,null,null,null,null,null,null,null,null,null,null,null,null,null,null,null,null,null,null,null,null,null,null,null,null,null,null,null,null,"Total available",{"$f":"SUM(CI254:CI255)","v":0},{"$f":"SUM(CJ254:CJ255)","v":{"$error":"#VALUE!"}},{"$f":"SUM(CK254:CK255)","v":{"$error":"#VALUE!"}}]
[]
[null,null,null,null,null,null,null,null,null,null,null,"CaCO3 consumed",{"$f":"SUM(Q9:Q248)-SUM(R9:R248)-SUM(V9:V248)","v":0.34380706758040169},{"$f":"N256-SUM(N259:N260)","v":1.2201681214711759},{"$f":"O256-SUM(O259:O260)","v":0.3333813548730562},null,null,null,null,null,null,null,null,null,null,null,null,null,null,null,null,null,null,null,null,null,null,null,null,null,null,null,null,null,null,null,null,null,null,null,null,null,null,null,null,null,null,null,null,null,null,null,null,null,null,null,null,null,null,null,null,null,null,null,null,null,null,null,null,null,null,null,null,null,null,"CaCO3 consumed",{"$f":"SUM(CM9:CM248)-SUM(CN9:CN248)-SUM(CR9:CR248)","v":{"$error":"#VALUE!"}},{"$f":"CJ256-SUM(CJ259:CJ260)","v":{"$error":"#VALUE!"}},{"$f":"CK256-SUM(CK259:CK260)","v":{"$error":"#VALUE!"}}]
[null,null,null,null,null,null,null,null,null,null,null,"CaCO3 leached out",{"$f":"SUM(R9:R248)+SUM(V9:V248)","v":1.2649493010215243},{"$f":"SUM(AJ9:AJ248)+SUM(AN9:AN248)","v":0.49128117937714899},{"$f":"SUM(BB9:BB248)+SUM(BF9:BF248)","v":0.60439982449468999},null,null,null,null,null,null,null,null,null,null,null,null,null,null,null,null,null,null,null,null,null,null,null,null,null,null,null,null,null,null,null,null,null,null,null,null,null,null,null,null,null,null,null,null,null,null,null,null,null,null,null,null,null,null,null,null,null,null,null,null,null,null,null,null,null,null,null,null,null,null,"CaCO3 leached out",{"$f":"SUM(CN9:CN248)+SUM(CR9:CR248)","v":{"$error":"#VALUE!"}},{"$f":"SUM(DF9:DF248)+SUM(DJ9:DJ248)","v":{"$error":"#VALUE!"}},{"$f":"SUM(DX9:DX248)+SUM(EB9:EB248)","v":{"$error":"#VALUE!"}}]
[null,null,null,null,null,null,null,null,null,null,null,"CaCO3 undissolved",{"$f":"P248-Q248","v":0.17724363139807486},{"$f":"AH248-AI248","v":1.7319949941264337E-10},{"$f":"AZ248-BA248","v":9.4028761141993474E-12},null,null,null,null,null,null,null,null,null,null,null,null,null,null,null,null,null,null,null,null,null,null,null,null,null,null,null,null,null,null,null,null,null,null,null,null,null,null,null,null,null,null,null,null,null,null,null,null,null,null,null,null,null,null,null,null,null,null,null,null,null,null,null,null,null,null,null,null,null,null,"CaCO3 undissolved",{"$f":"CL248-CM248","v":{"$error":"#VALUE!"}},{"$f":"DD248-DE248","v":{"$error":"#VALUE!"}},{"$f":"DV248-DW248","v":{"$error":"#VALUE!"}}]
[null,null,null,null,null,null,null,null,null,null,null,"Total accounted for",{"$f":"SUM(M258:M260)","v":1.7860000000000009},{"$f":"SUM(N258:N260)","v":1.7114493010215244},{"$f":"SUM(O258:O260)","v":0.93778117937714911},null,null,null,null,null,null,null,null,null,null,null,null,null,null,null,null,null,null,null,null,null,null,null,null,null,null,null,null,null,null,null,null,null,null,null,null,null,null,null,null,null,null,null,null,null,null,null,null,null,null,null,null,null,null,null,null,null,null,null,null,null,null,null,null,null,null,null,null,null,null,"Total accounted for",{"$f":"SUM(CI258:CI260)","v":{"$error":"#VALUE!"}},{"$f":"SUM(CJ258:CJ260)","v":{"$error":"#VALUE!"}},{"$f":"SUM(CK258:CK260)","v":{"$error":"#VALUE!"}}]

{"sheet":"Apply_Lime","index":14,"n_rows":204,"n_cols":11,"rows_kept":204,"cut":false,"hidden":true,"merged":[]}
[]
[]
[]
[]
[]
[]
[]
[]
[]
[]
[]
[]
[]
[]
[null,null,null,null,null,null,"Lime applications"]
[null,null,null,null,null,null,"Year","Topdress","Deep band"]
[null,null,null,null,null,null,2012,{"$f":"'Profit Calculator'!F26","v":2},{"$f":"'Profit Calculator'!F$27","v":1}]
[null,null,null,null,null,null,{"$f":"G17+1","v":2013},{"$f":"'Profit Calculator'!G26","v":0},{"$f":"'Profit Calculator'!G$27","v":0}]
[null,null,null,null,null,null,2014,{"$f":"'Profit Calculator'!H26","v":0},{"$f":"'Profit Calculator'!H$27","v":0}]
[null,null,null,null,null,null,2015,{"$f":"'Profit Calculator'!I26","v":0},{"$f":"'Profit Calculator'!I$27","v":0}]
[null,null,null,null,null,null,2016,{"$f":"'Profit Calculator'!J26","v":0},{"$f":"'Profit Calculator'!J$27","v":0}]
[null,null,null,null,null,null,2017,{"$f":"'Profit Calculator'!K26","v":0},{"$f":"'Profit Calculator'!K$27","v":0}]
[null,null,null,null,null,null,2018,{"$f":"'Profit Calculator'!L26","v":0},{"$f":"'Profit Calculator'!L27","v":0}]
[null,null,null,null,null,null,2019,{"$f":"'Profit Calculator'!M26","v":0},{"$f":"'Profit Calculator'!M$27","v":0}]
[null,null,null,null,null,null,2020,{"$f":"'Profit Calculator'!N26","v":0},{"$f":"'Profit Calculator'!N$27","v":0}]
[null,null,null,null,null,null,2021,{"$f":"'Profit Calculator'!O26","v":0},{"$f":"'Profit Calculator'!O$27","v":0}]
[null,null,null,null,null,null,2022]
[null,null,null,null,null,null,2023]
[null,null,null,null,null,null,2024]
[null,null,null,null,null,null,2025]
[null,null,null,null,null,null,2026]
[null,null,null,null,null,null,2027]
[null,null,null,null,null,null,2028]
[null,null,null,null,null,null,2029]
[null,null,null,null,null,null,2030]
[null,null,"Deep lime placement",null,null,null,2031]
[null,null,null,1,{"$f":"VLOOKUP(D37,$C$157:$E$161,3,FALSE)","v":1},null,"Total lime (t/ha)",{"$f":"SUM(H17:H36)","v":2},{"$f":"SUM(I17:I36)","v":1}]
[null,null,null,null,null,null,"CaCO3 equiv (t/ha)",{"$f":"H37*Lime_NV_A","v":1.7860000000000003},{"$f":"I37*Lime_NV_A","v":0.89300000000000013}]
[]
[]
[]
[]
[]
[null,null,null,null,null,null,null,null,null,null,1]
[]
[]
[]
[]
[]
[]
[]
[]
[]
[]
[]
[]
[]
[]
[]
[]
[null,null,"Mass balance of CaCO3 over 20 years (t/ha)"]
[null,null,null,null,"0-10 cm","10-20 cm","20-30 cm"]
[null,null,"CaCO3 applied",null,0,0.25449304494995528,0]
[null,null,"CaCO3 leached in",null,null,0.25449304494995528,0]
[null,null,"Total available",null,0,0,0]
[]
[null,null,"CaCO3 consumed",null,0.25449304494995528,0,0]
[null,null,"CaCO3 leached out",null,3.2970030413549552E-3,0,0]
[null,null,"CaCO3 undissolved",null,1.7499999999999996,0.25449304494995528,0]
[null,null,"Total accounted for",null,0,0,0]
[]
[]
[]
[]
[]
[]
[]
[]
[]
[]
[]
[]
[]
[]
[]
[]
[]
[]
[]
[]
[]
[]
[]
[]
[]
[]
[]
[]
[]
[]
[]
[]
[]
[]
[]
[]
[]
[]
[]
[]
[]
[]
[]
[]
[]
[]
[]
[]
[]
[]
[]
[]
[]
[]
[]
[]
[]
[]
[]
[]
[]
[]
[]
[]
[]
[]
[]
[]
[]
[]
[]
[]
[]
[]
[]
[]
[]
[]
[]
[]
[]
[]
[]
[]
[]
[null,null,"List for deep lime placement dropdown box"]
[null,null,1,"Band into 10-20 cm horizon",1]
[null,null,2,"Band into 20-30 cm horizon",0]
[null,null,3,"50:50 split, 10-20cm:20-30cm",0.5]
[null,null,4,"70:30 split, 10-20cm:20-30cm",0.7]
[null,null,5,"30:70 split, 10-20cm:20-30cm",0.3]
[]
[]
[null,null,"Lime product characteristics for default options"]
[null,null,"Typical west coast limesand",null,null,null,"Typical south-west crushed limestone"]
[null,null,"Sieve (mm)","% Weight","% NV",null,"Sieve (mm)","% Weight","% NV"]
[null,null,"0.000 - 0.125",0.05,0.9,null,"0.000 - 0.125",0.1,0.8]
[null,null,"0.125 - 0.250",0.6,0.9,null,"0.125 - 0.250",0.3,0.8]
[null,null,"0.250 - 0.500",0.3,0.9,null,"0.250 - 0.500",0.45,0.8]
[null,null,"0.500 - 1.000",0.04,0.8,null,"0.500 - 1.000",0.1,0.8]
[null,null,"> 1.000",{"$f":"1-SUM(D167:D170)","v":1.0000000000000009E-2},0.6,null,"> 1.000",{"$f":"1-SUM(H167:H170)","v":4.9999999999999933E-2},0.8]
[null,null,null,{"$f":"SUM(D167:D171)","v":1},{"$f":"SUMPRODUCT(D167:D171,E167:E171)","v":0.89300000000000013},null,null,{"$f":"SUM(H167:H171)","v":1},{"$f":"SUMPRODUCT(H167:H171,I167:I171)","v":0.79999999999999993}]
[]
[null,null,"Typical south coast limesand",null,null,null,"Typical inland dolomite"]
[null,null,"Sieve (mm)","% Weight","% NV",null,"Sieve (mm)","% Weight","% NV"]
[null,null,"0.000 - 0.125",0.05,0.75,null,"0.000 - 0.125",0.1,0.7]
[null,null,"0.125 - 0.250",0.35,0.75,null,"0.125 - 0.250",0.15,0.7]
[null,null,"0.250 - 0.500",0.5,0.75,null,"0.250 - 0.500",0.2,0.7]
[null,null,"0.500 - 1.000",0.08,0.75,null,"0.500 - 1.000",0.25,0.7]
[null,null,"> 1.000",{"$f":"1-SUM(D176:D179)","v":2.0000000000000129E-2},0.75,null,"> 1.000",{"$f":"1-SUM(H176:H179)","v":0.30000000000000004},0.7]
[null,null,null,{"$f":"SUM(D176:D180)","v":1},{"$f":"SUMPRODUCT(D176:D180,E176:E180)","v":0.75},null,null,{"$f":"SUM(H176:H180)","v":1},{"$f":"SUMPRODUCT(H176:H180,I176:I180)","v":0.7}]
[]
[]
[null,null,"Lime density",1.2,"t/m3"]
[]
[]
[null,null,"Calculation of CaCO3 surface area for lime source A"]
[null,null,"Sieve (mm)","Particles / tonne","m2 of CaCO3 / tonne"]
[null,null,6.25E-2,{"$f":"'Lime and Amelioration Costs'!C19/((4/3)*PI()*(C189/2000)^3*Lime_BD)","v":325949323452.20172},{"$f":"4*PI()*(C189/2000)^2*'Lime and Amelioration Costs'!D19*D189","v":3600.0000000000005}]
[null,null,0.1875,{"$f":"'Lime and Amelioration Costs'!C20/((4/3)*PI()*(C190/2000)^3*Lime_BD)","v":144866365978.75632},{"$f":"4*PI()*(C190/2000)^2*'Lime and Amelioration Costs'!D20*D190","v":14400.000000000004}]
[null,null,0.375,{"$f":"'Lime and Amelioration Costs'!C21/((4/3)*PI()*(C191/2000)^3*Lime_BD)","v":9054147873.6722698},{"$f":"4*PI()*(C191/2000)^2*'Lime and Amelioration Costs'!D21*D191","v":3600.0000000000009}]
[null,null,0.75,{"$f":"'Lime and Amelioration Costs'!C22/((4/3)*PI()*(C192/2000)^3*Lime_BD)","v":150902464.56120449},{"$f":"4*PI()*(C192/2000)^2*'Lime and Amelioration Costs'!D22*D192","v":213.33333333333337}]
[null,null,1.25,{"$f":"'Lime and Amelioration Costs'!C23/((4/3)*PI()*(C193/2000)^3*Lime_BD)","v":8148733.0863050483},{"$f":"4*PI()*(C193/2000)^2*'Lime and Amelioration Costs'!D23*D193","v":24.000000000000018}]
[null,null,null,{"$f":"SUM(D189:D193)","v":480028888502.27777},{"$f":"SUM(E189:E193)","v":21837.333333333336}]
[]
[]
[null,null,"Calculation of CaCO3 surface area for lime source B"]
[null,null,null,"Particles / tonne","m2 of CaCO3 / tonne"]
[null,null,6.25E-2,{"$f":"H20/((4/3)*PI()*(C199/2000)^3*Lime_BD)","v":0},{"$f":"4*PI()*(C199/2000)^2*H21*D199","v":0}]
[null,null,0.1875,{"$f":"K18/((4/3)*PI()*(C200/2000)^3*Lime_BD)","v":0},{"$f":"4*PI()*(C200/2000)^2*L18*D200","v":0}]
[null,null,0.375,{"$f":"K19/((4/3)*PI()*(C201/2000)^3*Lime_BD)","v":0},{"$f":"4*PI()*(C201/2000)^2*L19*D201","v":0}]
[null,null,0.75,{"$f":"K20/((4/3)*PI()*(C202/2000)^3*Lime_BD)","v":0},{"$f":"4*PI()*(C202/2000)^2*L20*D202","v":0}]
[null,null,1.25,{"$f":"K21/((4/3)*PI()*(C203/2000)^3*Lime_BD)","v":0},{"$f":"4*PI()*(C203/2000)^2*L21*D203","v":0}]
[null,null,null,{"$f":"SUM(D199:D203)","v":0},{"$f":"SUM(E199:E203)","v":0}]